Workbook
Name _2009_10_1.HJ_13_PH: CSV!$A$1:$G$127
Name AnkerLeerspalten: Adressen!$B$19
Name BereichFehlstunden: Adressen!$B$25
Name BereichFehlstundenDatum: Adressen!$B$24
Name BereichKategorien: Adressen!$B$21
Name BereichKursbuch: Adressen!$B$27
Name BereichLeerspalten: Adressen!$B$20
Name BereichLeistungen: Adressen!$B$22
Name BereichLeistungenPunkte: Adressen!$B$23
Name BereichNotensystem: Adressen!$B$26
Name LeistungenPunkteEnde: Adressen!$B$11
Name LeistungenPunkteStart: Adressen!$B$10
Name ZeileAmt: Adressen!$B$2
Name ZeileFehlstundenEnde: Adressen!$B$15
Name ZeileFehlstundenStart: Adressen!$B$14
Name ZeileJahrgang: Adressen!$B$4
Name ZeileKursbezeichnung: Adressen!$B$5
Name ZeileKursbuchEnde: Adressen!$B$17
Name ZeileKursbuchStart: Adressen!$B$16
Name ZeileLeerspaltenEnde: Adressen!$B$9
Name ZeileLeerspaltenStart: Adressen!$B$8
Name ZeileLehrer: Adressen!$B$1
Name ZeileLeistungenEnde: Adressen!$B$13
Name ZeileLeistungenPunkteEnde: Adressen!$B$11
Name ZeileLeistungenPunkteStart: Adressen!$B$10
Name ZeileLeistungenStart: Adressen!$B$12
Name ZeileNotensystemEnde: Adressen!$B$7
Name ZeileNotensystemStart: Adressen!$B$6
Name ZeileSchule: Adressen!$B$3

Sheet CSV
B1: ← HIER EINSETZEN
A3: Bitte öffnen Sie zunächst eine neue Arbeitsmappe, um die CSV-Daten des Kurses dort hinein zu importieren ("Datei -> Neue Arbeitsmappe").
A4: Wählen Sie "Datei -> Import", dann "CSV". Beim Öffnen der CSV-Datei werden Sie nun einige Importeinstellungen vornehmen müssen.
A5: Im ersten Dialog verändern Sie einfach nichts und wählen "Weiter". Im zweiten Dialog stellen Sie bitte das Trennzeichen auf "Tabstopp" ein und nehmen den Haken bei "Komma" weg.
A6: Im dritten Dialog bleibt wieder alles so, wie vom Programm vorgeschlagen. Wählen Sie "Fertig stellen".
A7: Danach werden die CSV-Daten in die neue Arbeitsmappe importiert. Sie müssen diese Daten nunmehr in diese Arbeitsmappe hinüberkopieren.
A8: Wählen Sie dazu „Bearbeiten → Alles auswählen“ (CMD- bzw. STRG-A) und dann „Bearbeiten → Kopieren“ (CMD- bzw STRG-C).
A9: Betreten Sie dann wieder diese Seite, setzen Sie die Einfügemarke auf das rot markierte Feld A1 und wählen Sie „Bearbeiten → Einfügen“ (CMD- bzw. STRG-V)
A10: Dabei wird dieser Hilfetext überschrieben und durch die Kursdaten ersetzt.
A11: Im Anschluss finden Sie in den Tabellen „Deckblatt“ bis „Kursbuch“ (siehe unterer Bildschirmrand) druckfertige Layouts Ihrer Daten vor.

Sheet Adressen
A1: Kurslehrer | B1: =MATCH($A1,CSV!$A$1:$A$1071,0) -> #N/A
A2: Amtsbezeichnung | B2: =MATCH($A2,CSV!$A$1:$A$1071,0) -> #N/A
A3: Schule | B3: =MATCH($A3,CSV!$A$1:$A$1071,0) -> #N/A
A4: Jahrgang | B4: =MATCH($A4,CSV!$A$1:$A$1071,0) -> #N/A
A5: Kurs | B5: =MATCH($A5,CSV!$A$1:$A$1071,0) -> #N/A
A6: Notensystem | B6: =MATCH($A6,CSV!$A$1:$A$1071,0) -> #N/A
A7: /Notensystem | B7: =MATCH($A7,CSV!$A$1:$A$1071,0) -> #N/A
A8: Leerspalten | B8: =MATCH($A8,CSV!$A$1:$A$1071,0) -> #N/A
A9: /Leerspalten | B9: =MATCH($A9,CSV!$A$1:$A$1071,0) -> #N/A
A10: LeistungenPunkte | B10: =MATCH($A10,CSV!$A$1:$A$1071,0) -> #N/A
A11: /LeistungenPunkte | B11: =MATCH($A11,CSV!$A$1:$A$1071,0) -> #N/A
A12: Leistungen | B12: =MATCH($A12,CSV!$A$1:$A$1071,0) -> #N/A
... A17: /Kursbuch | B17: =MATCH($A17,CSV!$A$1:$A$1071,0) -> #N/A
A19: AnkerLeerspalten | B19: =CONCATENATE(ADDRESS( ZeileLeerspaltenStart+1,1,4,1,"CSV")) -> #N/A
A20: BereichLeerspalten | B20: =CONCATENATE("CSV!$A$",ZeileLeerspaltenStart+1,":IV$",ZeileLeerspaltenEnde-1) -> #N/A
A21: BereichKategorien | B21: =CONCATENATE("CSV!$A$",ZeileLeistungenStart+1,":$IV$",ZeileLeistungenStart+1) -> #N/A
A22: BereichLeistungen | B22: =CONCATENATE("CSV!$A$",ZeileLeistungenStart+1,":$IV$",ZeileLeistungenEnde-1) -> #N/A
A23: BereichLeistungenPunkte | B23: =CONCATENATE("CSV!$A$",ZeileLeistungenPunkteStart+1,":$IV$",ZeileLeistungenPunkteEnde-1) -> #N/A
A24: BereichFehlstundenDatum | B24: =CONCATENATE("CSV!$A$",ZeileFehlstundenStart+1,":$IV$",ZeileFehlstundenStart+1) -> #N/A
A25: BereichFehlstunden | B25: =CONCATENATE("CSV!$A$",ZeileFehlstundenStart+2,":IV$",ZeileFehlstundenEnde-1) -> #N/A
A26: BereichNotensystem | B26: =CONCATENATE("CSV!$A$",ZeileNotensystemStart+1,":$IV$",ZeileNotensystemEnde-1) -> #N/A
A27: BereichKursbuch | B27: =CONCATENATE("CSV!$A$",ZeileKursbuchStart+1,":$IV$",ZeileKursbuchEnde-1) -> #N/A

Sheet Deckblatt
A8: =IF(ISBLANK(INDEX(CSV!$B$1:$B$1071,ZeileSchule)),"",INDEX(CSV!$B$1:$B$1071,ZeileSchule)) -> #N/A
A10: Kursübersicht
A12: Jahrgang: | B12: =INDEX(CSV!$B$1:$B$1071,ZeileJahrgang) -> #N/A
A13: Kurs: | B13: =INDEX(CSV!$B$1:$B$1071,ZeileKursbezeichnung) -> #N/A
A14: Lehrkraft: | B14: =CONCATENATE(INDEX(CSV!$B$1:$B$1071,ZeileLehrer),", ",INDEX(CSV!$B$1:$B$1071,ZeileAmt)) -> #N/A

Sheet Leerspalten
A1: =CONCATENATE("Leerspalten für Kurs: ", INDEX(CSV!$B$1:$B$1071,ZeileKursbezeichnung)) -> #N/A
A2: =CONCATENATE("Jahrgang: ", INDEX(CSV!$B$1:$B$1071,ZeileJahrgang)) -> #N/A
A3: =IF(ISBLANK(INDEX(CSV!$B$1:$B$1071,ZeileLehrer)),"",INDEX(CSV!$B$1:$B$1071,ZeileLehrer)) -> #N/A
A5: =IF(ISBLANK(INDEX(INDIRECT(BereichKategorien),(ROW()-4),COLUMN()) ),"",INDEX(INDIRECT(BereichKategorien),(ROW()-4),COLUMN())) -> #N/A | B5: =IF(ISBLANK(INDEX(INDIRECT(BereichKategorien),(ROW()-4),COLUMN()) ),"",INDEX(INDIRECT(BereichKategorien),(ROW()-4),COLUMN())) -> #N/A
A6: =IF(ROW()-6<ROWS(INDIRECT(BereichLeerspalten)),IF(ISBLANK(INDEX(INDIRECT(BereichLeerspalten),(ROW()-5),COLUMN())),"",INDEX(INDIRECT(BereichLeerspalten),(ROW()-5),COLUMN())),"") -> #N/A | B6: =IF(ROW()-6<ROWS(INDIRECT(BereichLeerspalten)),IF(ISBLANK(INDEX(INDIRECT(BereichLeerspalten),(ROW()-5),COLUMN())),"",INDEX(INDIRECT(BereichLeerspalten),(ROW()-5),COLUMN())),"") -> #N/A | C6: =IF(ROW()-6<ROWS(INDIRECT(BereichLeerspalten)),IF(ISBLANK(INDEX(INDIRECT(BereichLeerspalten),(ROW()-5),COLUMN())),"",INDEX(INDIRECT(BereichLeerspalten),(ROW()-5),COLUMN())),"") -> #N/A | D6: =IF(ROW()-6<ROWS(INDIRECT(BereichLeerspalten)),IF(ISBLANK(INDEX(INDIRECT(BereichLeerspalten),(ROW()-5),COLUMN())),"",INDEX(INDIRECT(BereichLeerspalten),(ROW()-5),COLUMN())),"") -> #N/A | E6: =IF(ROW()-6<ROWS(INDIRECT(BereichLeerspalten)),IF(ISBLANK(INDEX(INDIRECT(BereichLeerspalten),(ROW()-5),COLUMN())),"",INDEX(INDIRECT(BereichLeerspalten),(ROW()-5),COLUMN())),"") -> #N/A | F6: =IF(ROW()-6<ROWS(INDIRECT(BereichLeerspalten)),IF(ISBLANK(INDEX(INDIRECT(BereichLeerspalten),(ROW()-5),COLUMN())),"",INDEX(INDIRECT(BereichLeerspalten),(ROW()-5),COLUMN())),"") -> #N/A | G6: =IF(ROW()-6<ROWS(INDIRECT(BereichLeerspalten)),IF(ISBLANK(INDEX(INDIRECT(BereichLeerspalten),(ROW()-5),COLUMN())),"",INDEX(INDIRECT(BereichLeerspalten),(ROW()-5),COLUMN())),"") -> #N/A | H6: =IF(ROW()-6<ROWS(INDIRECT(BereichLeerspalten)),IF(ISBLANK(INDEX(INDIRECT(BereichLeerspalten),(ROW()-5),COLUMN())),"",INDEX(INDIRECT(BereichLeerspalten),(ROW()-5),COLUMN())),"") -> #N/A | ... X6: =IF(ROW()-6<ROWS(INDIRECT(BereichLeerspalten)),IF(ISBLANK(INDEX(INDIRECT(BereichLeerspalten),(ROW()-5),COLUMN())),"",INDEX(INDIRECT(BereichLeerspalten),(ROW()-5),COLUMN())),"") -> #N/A
A7: =IF(ROW()-6<ROWS(INDIRECT(BereichLeerspalten)),IF(ISBLANK(INDEX(INDIRECT(BereichLeerspalten),(ROW()-5),COLUMN())),"",INDEX(INDIRECT(BereichLeerspalten),(ROW()-5),COLUMN())),"") -> #N/A | B7: =IF(ROW()-6<ROWS(INDIRECT(BereichLeerspalten)),IF(ISBLANK(INDEX(INDIRECT(BereichLeerspalten),(ROW()-5),COLUMN())),"",INDEX(INDIRECT(BereichLeerspalten),(ROW()-5),COLUMN())),"") -> #N/A | C7: =IF(ROW()-6<ROWS(INDIRECT(BereichLeerspalten)),IF(ISBLANK(INDEX(INDIRECT(BereichLeerspalten),(ROW()-5),COLUMN())),"",INDEX(INDIRECT(BereichLeerspalten),(ROW()-5),COLUMN())),"") -> #N/A | D7: =IF(ROW()-6<ROWS(INDIRECT(BereichLeerspalten)),IF(ISBLANK(INDEX(INDIRECT(BereichLeerspalten),(ROW()-5),COLUMN())),"",INDEX(INDIRECT(BereichLeerspalten),(ROW()-5),COLUMN())),"") -> #N/A | E7: =IF(ROW()-6<ROWS(INDIRECT(BereichLeerspalten)),IF(ISBLANK(INDEX(INDIRECT(BereichLeerspalten),(ROW()-5),COLUMN())),"",INDEX(INDIRECT(BereichLeerspalten),(ROW()-5),COLUMN())),"") -> #N/A | F7: =IF(ROW()-6<ROWS(INDIRECT(BereichLeerspalten)),IF(ISBLANK(INDEX(INDIRECT(BereichLeerspalten),(ROW()-5),COLUMN())),"",INDEX(INDIRECT(BereichLeerspalten),(ROW()-5),COLUMN())),"") -> #N/A | G7: =IF(ROW()-6<ROWS(INDIRECT(BereichLeerspalten)),IF(ISBLANK(INDEX(INDIRECT(BereichLeerspalten),(ROW()-5),COLUMN())),"",INDEX(INDIRECT(BereichLeerspalten),(ROW()-5),COLUMN())),"") -> #N/A | H7: =IF(ROW()-6<ROWS(INDIRECT(BereichLeerspalten)),IF(ISBLANK(INDEX(INDIRECT(BereichLeerspalten),(ROW()-5),COLUMN())),"",INDEX(INDIRECT(BereichLeerspalten),(ROW()-5),COLUMN())),"") -> #N/A | ... X7: =IF(ROW()-6<ROWS(INDIRECT(BereichLeerspalten)),IF(ISBLANK(INDEX(INDIRECT(BereichLeerspalten),(ROW()-5),COLUMN())),"",INDEX(INDIRECT(BereichLeerspalten),(ROW()-5),COLUMN())),"") -> #N/A
A8: =IF(ROW()-6<ROWS(INDIRECT(BereichLeerspalten)),IF(ISBLANK(INDEX(INDIRECT(BereichLeerspalten),(ROW()-5),COLUMN())),"",INDEX(INDIRECT(BereichLeerspalten),(ROW()-5),COLUMN())),"") -> #N/A | B8: =IF(ROW()-6<ROWS(INDIRECT(BereichLeerspalten)),IF(ISBLANK(INDEX(INDIRECT(BereichLeerspalten),(ROW()-5),COLUMN())),"",INDEX(INDIRECT(BereichLeerspalten),(ROW()-5),COLUMN())),"") -> #N/A | C8: =IF(ROW()-6<ROWS(INDIRECT(BereichLeerspalten)),IF(ISBLANK(INDEX(INDIRECT(BereichLeerspalten),(ROW()-5),COLUMN())),"",INDEX(INDIRECT(BereichLeerspalten),(ROW()-5),COLUMN())),"") -> #N/A | D8: =IF(ROW()-6<ROWS(INDIRECT(BereichLeerspalten)),IF(ISBLANK(INDEX(INDIRECT(BereichLeerspalten),(ROW()-5),COLUMN())),"",INDEX(INDIRECT(BereichLeerspalten),(ROW()-5),COLUMN())),"") -> #N/A | E8: =IF(ROW()-6<ROWS(INDIRECT(BereichLeerspalten)),IF(ISBLANK(INDEX(INDIRECT(BereichLeerspalten),(ROW()-5),COLUMN())),"",INDEX(INDIRECT(BereichLeerspalten),(ROW()-5),COLUMN())),"") -> #N/A | F8: =IF(ROW()-6<ROWS(INDIRECT(BereichLeerspalten)),IF(ISBLANK(INDEX(INDIRECT(BereichLeerspalten),(ROW()-5),COLUMN())),"",INDEX(INDIRECT(BereichLeerspalten),(ROW()-5),COLUMN())),"") -> #N/A | G8: =IF(ROW()-6<ROWS(INDIRECT(BereichLeerspalten)),IF(ISBLANK(INDEX(INDIRECT(BereichLeerspalten),(ROW()-5),COLUMN())),"",INDEX(INDIRECT(BereichLeerspalten),(ROW()-5),COLUMN())),"") -> #N/A | H8: =IF(ROW()-6<ROWS(INDIRECT(BereichLeerspalten)),IF(ISBLANK(INDEX(INDIRECT(BereichLeerspalten),(ROW()-5),COLUMN())),"",INDEX(INDIRECT(BereichLeerspalten),(ROW()-5),COLUMN())),"") -> #N/A | ... X8: =IF(ROW()-6<ROWS(INDIRECT(BereichLeerspalten)),IF(ISBLANK(INDEX(INDIRECT(BereichLeerspalten),(ROW()-5),COLUMN())),"",INDEX(INDIRECT(BereichLeerspalten),(ROW()-5),COLUMN())),"") -> #N/A
A9: =IF(ROW()-6<ROWS(INDIRECT(BereichLeerspalten)),IF(ISBLANK(INDEX(INDIRECT(BereichLeerspalten),(ROW()-5),COLUMN())),"",INDEX(INDIRECT(BereichLeerspalten),(ROW()-5),COLUMN())),"") -> #N/A | B9: =IF(ROW()-6<ROWS(INDIRECT(BereichLeerspalten)),IF(ISBLANK(INDEX(INDIRECT(BereichLeerspalten),(ROW()-5),COLUMN())),"",INDEX(INDIRECT(BereichLeerspalten),(ROW()-5),COLUMN())),"") -> #N/A | C9: =IF(ROW()-6<ROWS(INDIRECT(BereichLeerspalten)),IF(ISBLANK(INDEX(INDIRECT(BereichLeerspalten),(ROW()-5),COLUMN())),"",INDEX(INDIRECT(BereichLeerspalten),(ROW()-5),COLUMN())),"") -> #N/A | D9: =IF(ROW()-6<ROWS(INDIRECT(BereichLeerspalten)),IF(ISBLANK(INDEX(INDIRECT(BereichLeerspalten),(ROW()-5),COLUMN())),"",INDEX(INDIRECT(BereichLeerspalten),(ROW()-5),COLUMN())),"") -> #N/A | E9: =IF(ROW()-6<ROWS(INDIRECT(BereichLeerspalten)),IF(ISBLANK(INDEX(INDIRECT(BereichLeerspalten),(ROW()-5),COLUMN())),"",INDEX(INDIRECT(BereichLeerspalten),(ROW()-5),COLUMN())),"") -> #N/A | F9: =IF(ROW()-6<ROWS(INDIRECT(BereichLeerspalten)),IF(ISBLANK(INDEX(INDIRECT(BereichLeerspalten),(ROW()-5),COLUMN())),"",INDEX(INDIRECT(BereichLeerspalten),(ROW()-5),COLUMN())),"") -> #N/A | G9: =IF(ROW()-6<ROWS(INDIRECT(BereichLeerspalten)),IF(ISBLANK(INDEX(INDIRECT(BereichLeerspalten),(ROW()-5),COLUMN())),"",INDEX(INDIRECT(BereichLeerspalten),(ROW()-5),COLUMN())),"") -> #N/A | H9: =IF(ROW()-6<ROWS(INDIRECT(BereichLeerspalten)),IF(ISBLANK(INDEX(INDIRECT(BereichLeerspalten),(ROW()-5),COLUMN())),"",INDEX(INDIRECT(BereichLeerspalten),(ROW()-5),COLUMN())),"") -> #N/A | ... X9: =IF(ROW()-6<ROWS(INDIRECT(BereichLeerspalten)),IF(ISBLANK(INDEX(INDIRECT(BereichLeerspalten),(ROW()-5),COLUMN())),"",INDEX(INDIRECT(BereichLeerspalten),(ROW()-5),COLUMN())),"") -> #N/A
A10: =IF(ROW()-6<ROWS(INDIRECT(BereichLeerspalten)),IF(ISBLANK(INDEX(INDIRECT(BereichLeerspalten),(ROW()-5),COLUMN())),"",INDEX(INDIRECT(BereichLeerspalten),(ROW()-5),COLUMN())),"") -> #N/A | B10: =IF(ROW()-6<ROWS(INDIRECT(BereichLeerspalten)),IF(ISBLANK(INDEX(INDIRECT(BereichLeerspalten),(ROW()-5),COLUMN())),"",INDEX(INDIRECT(BereichLeerspalten),(ROW()-5),COLUMN())),"") -> #N/A | C10: =IF(ROW()-6<ROWS(INDIRECT(BereichLeerspalten)),IF(ISBLANK(INDEX(INDIRECT(BereichLeerspalten),(ROW()-5),COLUMN())),"",INDEX(INDIRECT(BereichLeerspalten),(ROW()-5),COLUMN())),"") -> #N/A | D10: =IF(ROW()-6<ROWS(INDIRECT(BereichLeerspalten)),IF(ISBLANK(INDEX(INDIRECT(BereichLeerspalten),(ROW()-5),COLUMN())),"",INDEX(INDIRECT(BereichLeerspalten),(ROW()-5),COLUMN())),"") -> #N/A | E10: =IF(ROW()-6<ROWS(INDIRECT(BereichLeerspalten)),IF(ISBLANK(INDEX(INDIRECT(BereichLeerspalten),(ROW()-5),COLUMN())),"",INDEX(INDIRECT(BereichLeerspalten),(ROW()-5),COLUMN())),"") -> #N/A | F10: =IF(ROW()-6<ROWS(INDIRECT(BereichLeerspalten)),IF(ISBLANK(INDEX(INDIRECT(BereichLeerspalten),(ROW()-5),COLUMN())),"",INDEX(INDIRECT(BereichLeerspalten),(ROW()-5),COLUMN())),"") -> #N/A | G10: =IF(ROW()-6<ROWS(INDIRECT(BereichLeerspalten)),IF(ISBLANK(INDEX(INDIRECT(BereichLeerspalten),(ROW()-5),COLUMN())),"",INDEX(INDIRECT(BereichLeerspalten),(ROW()-5),COLUMN())),"") -> #N/A | H10: =IF(ROW()-6<ROWS(INDIRECT(BereichLeerspalten)),IF(ISBLANK(INDEX(INDIRECT(BereichLeerspalten),(ROW()-5),COLUMN())),"",INDEX(INDIRECT(BereichLeerspalten),(ROW()-5),COLUMN())),"") -> #N/A | ... X10: =IF(ROW()-6<ROWS(INDIRECT(BereichLeerspalten)),IF(ISBLANK(INDEX(INDIRECT(BereichLeerspalten),(ROW()-5),COLUMN())),"",INDEX(INDIRECT(BereichLeerspalten),(ROW()-5),COLUMN())),"") -> #N/A
A11: =IF(ROW()-6<ROWS(INDIRECT(BereichLeerspalten)),IF(ISBLANK(INDEX(INDIRECT(BereichLeerspalten),(ROW()-5),COLUMN())),"",INDEX(INDIRECT(BereichLeerspalten),(ROW()-5),COLUMN())),"") -> #N/A | B11: =IF(ROW()-6<ROWS(INDIRECT(BereichLeerspalten)),IF(ISBLANK(INDEX(INDIRECT(BereichLeerspalten),(ROW()-5),COLUMN())),"",INDEX(INDIRECT(BereichLeerspalten),(ROW()-5),COLUMN())),"") -> #N/A | C11: =IF(ROW()-6<ROWS(INDIRECT(BereichLeerspalten)),IF(ISBLANK(INDEX(INDIRECT(BereichLeerspalten),(ROW()-5),COLUMN())),"",INDEX(INDIRECT(BereichLeerspalten),(ROW()-5),COLUMN())),"") -> #N/A | D11: =IF(ROW()-6<ROWS(INDIRECT(BereichLeerspalten)),IF(ISBLANK(INDEX(INDIRECT(BereichLeerspalten),(ROW()-5),COLUMN())),"",INDEX(INDIRECT(BereichLeerspalten),(ROW()-5),COLUMN())),"") -> #N/A | E11: =IF(ROW()-6<ROWS(INDIRECT(BereichLeerspalten)),IF(ISBLANK(INDEX(INDIRECT(BereichLeerspalten),(ROW()-5),COLUMN())),"",INDEX(INDIRECT(BereichLeerspalten),(ROW()-5),COLUMN())),"") -> #N/A | F11: =IF(ROW()-6<ROWS(INDIRECT(BereichLeerspalten)),IF(ISBLANK(INDEX(INDIRECT(BereichLeerspalten),(ROW()-5),COLUMN())),"",INDEX(INDIRECT(BereichLeerspalten),(ROW()-5),COLUMN())),"") -> #N/A | G11: =IF(ROW()-6<ROWS(INDIRECT(BereichLeerspalten)),IF(ISBLANK(INDEX(INDIRECT(BereichLeerspalten),(ROW()-5),COLUMN())),"",INDEX(INDIRECT(BereichLeerspalten),(ROW()-5),COLUMN())),"") -> #N/A | H11: =IF(ROW()-6<ROWS(INDIRECT(BereichLeerspalten)),IF(ISBLANK(INDEX(INDIRECT(BereichLeerspalten),(ROW()-5),COLUMN())),"",INDEX(INDIRECT(BereichLeerspalten),(ROW()-5),COLUMN())),"") -> #N/A | ... X11: =IF(ROW()-6<ROWS(INDIRECT(BereichLeerspalten)),IF(ISBLANK(INDEX(INDIRECT(BereichLeerspalten),(ROW()-5),COLUMN())),"",INDEX(INDIRECT(BereichLeerspalten),(ROW()-5),COLUMN())),"") -> #N/A
A12: =IF(ROW()-6<ROWS(INDIRECT(BereichLeerspalten)),IF(ISBLANK(INDEX(INDIRECT(BereichLeerspalten),(ROW()-5),COLUMN())),"",INDEX(INDIRECT(BereichLeerspalten),(ROW()-5),COLUMN())),"") -> #N/A | B12: =IF(ROW()-6<ROWS(INDIRECT(BereichLeerspalten)),IF(ISBLANK(INDEX(INDIRECT(BereichLeerspalten),(ROW()-5),COLUMN())),"",INDEX(INDIRECT(BereichLeerspalten),(ROW()-5),COLUMN())),"") -> #N/A | C12: =IF(ROW()-6<ROWS(INDIRECT(BereichLeerspalten)),IF(ISBLANK(INDEX(INDIRECT(BereichLeerspalten),(ROW()-5),COLUMN())),"",INDEX(INDIRECT(BereichLeerspalten),(ROW()-5),COLUMN())),"") -> #N/A | D12: =IF(ROW()-6<ROWS(INDIRECT(BereichLeerspalten)),IF(ISBLANK(INDEX(INDIRECT(BereichLeerspalten),(ROW()-5),COLUMN())),"",INDEX(INDIRECT(BereichLeerspalten),(ROW()-5),COLUMN())),"") -> #N/A | E12: =IF(ROW()-6<ROWS(INDIRECT(BereichLeerspalten)),IF(ISBLANK(INDEX(INDIRECT(BereichLeerspalten),(ROW()-5),COLUMN())),"",INDEX(INDIRECT(BereichLeerspalten),(ROW()-5),COLUMN())),"") -> #N/A | F12: =IF(ROW()-6<ROWS(INDIRECT(BereichLeerspalten)),IF(ISBLANK(INDEX(INDIRECT(BereichLeerspalten),(ROW()-5),COLUMN())),"",INDEX(INDIRECT(BereichLeerspalten),(ROW()-5),COLUMN())),"") -> #N/A | G12: =IF(ROW()-6<ROWS(INDIRECT(BereichLeerspalten)),IF(ISBLANK(INDEX(INDIRECT(BereichLeerspalten),(ROW()-5),COLUMN())),"",INDEX(INDIRECT(BereichLeerspalten),(ROW()-5),COLUMN())),"") -> #N/A | H12: =IF(ROW()-6<ROWS(INDIRECT(BereichLeerspalten)),IF(ISBLANK(INDEX(INDIRECT(BereichLeerspalten),(ROW()-5),COLUMN())),"",INDEX(INDIRECT(BereichLeerspalten),(ROW()-5),COLUMN())),"") -> #N/A | ... X12: =IF(ROW()-6<ROWS(INDIRECT(BereichLeerspalten)),IF(ISBLANK(INDEX(INDIRECT(BereichLeerspalten),(ROW()-5),COLUMN())),"",INDEX(INDIRECT(BereichLeerspalten),(ROW()-5),COLUMN())),"") -> #N/A
A13: =IF(ROW()-6<ROWS(INDIRECT(BereichLeerspalten)),IF(ISBLANK(INDEX(INDIRECT(BereichLeerspalten),(ROW()-5),COLUMN())),"",INDEX(INDIRECT(BereichLeerspalten),(ROW()-5),COLUMN())),"") -> #N/A | B13: =IF(ROW()-6<ROWS(INDIRECT(BereichLeerspalten)),IF(ISBLANK(INDEX(INDIRECT(BereichLeerspalten),(ROW()-5),COLUMN())),"",INDEX(INDIRECT(BereichLeerspalten),(ROW()-5),COLUMN())),"") -> #N/A | C13: =IF(ROW()-6<ROWS(INDIRECT(BereichLeerspalten)),IF(ISBLANK(INDEX(INDIRECT(BereichLeerspalten),(ROW()-5),COLUMN())),"",INDEX(INDIRECT(BereichLeerspalten),(ROW()-5),COLUMN())),"") -> #N/A | D13: =IF(ROW()-6<ROWS(INDIRECT(BereichLeerspalten)),IF(ISBLANK(INDEX(INDIRECT(BereichLeerspalten),(ROW()-5),COLUMN())),"",INDEX(INDIRECT(BereichLeerspalten),(ROW()-5),COLUMN())),"") -> #N/A | E13: =IF(ROW()-6<ROWS(INDIRECT(BereichLeerspalten)),IF(ISBLANK(INDEX(INDIRECT(BereichLeerspalten),(ROW()-5),COLUMN())),"",INDEX(INDIRECT(BereichLeerspalten),(ROW()-5),COLUMN())),"") -> #N/A | F13: =IF(ROW()-6<ROWS(INDIRECT(BereichLeerspalten)),IF(ISBLANK(INDEX(INDIRECT(BereichLeerspalten),(ROW()-5),COLUMN())),"",INDEX(INDIRECT(BereichLeerspalten),(ROW()-5),COLUMN())),"") -> #N/A | G13: =IF(ROW()-6<ROWS(INDIRECT(BereichLeerspalten)),IF(ISBLANK(INDEX(INDIRECT(BereichLeerspalten),(ROW()-5),COLUMN())),"",INDEX(INDIRECT(BereichLeerspalten),(ROW()-5),COLUMN())),"") -> #N/A | H13: =IF(ROW()-6<ROWS(INDIRECT(BereichLeerspalten)),IF(ISBLANK(INDEX(INDIRECT(BereichLeerspalten),(ROW()-5),COLUMN())),"",INDEX(INDIRECT(BereichLeerspalten),(ROW()-5),COLUMN())),"") -> #N/A | ... X13: =IF(ROW()-6<ROWS(INDIRECT(BereichLeerspalten)),IF(ISBLANK(INDEX(INDIRECT(BereichLeerspalten),(ROW()-5),COLUMN())),"",INDEX(INDIRECT(BereichLeerspalten),(ROW()-5),COLUMN())),"") -> #N/A
A14: =IF(ROW()-6<ROWS(INDIRECT(BereichLeerspalten)),IF(ISBLANK(INDEX(INDIRECT(BereichLeerspalten),(ROW()-5),COLUMN())),"",INDEX(INDIRECT(BereichLeerspalten),(ROW()-5),COLUMN())),"") -> #N/A | B14: =IF(ROW()-6<ROWS(INDIRECT(BereichLeerspalten)),IF(ISBLANK(INDEX(INDIRECT(BereichLeerspalten),(ROW()-5),COLUMN())),"",INDEX(INDIRECT(BereichLeerspalten),(ROW()-5),COLUMN())),"") -> #N/A | C14: =IF(ROW()-6<ROWS(INDIRECT(BereichLeerspalten)),IF(ISBLANK(INDEX(INDIRECT(BereichLeerspalten),(ROW()-5),COLUMN())),"",INDEX(INDIRECT(BereichLeerspalten),(ROW()-5),COLUMN())),"") -> #N/A | D14: =IF(ROW()-6<ROWS(INDIRECT(BereichLeerspalten)),IF(ISBLANK(INDEX(INDIRECT(BereichLeerspalten),(ROW()-5),COLUMN())),"",INDEX(INDIRECT(BereichLeerspalten),(ROW()-5),COLUMN())),"") -> #N/A | E14: =IF(ROW()-6<ROWS(INDIRECT(BereichLeerspalten)),IF(ISBLANK(INDEX(INDIRECT(BereichLeerspalten),(ROW()-5),COLUMN())),"",INDEX(INDIRECT(BereichLeerspalten),(ROW()-5),COLUMN())),"") -> #N/A | F14: =IF(ROW()-6<ROWS(INDIRECT(BereichLeerspalten)),IF(ISBLANK(INDEX(INDIRECT(BereichLeerspalten),(ROW()-5),COLUMN())),"",INDEX(INDIRECT(BereichLeerspalten),(ROW()-5),COLUMN())),"") -> #N/A | G14: =IF(ROW()-6<ROWS(INDIRECT(BereichLeerspalten)),IF(ISBLANK(INDEX(INDIRECT(BereichLeerspalten),(ROW()-5),COLUMN())),"",INDEX(INDIRECT(BereichLeerspalten),(ROW()-5),COLUMN())),"") -> #N/A | H14: =IF(ROW()-6<ROWS(INDIRECT(BereichLeerspalten)),IF(ISBLANK(INDEX(INDIRECT(BereichLeerspalten),(ROW()-5),COLUMN())),"",INDEX(INDIRECT(BereichLeerspalten),(ROW()-5),COLUMN())),"") -> #N/A | ... X14: =IF(ROW()-6<ROWS(INDIRECT(BereichLeerspalten)),IF(ISBLANK(INDEX(INDIRECT(BereichLeerspalten),(ROW()-5),COLUMN())),"",INDEX(INDIRECT(BereichLeerspalten),(ROW()-5),COLUMN())),"") -> #N/A
A15: =IF(ROW()-6<ROWS(INDIRECT(BereichLeerspalten)),IF(ISBLANK(INDEX(INDIRECT(BereichLeerspalten),(ROW()-5),COLUMN())),"",INDEX(INDIRECT(BereichLeerspalten),(ROW()-5),COLUMN())),"") -> #N/A | B15: =IF(ROW()-6<ROWS(INDIRECT(BereichLeerspalten)),IF(ISBLANK(INDEX(INDIRECT(BereichLeerspalten),(ROW()-5),COLUMN())),"",INDEX(INDIRECT(BereichLeerspalten),(ROW()-5),COLUMN())),"") -> #N/A | C15: =IF(ROW()-6<ROWS(INDIRECT(BereichLeerspalten)),IF(ISBLANK(INDEX(INDIRECT(BereichLeerspalten),(ROW()-5),COLUMN())),"",INDEX(INDIRECT(BereichLeerspalten),(ROW()-5),COLUMN())),"") -> #N/A | D15: =IF(ROW()-6<ROWS(INDIRECT(BereichLeerspalten)),IF(ISBLANK(INDEX(INDIRECT(BereichLeerspalten),(ROW()-5),COLUMN())),"",INDEX(INDIRECT(BereichLeerspalten),(ROW()-5),COLUMN())),"") -> #N/A | E15: =IF(ROW()-6<ROWS(INDIRECT(BereichLeerspalten)),IF(ISBLANK(INDEX(INDIRECT(BereichLeerspalten),(ROW()-5),COLUMN())),"",INDEX(INDIRECT(BereichLeerspalten),(ROW()-5),COLUMN())),"") -> #N/A | F15: =IF(ROW()-6<ROWS(INDIRECT(BereichLeerspalten)),IF(ISBLANK(INDEX(INDIRECT(BereichLeerspalten),(ROW()-5),COLUMN())),"",INDEX(INDIRECT(BereichLeerspalten),(ROW()-5),COLUMN())),"") -> #N/A | G15: =IF(ROW()-6<ROWS(INDIRECT(BereichLeerspalten)),IF(ISBLANK(INDEX(INDIRECT(BereichLeerspalten),(ROW()-5),COLUMN())),"",INDEX(INDIRECT(BereichLeerspalten),(ROW()-5),COLUMN())),"") -> #N/A | H15: =IF(ROW()-6<ROWS(INDIRECT(BereichLeerspalten)),IF(ISBLANK(INDEX(INDIRECT(BereichLeerspalten),(ROW()-5),COLUMN())),"",INDEX(INDIRECT(BereichLeerspalten),(ROW()-5),COLUMN())),"") -> #N/A | ... X15: =IF(ROW()-6<ROWS(INDIRECT(BereichLeerspalten)),IF(ISBLANK(INDEX(INDIRECT(BereichLeerspalten),(ROW()-5),COLUMN())),"",INDEX(INDIRECT(BereichLeerspalten),(ROW()-5),COLUMN())),"") -> #N/A
A16: =IF(ROW()-6<ROWS(INDIRECT(BereichLeerspalten)),IF(ISBLANK(INDEX(INDIRECT(BereichLeerspalten),(ROW()-5),COLUMN())),"",INDEX(INDIRECT(BereichLeerspalten),(ROW()-5),COLUMN())),"") -> #N/A | B16: =IF(ROW()-6<ROWS(INDIRECT(BereichLeerspalten)),IF(ISBLANK(INDEX(INDIRECT(BereichLeerspalten),(ROW()-5),COLUMN())),"",INDEX(INDIRECT(BereichLeerspalten),(ROW()-5),COLUMN())),"") -> #N/A | C16: =IF(ROW()-6<ROWS(INDIRECT(BereichLeerspalten)),IF(ISBLANK(INDEX(INDIRECT(BereichLeerspalten),(ROW()-5),COLUMN())),"",INDEX(INDIRECT(BereichLeerspalten),(ROW()-5),COLUMN())),"") -> #N/A | D16: =IF(ROW()-6<ROWS(INDIRECT(BereichLeerspalten)),IF(ISBLANK(INDEX(INDIRECT(BereichLeerspalten),(ROW()-5),COLUMN())),"",INDEX(INDIRECT(BereichLeerspalten),(ROW()-5),COLUMN())),"") -> #N/A | E16: =IF(ROW()-6<ROWS(INDIRECT(BereichLeerspalten)),IF(ISBLANK(INDEX(INDIRECT(BereichLeerspalten),(ROW()-5),COLUMN())),"",INDEX(INDIRECT(BereichLeerspalten),(ROW()-5),COLUMN())),"") -> #N/A | F16: =IF(ROW()-6<ROWS(INDIRECT(BereichLeerspalten)),IF(ISBLANK(INDEX(INDIRECT(BereichLeerspalten),(ROW()-5),COLUMN())),"",INDEX(INDIRECT(BereichLeerspalten),(ROW()-5),COLUMN())),"") -> #N/A | G16: =IF(ROW()-6<ROWS(INDIRECT(BereichLeerspalten)),IF(ISBLANK(INDEX(INDIRECT(BereichLeerspalten),(ROW()-5),COLUMN())),"",INDEX(INDIRECT(BereichLeerspalten),(ROW()-5),COLUMN())),"") -> #N/A | H16: =IF(ROW()-6<ROWS(INDIRECT(BereichLeerspalten)),IF(ISBLANK(INDEX(INDIRECT(BereichLeerspalten),(ROW()-5),COLUMN())),"",INDEX(INDIRECT(BereichLeerspalten),(ROW()-5),COLUMN())),"") -> #N/A | ... X16: =IF(ROW()-6<ROWS(INDIRECT(BereichLeerspalten)),IF(ISBLANK(INDEX(INDIRECT(BereichLeerspalten),(ROW()-5),COLUMN())),"",INDEX(INDIRECT(BereichLeerspalten),(ROW()-5),COLUMN())),"") -> #N/A
A17: =IF(ROW()-6<ROWS(INDIRECT(BereichLeerspalten)),IF(ISBLANK(INDEX(INDIRECT(BereichLeerspalten),(ROW()-5),COLUMN())),"",INDEX(INDIRECT(BereichLeerspalten),(ROW()-5),COLUMN())),"") -> #N/A | B17: =IF(ROW()-6<ROWS(INDIRECT(BereichLeerspalten)),IF(ISBLANK(INDEX(INDIRECT(BereichLeerspalten),(ROW()-5),COLUMN())),"",INDEX(INDIRECT(BereichLeerspalten),(ROW()-5),COLUMN())),"") -> #N/A | C17: =IF(ROW()-6<ROWS(INDIRECT(BereichLeerspalten)),IF(ISBLANK(INDEX(INDIRECT(BereichLeerspalten),(ROW()-5),COLUMN())),"",INDEX(INDIRECT(BereichLeerspalten),(ROW()-5),COLUMN())),"") -> #N/A | D17: =IF(ROW()-6<ROWS(INDIRECT(BereichLeerspalten)),IF(ISBLANK(INDEX(INDIRECT(BereichLeerspalten),(ROW()-5),COLUMN())),"",INDEX(INDIRECT(BereichLeerspalten),(ROW()-5),COLUMN())),"") -> #N/A | E17: =IF(ROW()-6<ROWS(INDIRECT(BereichLeerspalten)),IF(ISBLANK(INDEX(INDIRECT(BereichLeerspalten),(ROW()-5),COLUMN())),"",INDEX(INDIRECT(BereichLeerspalten),(ROW()-5),COLUMN())),"") -> #N/A | F17: =IF(ROW()-6<ROWS(INDIRECT(BereichLeerspalten)),IF(ISBLANK(INDEX(INDIRECT(BereichLeerspalten),(ROW()-5),COLUMN())),"",INDEX(INDIRECT(BereichLeerspalten),(ROW()-5),COLUMN())),"") -> #N/A | G17: =IF(ROW()-6<ROWS(INDIRECT(BereichLeerspalten)),IF(ISBLANK(INDEX(INDIRECT(BereichLeerspalten),(ROW()-5),COLUMN())),"",INDEX(INDIRECT(BereichLeerspalten),(ROW()-5),COLUMN())),"") -> #N/A | H17: =IF(ROW()-6<ROWS(INDIRECT(BereichLeerspalten)),IF(ISBLANK(INDEX(INDIRECT(BereichLeerspalten),(ROW()-5),COLUMN())),"",INDEX(INDIRECT(BereichLeerspalten),(ROW()-5),COLUMN())),"") -> #N/A | ... X17: =IF(ROW()-6<ROWS(INDIRECT(BereichLeerspalten)),IF(ISBLANK(INDEX(INDIRECT(BereichLeerspalten),(ROW()-5),COLUMN())),"",INDEX(INDIRECT(BereichLeerspalten),(ROW()-5),COLUMN())),"") -> #N/A
... A76: =IF(ROW()-6<ROWS(INDIRECT(BereichLeerspalten)),IF(ISBLANK(INDEX(INDIRECT(BereichLeerspalten),(ROW()-5),COLUMN())),"",INDEX(INDIRECT(BereichLeerspalten),(ROW()-5),COLUMN())),"") -> #N/A | B76: =IF(ROW()-6<ROWS(INDIRECT(BereichLeerspalten)),IF(ISBLANK(INDEX(INDIRECT(BereichLeerspalten),(ROW()-5),COLUMN())),"",INDEX(INDIRECT(BereichLeerspalten),(ROW()-5),COLUMN())),"") -> #N/A | C76: =IF(ROW()-6<ROWS(INDIRECT(BereichLeerspalten)),IF(ISBLANK(INDEX(INDIRECT(BereichLeerspalten),(ROW()-5),COLUMN())),"",INDEX(INDIRECT(BereichLeerspalten),(ROW()-5),COLUMN())),"") -> #N/A | D76: =IF(ROW()-6<ROWS(INDIRECT(BereichLeerspalten)),IF(ISBLANK(INDEX(INDIRECT(BereichLeerspalten),(ROW()-5),COLUMN())),"",INDEX(INDIRECT(BereichLeerspalten),(ROW()-5),COLUMN())),"") -> #N/A | E76: =IF(ROW()-6<ROWS(INDIRECT(BereichLeerspalten)),IF(ISBLANK(INDEX(INDIRECT(BereichLeerspalten),(ROW()-5),COLUMN())),"",INDEX(INDIRECT(BereichLeerspalten),(ROW()-5),COLUMN())),"") -> #N/A | F76: =IF(ROW()-6<ROWS(INDIRECT(BereichLeerspalten)),IF(ISBLANK(INDEX(INDIRECT(BereichLeerspalten),(ROW()-5),COLUMN())),"",INDEX(INDIRECT(BereichLeerspalten),(ROW()-5),COLUMN())),"") -> #N/A | G76: =IF(ROW()-6<ROWS(INDIRECT(BereichLeerspalten)),IF(ISBLANK(INDEX(INDIRECT(BereichLeerspalten),(ROW()-5),COLUMN())),"",INDEX(INDIRECT(BereichLeerspalten),(ROW()-5),COLUMN())),"") -> #N/A | H76: =IF(ROW()-6<ROWS(INDIRECT(BereichLeerspalten)),IF(ISBLANK(INDEX(INDIRECT(BereichLeerspalten),(ROW()-5),COLUMN())),"",INDEX(INDIRECT(BereichLeerspalten),(ROW()-5),COLUMN())),"") -> #N/A | ... X76: =IF(ROW()-6<ROWS(INDIRECT(BereichLeerspalten)),IF(ISBLANK(INDEX(INDIRECT(BereichLeerspalten),(ROW()-5),COLUMN())),"",INDEX(INDIRECT(BereichLeerspalten),(ROW()-5),COLUMN())),"") -> #N/A

Sheet Leistungen (S.1)
A1: =CONCATENATE("Leistungsübersicht für Kurs: ", INDEX(CSV!$B$1:$B$1071,ZeileKursbezeichnung)) -> #N/A
A2: =CONCATENATE("Jahrgang: ", INDEX(CSV!$B$1:$B$1071,ZeileJahrgang)) -> #N/A
A3: =IF(ISBLANK(INDEX(CSV!$B$1:$B$1071,ZeileLehrer)),"",INDEX(CSV!$B$1:$B$1071,ZeileLehrer)) -> #N/A
A5: =IF(ISBLANK(INDEX(INDIRECT(BereichLeistungen),(ROW()-4),COLUMN()) ),"",INDEX(INDIRECT(BereichLeistungen),(ROW()-4),COLUMN())) -> #N/A | B5: =IF(ISBLANK(INDEX(INDIRECT(BereichLeistungen),(ROW()-4),COLUMN()) ),"",INDEX(INDIRECT(BereichLeistungen),(ROW()-4),COLUMN())) -> #N/A | C5: =IF(ISBLANK(INDEX(INDIRECT(BereichLeistungen),(ROW()-4),COLUMN()) ),"",INDEX(INDIRECT(BereichLeistungen),(ROW()-4),COLUMN())) -> #N/A | D5: =IF(ISBLANK(INDEX(INDIRECT(BereichLeistungen),(ROW()-4),COLUMN()) ),"",INDEX(INDIRECT(BereichLeistungen),(ROW()-4),COLUMN())) -> #N/A | E5: =IF(ISBLANK(INDEX(INDIRECT(BereichLeistungen),(ROW()-4),COLUMN()) ),"",INDEX(INDIRECT(BereichLeistungen),(ROW()-4),COLUMN())) -> #N/A | F5: =IF(ISBLANK(INDEX(INDIRECT(BereichLeistungen),(ROW()-4),COLUMN()) ),"",INDEX(INDIRECT(BereichLeistungen),(ROW()-4),COLUMN())) -> #N/A | G5: =IF(ISBLANK(INDEX(INDIRECT(BereichLeistungen),(ROW()-4),COLUMN()) ),"",INDEX(INDIRECT(BereichLeistungen),(ROW()-4),COLUMN())) -> #N/A | H5: =IF(ISBLANK(INDEX(INDIRECT(BereichLeistungen),(ROW()-4),COLUMN()) ),"",INDEX(INDIRECT(BereichLeistungen),(ROW()-4),COLUMN())) -> #N/A | ... AB5: =IF(ISBLANK(INDEX(INDIRECT(BereichLeistungen),(ROW()-4),COLUMN()) ),"",INDEX(INDIRECT(BereichLeistungen),(ROW()-4),COLUMN())) -> #N/A
A6: =IF(ROW()-5<ROWS(INDIRECT(BereichLeistungen)),IF(ISBLANK(INDEX(INDIRECT(BereichLeistungen),(ROW()-4),COLUMN())),"",INDEX(INDIRECT(BereichLeistungen),(ROW()-4),COLUMN())),"") -> #N/A | B6: =IF(ROW()-5<ROWS(INDIRECT(BereichLeistungen)),IF(ISBLANK(INDEX(INDIRECT(BereichLeistungen),(ROW()-4),COLUMN())),"",INDEX(INDIRECT(BereichLeistungen),(ROW()-4),COLUMN())),"") -> #N/A | C6: =IF(ROW()-5<ROWS(INDIRECT(BereichLeistungen)),IF(ISBLANK(INDEX(INDIRECT(BereichLeistungen),(ROW()-4),COLUMN())),"",INDEX(INDIRECT(BereichLeistungen),(ROW()-4),COLUMN())),"") -> #N/A | D6: =IF(ROW()-5<ROWS(INDIRECT(BereichLeistungen)),IF(ISBLANK(INDEX(INDIRECT(BereichLeistungen),(ROW()-4),COLUMN())),"",INDEX(INDIRECT(BereichLeistungen),(ROW()-4),COLUMN())),"") -> #N/A | E6: =IF(ROW()-5<ROWS(INDIRECT(BereichLeistungen)),IF(ISBLANK(INDEX(INDIRECT(BereichLeistungen),(ROW()-4),COLUMN())),"",INDEX(INDIRECT(BereichLeistungen),(ROW()-4),COLUMN())),"") -> #N/A | F6: =IF(ROW()-5<ROWS(INDIRECT(BereichLeistungen)),IF(ISBLANK(INDEX(INDIRECT(BereichLeistungen),(ROW()-4),COLUMN())),"",INDEX(INDIRECT(BereichLeistungen),(ROW()-4),COLUMN())),"") -> #N/A | G6: =IF(ROW()-5<ROWS(INDIRECT(BereichLeistungen)),IF(ISBLANK(INDEX(INDIRECT(BereichLeistungen),(ROW()-4),COLUMN())),"",INDEX(INDIRECT(BereichLeistungen),(ROW()-4),COLUMN())),"") -> #N/A | H6: =IF(ROW()-5<ROWS(INDIRECT(BereichLeistungen)),IF(ISBLANK(INDEX(INDIRECT(BereichLeistungen),(ROW()-4),COLUMN())),"",INDEX(INDIRECT(BereichLeistungen),(ROW()-4),COLUMN())),"") -> #N/A | ... AB6: =IF(ROW()-5<ROWS(INDIRECT(BereichLeistungen)),IF(ISBLANK(INDEX(INDIRECT(BereichLeistungen),(ROW()-4),COLUMN())),"",INDEX(INDIRECT(BereichLeistungen),(ROW()-4),COLUMN())),"") -> #N/A
A7: =IF(ROW()-5<ROWS(INDIRECT(BereichLeistungen)),IF(ISBLANK(INDEX(INDIRECT(BereichLeistungen),(ROW()-4),COLUMN())),"",INDEX(INDIRECT(BereichLeistungen),(ROW()-4),COLUMN())),"") -> #N/A | B7: =IF(ROW()-5<ROWS(INDIRECT(BereichLeistungen)),IF(ISBLANK(INDEX(INDIRECT(BereichLeistungen),(ROW()-4),COLUMN())),"",INDEX(INDIRECT(BereichLeistungen),(ROW()-4),COLUMN())),"") -> #N/A | C7: =IF(ROW()-5<ROWS(INDIRECT(BereichLeistungen)),IF(ISBLANK(INDEX(INDIRECT(BereichLeistungen),(ROW()-4),COLUMN())),"",INDEX(INDIRECT(BereichLeistungen),(ROW()-4),COLUMN())),"") -> #N/A | D7: =IF(ROW()-5<ROWS(INDIRECT(BereichLeistungen)),IF(ISBLANK(INDEX(INDIRECT(BereichLeistungen),(ROW()-4),COLUMN())),"",INDEX(INDIRECT(BereichLeistungen),(ROW()-4),COLUMN())),"") -> #N/A | E7: =IF(ROW()-5<ROWS(INDIRECT(BereichLeistungen)),IF(ISBLANK(INDEX(INDIRECT(BereichLeistungen),(ROW()-4),COLUMN())),"",INDEX(INDIRECT(BereichLeistungen),(ROW()-4),COLUMN())),"") -> #N/A | F7: =IF(ROW()-5<ROWS(INDIRECT(BereichLeistungen)),IF(ISBLANK(INDEX(INDIRECT(BereichLeistungen),(ROW()-4),COLUMN())),"",INDEX(INDIRECT(BereichLeistungen),(ROW()-4),COLUMN())),"") -> #N/A | G7: =IF(ROW()-5<ROWS(INDIRECT(BereichLeistungen)),IF(ISBLANK(INDEX(INDIRECT(BereichLeistungen),(ROW()-4),COLUMN())),"",INDEX(INDIRECT(BereichLeistungen),(ROW()-4),COLUMN())),"") -> #N/A | H7: =IF(ROW()-5<ROWS(INDIRECT(BereichLeistungen)),IF(ISBLANK(INDEX(INDIRECT(BereichLeistungen),(ROW()-4),COLUMN())),"",INDEX(INDIRECT(BereichLeistungen),(ROW()-4),COLUMN())),"") -> #N/A | ... AB7: =IF(ROW()-5<ROWS(INDIRECT(BereichLeistungen)),IF(ISBLANK(INDEX(INDIRECT(BereichLeistungen),(ROW()-4),COLUMN())),"",INDEX(INDIRECT(BereichLeistungen),(ROW()-4),COLUMN())),"") -> #N/A
A8: =IF(ROW()-5<ROWS(INDIRECT(BereichLeistungen)),IF(ISBLANK(INDEX(INDIRECT(BereichLeistungen),(ROW()-4),COLUMN())),"",INDEX(INDIRECT(BereichLeistungen),(ROW()-4),COLUMN())),"") -> #N/A | B8: =IF(ROW()-5<ROWS(INDIRECT(BereichLeistungen)),IF(ISBLANK(INDEX(INDIRECT(BereichLeistungen),(ROW()-4),COLUMN())),"",INDEX(INDIRECT(BereichLeistungen),(ROW()-4),COLUMN())),"") -> #N/A | C8: =IF(ROW()-5<ROWS(INDIRECT(BereichLeistungen)),IF(ISBLANK(INDEX(INDIRECT(BereichLeistungen),(ROW()-4),COLUMN())),"",INDEX(INDIRECT(BereichLeistungen),(ROW()-4),COLUMN())),"") -> #N/A | D8: =IF(ROW()-5<ROWS(INDIRECT(BereichLeistungen)),IF(ISBLANK(INDEX(INDIRECT(BereichLeistungen),(ROW()-4),COLUMN())),"",INDEX(INDIRECT(BereichLeistungen),(ROW()-4),COLUMN())),"") -> #N/A | E8: =IF(ROW()-5<ROWS(INDIRECT(BereichLeistungen)),IF(ISBLANK(INDEX(INDIRECT(BereichLeistungen),(ROW()-4),COLUMN())),"",INDEX(INDIRECT(BereichLeistungen),(ROW()-4),COLUMN())),"") -> #N/A | F8: =IF(ROW()-5<ROWS(INDIRECT(BereichLeistungen)),IF(ISBLANK(INDEX(INDIRECT(BereichLeistungen),(ROW()-4),COLUMN())),"",INDEX(INDIRECT(BereichLeistungen),(ROW()-4),COLUMN())),"") -> #N/A | G8: =IF(ROW()-5<ROWS(INDIRECT(BereichLeistungen)),IF(ISBLANK(INDEX(INDIRECT(BereichLeistungen),(ROW()-4),COLUMN())),"",INDEX(INDIRECT(BereichLeistungen),(ROW()-4),COLUMN())),"") -> #N/A | H8: =IF(ROW()-5<ROWS(INDIRECT(BereichLeistungen)),IF(ISBLANK(INDEX(INDIRECT(BereichLeistungen),(ROW()-4),COLUMN())),"",INDEX(INDIRECT(BereichLeistungen),(ROW()-4),COLUMN())),"") -> #N/A | ... AB8: =IF(ROW()-5<ROWS(INDIRECT(BereichLeistungen)),IF(ISBLANK(INDEX(INDIRECT(BereichLeistungen),(ROW()-4),COLUMN())),"",INDEX(INDIRECT(BereichLeistungen),(ROW()-4),COLUMN())),"") -> #N/A
A9: =IF(ROW()-5<ROWS(INDIRECT(BereichLeistungen)),IF(ISBLANK(INDEX(INDIRECT(BereichLeistungen),(ROW()-4),COLUMN())),"",INDEX(INDIRECT(BereichLeistungen),(ROW()-4),COLUMN())),"") -> #N/A | B9: =IF(ROW()-5<ROWS(INDIRECT(BereichLeistungen)),IF(ISBLANK(INDEX(INDIRECT(BereichLeistungen),(ROW()-4),COLUMN())),"",INDEX(INDIRECT(BereichLeistungen),(ROW()-4),COLUMN())),"") -> #N/A | C9: =IF(ROW()-5<ROWS(INDIRECT(BereichLeistungen)),IF(ISBLANK(INDEX(INDIRECT(BereichLeistungen),(ROW()-4),COLUMN())),"",INDEX(INDIRECT(BereichLeistungen),(ROW()-4),COLUMN())),"") -> #N/A | D9: =IF(ROW()-5<ROWS(INDIRECT(BereichLeistungen)),IF(ISBLANK(INDEX(INDIRECT(BereichLeistungen),(ROW()-4),COLUMN())),"",INDEX(INDIRECT(BereichLeistungen),(ROW()-4),COLUMN())),"") -> #N/A | E9: =IF(ROW()-5<ROWS(INDIRECT(BereichLeistungen)),IF(ISBLANK(INDEX(INDIRECT(BereichLeistungen),(ROW()-4),COLUMN())),"",INDEX(INDIRECT(BereichLeistungen),(ROW()-4),COLUMN())),"") -> #N/A | F9: =IF(ROW()-5<ROWS(INDIRECT(BereichLeistungen)),IF(ISBLANK(INDEX(INDIRECT(BereichLeistungen),(ROW()-4),COLUMN())),"",INDEX(INDIRECT(BereichLeistungen),(ROW()-4),COLUMN())),"") -> #N/A | G9: =IF(ROW()-5<ROWS(INDIRECT(BereichLeistungen)),IF(ISBLANK(INDEX(INDIRECT(BereichLeistungen),(ROW()-4),COLUMN())),"",INDEX(INDIRECT(BereichLeistungen),(ROW()-4),COLUMN())),"") -> #N/A | H9: =IF(ROW()-5<ROWS(INDIRECT(BereichLeistungen)),IF(ISBLANK(INDEX(INDIRECT(BereichLeistungen),(ROW()-4),COLUMN())),"",INDEX(INDIRECT(BereichLeistungen),(ROW()-4),COLUMN())),"") -> #N/A | ... AB9: =IF(ROW()-5<ROWS(INDIRECT(BereichLeistungen)),IF(ISBLANK(INDEX(INDIRECT(BereichLeistungen),(ROW()-4),COLUMN())),"",INDEX(INDIRECT(BereichLeistungen),(ROW()-4),COLUMN())),"") -> #N/A
A10: =IF(ROW()-5<ROWS(INDIRECT(BereichLeistungen)),IF(ISBLANK(INDEX(INDIRECT(BereichLeistungen),(ROW()-4),COLUMN())),"",INDEX(INDIRECT(BereichLeistungen),(ROW()-4),COLUMN())),"") -> #N/A | B10: =IF(ROW()-5<ROWS(INDIRECT(BereichLeistungen)),IF(ISBLANK(INDEX(INDIRECT(BereichLeistungen),(ROW()-4),COLUMN())),"",INDEX(INDIRECT(BereichLeistungen),(ROW()-4),COLUMN())),"") -> #N/A | C10: =IF(ROW()-5<ROWS(INDIRECT(BereichLeistungen)),IF(ISBLANK(INDEX(INDIRECT(BereichLeistungen),(ROW()-4),COLUMN())),"",INDEX(INDIRECT(BereichLeistungen),(ROW()-4),COLUMN())),"") -> #N/A | D10: =IF(ROW()-5<ROWS(INDIRECT(BereichLeistungen)),IF(ISBLANK(INDEX(INDIRECT(BereichLeistungen),(ROW()-4),COLUMN())),"",INDEX(INDIRECT(BereichLeistungen),(ROW()-4),COLUMN())),"") -> #N/A | E10: =IF(ROW()-5<ROWS(INDIRECT(BereichLeistungen)),IF(ISBLANK(INDEX(INDIRECT(BereichLeistungen),(ROW()-4),COLUMN())),"",INDEX(INDIRECT(BereichLeistungen),(ROW()-4),COLUMN())),"") -> #N/A | F10: =IF(ROW()-5<ROWS(INDIRECT(BereichLeistungen)),IF(ISBLANK(INDEX(INDIRECT(BereichLeistungen),(ROW()-4),COLUMN())),"",INDEX(INDIRECT(BereichLeistungen),(ROW()-4),COLUMN())),"") -> #N/A | G10: =IF(ROW()-5<ROWS(INDIRECT(BereichLeistungen)),IF(ISBLANK(INDEX(INDIRECT(BereichLeistungen),(ROW()-4),COLUMN())),"",INDEX(INDIRECT(BereichLeistungen),(ROW()-4),COLUMN())),"") -> #N/A | H10: =IF(ROW()-5<ROWS(INDIRECT(BereichLeistungen)),IF(ISBLANK(INDEX(INDIRECT(BereichLeistungen),(ROW()-4),COLUMN())),"",INDEX(INDIRECT(BereichLeistungen),(ROW()-4),COLUMN())),"") -> #N/A | ... AB10: =IF(ROW()-5<ROWS(INDIRECT(BereichLeistungen)),IF(ISBLANK(INDEX(INDIRECT(BereichLeistungen),(ROW()-4),COLUMN())),"",INDEX(INDIRECT(BereichLeistungen),(ROW()-4),COLUMN())),"") -> #N/A
A11: =IF(ROW()-5<ROWS(INDIRECT(BereichLeistungen)),IF(ISBLANK(INDEX(INDIRECT(BereichLeistungen),(ROW()-4),COLUMN())),"",INDEX(INDIRECT(BereichLeistungen),(ROW()-4),COLUMN())),"") -> #N/A | B11: =IF(ROW()-5<ROWS(INDIRECT(BereichLeistungen)),IF(ISBLANK(INDEX(INDIRECT(BereichLeistungen),(ROW()-4),COLUMN())),"",INDEX(INDIRECT(BereichLeistungen),(ROW()-4),COLUMN())),"") -> #N/A | C11: =IF(ROW()-5<ROWS(INDIRECT(BereichLeistungen)),IF(ISBLANK(INDEX(INDIRECT(BereichLeistungen),(ROW()-4),COLUMN())),"",INDEX(INDIRECT(BereichLeistungen),(ROW()-4),COLUMN())),"") -> #N/A | D11: =IF(ROW()-5<ROWS(INDIRECT(BereichLeistungen)),IF(ISBLANK(INDEX(INDIRECT(BereichLeistungen),(ROW()-4),COLUMN())),"",INDEX(INDIRECT(BereichLeistungen),(ROW()-4),COLUMN())),"") -> #N/A | E11: =IF(ROW()-5<ROWS(INDIRECT(BereichLeistungen)),IF(ISBLANK(INDEX(INDIRECT(BereichLeistungen),(ROW()-4),COLUMN())),"",INDEX(INDIRECT(BereichLeistungen),(ROW()-4),COLUMN())),"") -> #N/A | F11: =IF(ROW()-5<ROWS(INDIRECT(BereichLeistungen)),IF(ISBLANK(INDEX(INDIRECT(BereichLeistungen),(ROW()-4),COLUMN())),"",INDEX(INDIRECT(BereichLeistungen),(ROW()-4),COLUMN())),"") -> #N/A | G11: =IF(ROW()-5<ROWS(INDIRECT(BereichLeistungen)),IF(ISBLANK(INDEX(INDIRECT(BereichLeistungen),(ROW()-4),COLUMN())),"",INDEX(INDIRECT(BereichLeistungen),(ROW()-4),COLUMN())),"") -> #N/A | H11: =IF(ROW()-5<ROWS(INDIRECT(BereichLeistungen)),IF(ISBLANK(INDEX(INDIRECT(BereichLeistungen),(ROW()-4),COLUMN())),"",INDEX(INDIRECT(BereichLeistungen),(ROW()-4),COLUMN())),"") -> #N/A | ... AB11: =IF(ROW()-5<ROWS(INDIRECT(BereichLeistungen)),IF(ISBLANK(INDEX(INDIRECT(BereichLeistungen),(ROW()-4),COLUMN())),"",INDEX(INDIRECT(BereichLeistungen),(ROW()-4),COLUMN())),"") -> #N/A
A12: =IF(ROW()-5<ROWS(INDIRECT(BereichLeistungen)),IF(ISBLANK(INDEX(INDIRECT(BereichLeistungen),(ROW()-4),COLUMN())),"",INDEX(INDIRECT(BereichLeistungen),(ROW()-4),COLUMN())),"") -> #N/A | B12: =IF(ROW()-5<ROWS(INDIRECT(BereichLeistungen)),IF(ISBLANK(INDEX(INDIRECT(BereichLeistungen),(ROW()-4),COLUMN())),"",INDEX(INDIRECT(BereichLeistungen),(ROW()-4),COLUMN())),"") -> #N/A | C12: =IF(ROW()-5<ROWS(INDIRECT(BereichLeistungen)),IF(ISBLANK(INDEX(INDIRECT(BereichLeistungen),(ROW()-4),COLUMN())),"",INDEX(INDIRECT(BereichLeistungen),(ROW()-4),COLUMN())),"") -> #N/A | D12: =IF(ROW()-5<ROWS(INDIRECT(BereichLeistungen)),IF(ISBLANK(INDEX(INDIRECT(BereichLeistungen),(ROW()-4),COLUMN())),"",INDEX(INDIRECT(BereichLeistungen),(ROW()-4),COLUMN())),"") -> #N/A | E12: =IF(ROW()-5<ROWS(INDIRECT(BereichLeistungen)),IF(ISBLANK(INDEX(INDIRECT(BereichLeistungen),(ROW()-4),COLUMN())),"",INDEX(INDIRECT(BereichLeistungen),(ROW()-4),COLUMN())),"") -> #N/A | F12: =IF(ROW()-5<ROWS(INDIRECT(BereichLeistungen)),IF(ISBLANK(INDEX(INDIRECT(BereichLeistungen),(ROW()-4),COLUMN())),"",INDEX(INDIRECT(BereichLeistungen),(ROW()-4),COLUMN())),"") -> #N/A | G12: =IF(ROW()-5<ROWS(INDIRECT(BereichLeistungen)),IF(ISBLANK(INDEX(INDIRECT(BereichLeistungen),(ROW()-4),COLUMN())),"",INDEX(INDIRECT(BereichLeistungen),(ROW()-4),COLUMN())),"") -> #N/A | H12: =IF(ROW()-5<ROWS(INDIRECT(BereichLeistungen)),IF(ISBLANK(INDEX(INDIRECT(BereichLeistungen),(ROW()-4),COLUMN())),"",INDEX(INDIRECT(BereichLeistungen),(ROW()-4),COLUMN())),"") -> #N/A | ... AB12: =IF(ROW()-5<ROWS(INDIRECT(BereichLeistungen)),IF(ISBLANK(INDEX(INDIRECT(BereichLeistungen),(ROW()-4),COLUMN())),"",INDEX(INDIRECT(BereichLeistungen),(ROW()-4),COLUMN())),"") -> #N/A
A13: =IF(ROW()-5<ROWS(INDIRECT(BereichLeistungen)),IF(ISBLANK(INDEX(INDIRECT(BereichLeistungen),(ROW()-4),COLUMN())),"",INDEX(INDIRECT(BereichLeistungen),(ROW()-4),COLUMN())),"") -> #N/A | B13: =IF(ROW()-5<ROWS(INDIRECT(BereichLeistungen)),IF(ISBLANK(INDEX(INDIRECT(BereichLeistungen),(ROW()-4),COLUMN())),"",INDEX(INDIRECT(BereichLeistungen),(ROW()-4),COLUMN())),"") -> #N/A | C13: =IF(ROW()-5<ROWS(INDIRECT(BereichLeistungen)),IF(ISBLANK(INDEX(INDIRECT(BereichLeistungen),(ROW()-4),COLUMN())),"",INDEX(INDIRECT(BereichLeistungen),(ROW()-4),COLUMN())),"") -> #N/A | D13: =IF(ROW()-5<ROWS(INDIRECT(BereichLeistungen)),IF(ISBLANK(INDEX(INDIRECT(BereichLeistungen),(ROW()-4),COLUMN())),"",INDEX(INDIRECT(BereichLeistungen),(ROW()-4),COLUMN())),"") -> #N/A | E13: =IF(ROW()-5<ROWS(INDIRECT(BereichLeistungen)),IF(ISBLANK(INDEX(INDIRECT(BereichLeistungen),(ROW()-4),COLUMN())),"",INDEX(INDIRECT(BereichLeistungen),(ROW()-4),COLUMN())),"") -> #N/A | F13: =IF(ROW()-5<ROWS(INDIRECT(BereichLeistungen)),IF(ISBLANK(INDEX(INDIRECT(BereichLeistungen),(ROW()-4),COLUMN())),"",INDEX(INDIRECT(BereichLeistungen),(ROW()-4),COLUMN())),"") -> #N/A | G13: =IF(ROW()-5<ROWS(INDIRECT(BereichLeistungen)),IF(ISBLANK(INDEX(INDIRECT(BereichLeistungen),(ROW()-4),COLUMN())),"",INDEX(INDIRECT(BereichLeistungen),(ROW()-4),COLUMN())),"") -> #N/A | H13: =IF(ROW()-5<ROWS(INDIRECT(BereichLeistungen)),IF(ISBLANK(INDEX(INDIRECT(BereichLeistungen),(ROW()-4),COLUMN())),"",INDEX(INDIRECT(BereichLeistungen),(ROW()-4),COLUMN())),"") -> #N/A | ... AB13: =IF(ROW()-5<ROWS(INDIRECT(BereichLeistungen)),IF(ISBLANK(INDEX(INDIRECT(BereichLeistungen),(ROW()-4),COLUMN())),"",INDEX(INDIRECT(BereichLeistungen),(ROW()-4),COLUMN())),"") -> #N/A
A14: =IF(ROW()-5<ROWS(INDIRECT(BereichLeistungen)),IF(ISBLANK(INDEX(INDIRECT(BereichLeistungen),(ROW()-4),COLUMN())),"",INDEX(INDIRECT(BereichLeistungen),(ROW()-4),COLUMN())),"") -> #N/A | B14: =IF(ROW()-5<ROWS(INDIRECT(BereichLeistungen)),IF(ISBLANK(INDEX(INDIRECT(BereichLeistungen),(ROW()-4),COLUMN())),"",INDEX(INDIRECT(BereichLeistungen),(ROW()-4),COLUMN())),"") -> #N/A | C14: =IF(ROW()-5<ROWS(INDIRECT(BereichLeistungen)),IF(ISBLANK(INDEX(INDIRECT(BereichLeistungen),(ROW()-4),COLUMN())),"",INDEX(INDIRECT(BereichLeistungen),(ROW()-4),COLUMN())),"") -> #N/A | D14: =IF(ROW()-5<ROWS(INDIRECT(BereichLeistungen)),IF(ISBLANK(INDEX(INDIRECT(BereichLeistungen),(ROW()-4),COLUMN())),"",INDEX(INDIRECT(BereichLeistungen),(ROW()-4),COLUMN())),"") -> #N/A | E14: =IF(ROW()-5<ROWS(INDIRECT(BereichLeistungen)),IF(ISBLANK(INDEX(INDIRECT(BereichLeistungen),(ROW()-4),COLUMN())),"",INDEX(INDIRECT(BereichLeistungen),(ROW()-4),COLUMN())),"") -> #N/A | F14: =IF(ROW()-5<ROWS(INDIRECT(BereichLeistungen)),IF(ISBLANK(INDEX(INDIRECT(BereichLeistungen),(ROW()-4),COLUMN())),"",INDEX(INDIRECT(BereichLeistungen),(ROW()-4),COLUMN())),"") -> #N/A | G14: =IF(ROW()-5<ROWS(INDIRECT(BereichLeistungen)),IF(ISBLANK(INDEX(INDIRECT(BereichLeistungen),(ROW()-4),COLUMN())),"",INDEX(INDIRECT(BereichLeistungen),(ROW()-4),COLUMN())),"") -> #N/A | H14: =IF(ROW()-5<ROWS(INDIRECT(BereichLeistungen)),IF(ISBLANK(INDEX(INDIRECT(BereichLeistungen),(ROW()-4),COLUMN())),"",INDEX(INDIRECT(BereichLeistungen),(ROW()-4),COLUMN())),"") -> #N/A | ... AB14: =IF(ROW()-5<ROWS(INDIRECT(BereichLeistungen)),IF(ISBLANK(INDEX(INDIRECT(BereichLeistungen),(ROW()-4),COLUMN())),"",INDEX(INDIRECT(BereichLeistungen),(ROW()-4),COLUMN())),"") -> #N/A
A15: =IF(ROW()-5<ROWS(INDIRECT(BereichLeistungen)),IF(ISBLANK(INDEX(INDIRECT(BereichLeistungen),(ROW()-4),COLUMN())),"",INDEX(INDIRECT(BereichLeistungen),(ROW()-4),COLUMN())),"") -> #N/A | B15: =IF(ROW()-5<ROWS(INDIRECT(BereichLeistungen)),IF(ISBLANK(INDEX(INDIRECT(BereichLeistungen),(ROW()-4),COLUMN())),"",INDEX(INDIRECT(BereichLeistungen),(ROW()-4),COLUMN())),"") -> #N/A | C15: =IF(ROW()-5<ROWS(INDIRECT(BereichLeistungen)),IF(ISBLANK(INDEX(INDIRECT(BereichLeistungen),(ROW()-4),COLUMN())),"",INDEX(INDIRECT(BereichLeistungen),(ROW()-4),COLUMN())),"") -> #N/A | D15: =IF(ROW()-5<ROWS(INDIRECT(BereichLeistungen)),IF(ISBLANK(INDEX(INDIRECT(BereichLeistungen),(ROW()-4),COLUMN())),"",INDEX(INDIRECT(BereichLeistungen),(ROW()-4),COLUMN())),"") -> #N/A | E15: =IF(ROW()-5<ROWS(INDIRECT(BereichLeistungen)),IF(ISBLANK(INDEX(INDIRECT(BereichLeistungen),(ROW()-4),COLUMN())),"",INDEX(INDIRECT(BereichLeistungen),(ROW()-4),COLUMN())),"") -> #N/A | F15: =IF(ROW()-5<ROWS(INDIRECT(BereichLeistungen)),IF(ISBLANK(INDEX(INDIRECT(BereichLeistungen),(ROW()-4),COLUMN())),"",INDEX(INDIRECT(BereichLeistungen),(ROW()-4),COLUMN())),"") -> #N/A | G15: =IF(ROW()-5<ROWS(INDIRECT(BereichLeistungen)),IF(ISBLANK(INDEX(INDIRECT(BereichLeistungen),(ROW()-4),COLUMN())),"",INDEX(INDIRECT(BereichLeistungen),(ROW()-4),COLUMN())),"") -> #N/A | H15: =IF(ROW()-5<ROWS(INDIRECT(BereichLeistungen)),IF(ISBLANK(INDEX(INDIRECT(BereichLeistungen),(ROW()-4),COLUMN())),"",INDEX(INDIRECT(BereichLeistungen),(ROW()-4),COLUMN())),"") -> #N/A | ... AB15: =IF(ROW()-5<ROWS(INDIRECT(BereichLeistungen)),IF(ISBLANK(INDEX(INDIRECT(BereichLeistungen),(ROW()-4),COLUMN())),"",INDEX(INDIRECT(BereichLeistungen),(ROW()-4),COLUMN())),"") -> #N/A
A16: =IF(ROW()-5<ROWS(INDIRECT(BereichLeistungen)),IF(ISBLANK(INDEX(INDIRECT(BereichLeistungen),(ROW()-4),COLUMN())),"",INDEX(INDIRECT(BereichLeistungen),(ROW()-4),COLUMN())),"") -> #N/A | B16: =IF(ROW()-5<ROWS(INDIRECT(BereichLeistungen)),IF(ISBLANK(INDEX(INDIRECT(BereichLeistungen),(ROW()-4),COLUMN())),"",INDEX(INDIRECT(BereichLeistungen),(ROW()-4),COLUMN())),"") -> #N/A | C16: =IF(ROW()-5<ROWS(INDIRECT(BereichLeistungen)),IF(ISBLANK(INDEX(INDIRECT(BereichLeistungen),(ROW()-4),COLUMN())),"",INDEX(INDIRECT(BereichLeistungen),(ROW()-4),COLUMN())),"") -> #N/A | D16: =IF(ROW()-5<ROWS(INDIRECT(BereichLeistungen)),IF(ISBLANK(INDEX(INDIRECT(BereichLeistungen),(ROW()-4),COLUMN())),"",INDEX(INDIRECT(BereichLeistungen),(ROW()-4),COLUMN())),"") -> #N/A | E16: =IF(ROW()-5<ROWS(INDIRECT(BereichLeistungen)),IF(ISBLANK(INDEX(INDIRECT(BereichLeistungen),(ROW()-4),COLUMN())),"",INDEX(INDIRECT(BereichLeistungen),(ROW()-4),COLUMN())),"") -> #N/A | F16: =IF(ROW()-5<ROWS(INDIRECT(BereichLeistungen)),IF(ISBLANK(INDEX(INDIRECT(BereichLeistungen),(ROW()-4),COLUMN())),"",INDEX(INDIRECT(BereichLeistungen),(ROW()-4),COLUMN())),"") -> #N/A | G16: =IF(ROW()-5<ROWS(INDIRECT(BereichLeistungen)),IF(ISBLANK(INDEX(INDIRECT(BereichLeistungen),(ROW()-4),COLUMN())),"",INDEX(INDIRECT(BereichLeistungen),(ROW()-4),COLUMN())),"") -> #N/A | H16: =IF(ROW()-5<ROWS(INDIRECT(BereichLeistungen)),IF(ISBLANK(INDEX(INDIRECT(BereichLeistungen),(ROW()-4),COLUMN())),"",INDEX(INDIRECT(BereichLeistungen),(ROW()-4),COLUMN())),"") -> #N/A | ... AB16: =IF(ROW()-5<ROWS(INDIRECT(BereichLeistungen)),IF(ISBLANK(INDEX(INDIRECT(BereichLeistungen),(ROW()-4),COLUMN())),"",INDEX(INDIRECT(BereichLeistungen),(ROW()-4),COLUMN())),"") -> #N/A
A17: =IF(ROW()-5<ROWS(INDIRECT(BereichLeistungen)),IF(ISBLANK(INDEX(INDIRECT(BereichLeistungen),(ROW()-4),COLUMN())),"",INDEX(INDIRECT(BereichLeistungen),(ROW()-4),COLUMN())),"") -> #N/A | B17: =IF(ROW()-5<ROWS(INDIRECT(BereichLeistungen)),IF(ISBLANK(INDEX(INDIRECT(BereichLeistungen),(ROW()-4),COLUMN())),"",INDEX(INDIRECT(BereichLeistungen),(ROW()-4),COLUMN())),"") -> #N/A | C17: =IF(ROW()-5<ROWS(INDIRECT(BereichLeistungen)),IF(ISBLANK(INDEX(INDIRECT(BereichLeistungen),(ROW()-4),COLUMN())),"",INDEX(INDIRECT(BereichLeistungen),(ROW()-4),COLUMN())),"") -> #N/A | D17: =IF(ROW()-5<ROWS(INDIRECT(BereichLeistungen)),IF(ISBLANK(INDEX(INDIRECT(BereichLeistungen),(ROW()-4),COLUMN())),"",INDEX(INDIRECT(BereichLeistungen),(ROW()-4),COLUMN())),"") -> #N/A | E17: =IF(ROW()-5<ROWS(INDIRECT(BereichLeistungen)),IF(ISBLANK(INDEX(INDIRECT(BereichLeistungen),(ROW()-4),COLUMN())),"",INDEX(INDIRECT(BereichLeistungen),(ROW()-4),COLUMN())),"") -> #N/A | F17: =IF(ROW()-5<ROWS(INDIRECT(BereichLeistungen)),IF(ISBLANK(INDEX(INDIRECT(BereichLeistungen),(ROW()-4),COLUMN())),"",INDEX(INDIRECT(BereichLeistungen),(ROW()-4),COLUMN())),"") -> #N/A | G17: =IF(ROW()-5<ROWS(INDIRECT(BereichLeistungen)),IF(ISBLANK(INDEX(INDIRECT(BereichLeistungen),(ROW()-4),COLUMN())),"",INDEX(INDIRECT(BereichLeistungen),(ROW()-4),COLUMN())),"") -> #N/A | H17: =IF(ROW()-5<ROWS(INDIRECT(BereichLeistungen)),IF(ISBLANK(INDEX(INDIRECT(BereichLeistungen),(ROW()-4),COLUMN())),"",INDEX(INDIRECT(BereichLeistungen),(ROW()-4),COLUMN())),"") -> #N/A | ... AB17: =IF(ROW()-5<ROWS(INDIRECT(BereichLeistungen)),IF(ISBLANK(INDEX(INDIRECT(BereichLeistungen),(ROW()-4),COLUMN())),"",INDEX(INDIRECT(BereichLeistungen),(ROW()-4),COLUMN())),"") -> #N/A
... A76: =IF(ROW()-5<ROWS(INDIRECT(BereichLeistungen)),IF(ISBLANK(INDEX(INDIRECT(BereichLeistungen),(ROW()-4),COLUMN())),"",INDEX(INDIRECT(BereichLeistungen),(ROW()-4),COLUMN())),"") -> #N/A | B76: =IF(ROW()-5<ROWS(INDIRECT(BereichLeistungen)),IF(ISBLANK(INDEX(INDIRECT(BereichLeistungen),(ROW()-4),COLUMN())),"",INDEX(INDIRECT(BereichLeistungen),(ROW()-4),COLUMN())),"") -> #N/A | C76: =IF(ROW()-5<ROWS(INDIRECT(BereichLeistungen)),IF(ISBLANK(INDEX(INDIRECT(BereichLeistungen),(ROW()-4),COLUMN())),"",INDEX(INDIRECT(BereichLeistungen),(ROW()-4),COLUMN())),"") -> #N/A | D76: =IF(ROW()-5<ROWS(INDIRECT(BereichLeistungen)),IF(ISBLANK(INDEX(INDIRECT(BereichLeistungen),(ROW()-4),COLUMN())),"",INDEX(INDIRECT(BereichLeistungen),(ROW()-4),COLUMN())),"") -> #N/A | E76: =IF(ROW()-5<ROWS(INDIRECT(BereichLeistungen)),IF(ISBLANK(INDEX(INDIRECT(BereichLeistungen),(ROW()-4),COLUMN())),"",INDEX(INDIRECT(BereichLeistungen),(ROW()-4),COLUMN())),"") -> #N/A | F76: =IF(ROW()-5<ROWS(INDIRECT(BereichLeistungen)),IF(ISBLANK(INDEX(INDIRECT(BereichLeistungen),(ROW()-4),COLUMN())),"",INDEX(INDIRECT(BereichLeistungen),(ROW()-4),COLUMN())),"") -> #N/A | G76: =IF(ROW()-5<ROWS(INDIRECT(BereichLeistungen)),IF(ISBLANK(INDEX(INDIRECT(BereichLeistungen),(ROW()-4),COLUMN())),"",INDEX(INDIRECT(BereichLeistungen),(ROW()-4),COLUMN())),"") -> #N/A | H76: =IF(ROW()-5<ROWS(INDIRECT(BereichLeistungen)),IF(ISBLANK(INDEX(INDIRECT(BereichLeistungen),(ROW()-4),COLUMN())),"",INDEX(INDIRECT(BereichLeistungen),(ROW()-4),COLUMN())),"") -> #N/A | ... AB76: =IF(ROW()-5<ROWS(INDIRECT(BereichLeistungen)),IF(ISBLANK(INDEX(INDIRECT(BereichLeistungen),(ROW()-4),COLUMN())),"",INDEX(INDIRECT(BereichLeistungen),(ROW()-4),COLUMN())),"") -> #N/A

Sheet Leistungen (S.2)
A1: =CONCATENATE("Leistungsübersicht für Kurs: ", INDEX(CSV!$B$1:$B$1071,ZeileKursbezeichnung)) -> #N/A
A2: =CONCATENATE("Jahrgang: ", INDEX(CSV!$B$1:$B$1071,ZeileJahrgang)) -> #N/A
A3: =IF(ISBLANK(INDEX(CSV!$B$1:$B$1071,ZeileLehrer)),"",INDEX(CSV!$B$1:$B$1071,ZeileLehrer)) -> #N/A
A5: =IF(ISBLANK(INDEX(INDIRECT(BereichLeistungen),(ROW()-4),COLUMN()) ),"",INDEX(INDIRECT(BereichLeistungen),(ROW()-4),COLUMN())) -> #N/A | B5: =IF(ISBLANK(INDEX(INDIRECT(BereichLeistungen),(ROW()-4),COLUMN()) ),"",INDEX(INDIRECT(BereichLeistungen),(ROW()-4),COLUMN())) -> #N/A | C5: =IF(ISBLANK(INDEX(INDIRECT(BereichLeistungen),(ROW()-4),COLUMN()+26) ),"",INDEX(INDIRECT(BereichLeistungen),(ROW()-4),COLUMN()+26)) -> #N/A | D5: =IF(ISBLANK(INDEX(INDIRECT(BereichLeistungen),(ROW()-4),COLUMN()+26) ),"",INDEX(INDIRECT(BereichLeistungen),(ROW()-4),COLUMN()+26)) -> #N/A | E5: =IF(ISBLANK(INDEX(INDIRECT(BereichLeistungen),(ROW()-4),COLUMN()+26) ),"",INDEX(INDIRECT(BereichLeistungen),(ROW()-4),COLUMN()+26)) -> #N/A | F5: =IF(ISBLANK(INDEX(INDIRECT(BereichLeistungen),(ROW()-4),COLUMN()+26) ),"",INDEX(INDIRECT(BereichLeistungen),(ROW()-4),COLUMN()+26)) -> #N/A | G5: =IF(ISBLANK(INDEX(INDIRECT(BereichLeistungen),(ROW()-4),COLUMN()+26) ),"",INDEX(INDIRECT(BereichLeistungen),(ROW()-4),COLUMN()+26)) -> #N/A | H5: =IF(ISBLANK(INDEX(INDIRECT(BereichLeistungen),(ROW()-4),COLUMN()+26) ),"",INDEX(INDIRECT(BereichLeistungen),(ROW()-4),COLUMN()+26)) -> #N/A | I5: =IF(ISBLANK(INDEX(INDIRECT(BereichLeistungen),(ROW()-4),COLUMN()+26) ),"",INDEX(INDIRECT(BereichLeistungen),(ROW()-4),COLUMN()+26)) -> #N/A | J5: =IF(ISBLANK(INDEX(INDIRECT(BereichLeistungen),(ROW()-4),COLUMN()+26) ),"",INDEX(INDIRECT(BereichLeistungen),(ROW()-4),COLUMN()+26)) -> #N/A | ... AB5: =IF(ISBLANK(INDEX(INDIRECT(BereichLeistungen),(ROW()-4),COLUMN()+26) ),"",INDEX(INDIRECT(BereichLeistungen),(ROW()-4),COLUMN()+26)) -> #N/A
A6: =IF(ROW()-5<ROWS(INDIRECT(BereichLeistungen)),IF(ISBLANK(INDEX(INDIRECT(BereichLeistungen),(ROW()-4),COLUMN())),"",INDEX(INDIRECT(BereichLeistungen),(ROW()-4),COLUMN())),"") -> #N/A | B6: =IF(ROW()-5<ROWS(INDIRECT(BereichLeistungen)),IF(ISBLANK(INDEX(INDIRECT(BereichLeistungen),(ROW()-4),COLUMN())),"",INDEX(INDIRECT(BereichLeistungen),(ROW()-4),COLUMN())),"") -> #N/A | C6: =IF(ROW()-5<ROWS(INDIRECT(BereichLeistungen)),IF(ISBLANK(INDEX(INDIRECT(BereichLeistungen),(ROW()-4),COLUMN()+26)),"",INDEX(INDIRECT(BereichLeistungen),(ROW()-4),COLUMN()+26)),"") -> #N/A | D6: =IF(ROW()-5<ROWS(INDIRECT(BereichLeistungen)),IF(ISBLANK(INDEX(INDIRECT(BereichLeistungen),(ROW()-4),COLUMN()+26)),"",INDEX(INDIRECT(BereichLeistungen),(ROW()-4),COLUMN()+26)),"") -> #N/A | E6: =IF(ROW()-5<ROWS(INDIRECT(BereichLeistungen)),IF(ISBLANK(INDEX(INDIRECT(BereichLeistungen),(ROW()-4),COLUMN()+26)),"",INDEX(INDIRECT(BereichLeistungen),(ROW()-4),COLUMN()+26)),"") -> #N/A | F6: =IF(ROW()-5<ROWS(INDIRECT(BereichLeistungen)),IF(ISBLANK(INDEX(INDIRECT(BereichLeistungen),(ROW()-4),COLUMN()+26)),"",INDEX(INDIRECT(BereichLeistungen),(ROW()-4),COLUMN()+26)),"") -> #N/A | G6: =IF(ROW()-5<ROWS(INDIRECT(BereichLeistungen)),IF(ISBLANK(INDEX(INDIRECT(BereichLeistungen),(ROW()-4),COLUMN()+26)),"",INDEX(INDIRECT(BereichLeistungen),(ROW()-4),COLUMN()+26)),"") -> #N/A | H6: =IF(ROW()-5<ROWS(INDIRECT(BereichLeistungen)),IF(ISBLANK(INDEX(INDIRECT(BereichLeistungen),(ROW()-4),COLUMN()+26)),"",INDEX(INDIRECT(BereichLeistungen),(ROW()-4),COLUMN()+26)),"") -> #N/A | I6: =IF(ROW()-5<ROWS(INDIRECT(BereichLeistungen)),IF(ISBLANK(INDEX(INDIRECT(BereichLeistungen),(ROW()-4),COLUMN()+26)),"",INDEX(INDIRECT(BereichLeistungen),(ROW()-4),COLUMN()+26)),"") -> #N/A | J6: =IF(ROW()-5<ROWS(INDIRECT(BereichLeistungen)),IF(ISBLANK(INDEX(INDIRECT(BereichLeistungen),(ROW()-4),COLUMN()+26)),"",INDEX(INDIRECT(BereichLeistungen),(ROW()-4),COLUMN()+26)),"") -> #N/A | ... AB6: =IF(ROW()-5<ROWS(INDIRECT(BereichLeistungen)),IF(ISBLANK(INDEX(INDIRECT(BereichLeistungen),(ROW()-4),COLUMN()+26)),"",INDEX(INDIRECT(BereichLeistungen),(ROW()-4),COLUMN()+26)),"") -> #N/A
A7: =IF(ROW()-5<ROWS(INDIRECT(BereichLeistungen)),IF(ISBLANK(INDEX(INDIRECT(BereichLeistungen),(ROW()-4),COLUMN())),"",INDEX(INDIRECT(BereichLeistungen),(ROW()-4),COLUMN())),"") -> #N/A | B7: =IF(ROW()-5<ROWS(INDIRECT(BereichLeistungen)),IF(ISBLANK(INDEX(INDIRECT(BereichLeistungen),(ROW()-4),COLUMN())),"",INDEX(INDIRECT(BereichLeistungen),(ROW()-4),COLUMN())),"") -> #N/A | C7: =IF(ROW()-5<ROWS(INDIRECT(BereichLeistungen)),IF(ISBLANK(INDEX(INDIRECT(BereichLeistungen),(ROW()-4),COLUMN()+26)),"",INDEX(INDIRECT(BereichLeistungen),(ROW()-4),COLUMN()+26)),"") -> #N/A | D7: =IF(ROW()-5<ROWS(INDIRECT(BereichLeistungen)),IF(ISBLANK(INDEX(INDIRECT(BereichLeistungen),(ROW()-4),COLUMN()+26)),"",INDEX(INDIRECT(BereichLeistungen),(ROW()-4),COLUMN()+26)),"") -> #N/A | E7: =IF(ROW()-5<ROWS(INDIRECT(BereichLeistungen)),IF(ISBLANK(INDEX(INDIRECT(BereichLeistungen),(ROW()-4),COLUMN()+26)),"",INDEX(INDIRECT(BereichLeistungen),(ROW()-4),COLUMN()+26)),"") -> #N/A | F7: =IF(ROW()-5<ROWS(INDIRECT(BereichLeistungen)),IF(ISBLANK(INDEX(INDIRECT(BereichLeistungen),(ROW()-4),COLUMN()+26)),"",INDEX(INDIRECT(BereichLeistungen),(ROW()-4),COLUMN()+26)),"") -> #N/A | G7: =IF(ROW()-5<ROWS(INDIRECT(BereichLeistungen)),IF(ISBLANK(INDEX(INDIRECT(BereichLeistungen),(ROW()-4),COLUMN()+26)),"",INDEX(INDIRECT(BereichLeistungen),(ROW()-4),COLUMN()+26)),"") -> #N/A | H7: =IF(ROW()-5<ROWS(INDIRECT(BereichLeistungen)),IF(ISBLANK(INDEX(INDIRECT(BereichLeistungen),(ROW()-4),COLUMN()+26)),"",INDEX(INDIRECT(BereichLeistungen),(ROW()-4),COLUMN()+26)),"") -> #N/A | I7: =IF(ROW()-5<ROWS(INDIRECT(BereichLeistungen)),IF(ISBLANK(INDEX(INDIRECT(BereichLeistungen),(ROW()-4),COLUMN()+26)),"",INDEX(INDIRECT(BereichLeistungen),(ROW()-4),COLUMN()+26)),"") -> #N/A | J7: =IF(ROW()-5<ROWS(INDIRECT(BereichLeistungen)),IF(ISBLANK(INDEX(INDIRECT(BereichLeistungen),(ROW()-4),COLUMN()+26)),"",INDEX(INDIRECT(BereichLeistungen),(ROW()-4),COLUMN()+26)),"") -> #N/A | ... AB7: =IF(ROW()-5<ROWS(INDIRECT(BereichLeistungen)),IF(ISBLANK(INDEX(INDIRECT(BereichLeistungen),(ROW()-4),COLUMN()+26)),"",INDEX(INDIRECT(BereichLeistungen),(ROW()-4),COLUMN()+26)),"") -> #N/A
A8: =IF(ROW()-5<ROWS(INDIRECT(BereichLeistungen)),IF(ISBLANK(INDEX(INDIRECT(BereichLeistungen),(ROW()-4),COLUMN())),"",INDEX(INDIRECT(BereichLeistungen),(ROW()-4),COLUMN())),"") -> #N/A | B8: =IF(ROW()-5<ROWS(INDIRECT(BereichLeistungen)),IF(ISBLANK(INDEX(INDIRECT(BereichLeistungen),(ROW()-4),COLUMN())),"",INDEX(INDIRECT(BereichLeistungen),(ROW()-4),COLUMN())),"") -> #N/A | C8: =IF(ROW()-5<ROWS(INDIRECT(BereichLeistungen)),IF(ISBLANK(INDEX(INDIRECT(BereichLeistungen),(ROW()-4),COLUMN()+26)),"",INDEX(INDIRECT(BereichLeistungen),(ROW()-4),COLUMN()+26)),"") -> #N/A | D8: =IF(ROW()-5<ROWS(INDIRECT(BereichLeistungen)),IF(ISBLANK(INDEX(INDIRECT(BereichLeistungen),(ROW()-4),COLUMN()+26)),"",INDEX(INDIRECT(BereichLeistungen),(ROW()-4),COLUMN()+26)),"") -> #N/A | E8: =IF(ROW()-5<ROWS(INDIRECT(BereichLeistungen)),IF(ISBLANK(INDEX(INDIRECT(BereichLeistungen),(ROW()-4),COLUMN()+26)),"",INDEX(INDIRECT(BereichLeistungen),(ROW()-4),COLUMN()+26)),"") -> #N/A | F8: =IF(ROW()-5<ROWS(INDIRECT(BereichLeistungen)),IF(ISBLANK(INDEX(INDIRECT(BereichLeistungen),(ROW()-4),COLUMN()+26)),"",INDEX(INDIRECT(BereichLeistungen),(ROW()-4),COLUMN()+26)),"") -> #N/A | G8: =IF(ROW()-5<ROWS(INDIRECT(BereichLeistungen)),IF(ISBLANK(INDEX(INDIRECT(BereichLeistungen),(ROW()-4),COLUMN()+26)),"",INDEX(INDIRECT(BereichLeistungen),(ROW()-4),COLUMN()+26)),"") -> #N/A | H8: =IF(ROW()-5<ROWS(INDIRECT(BereichLeistungen)),IF(ISBLANK(INDEX(INDIRECT(BereichLeistungen),(ROW()-4),COLUMN()+26)),"",INDEX(INDIRECT(BereichLeistungen),(ROW()-4),COLUMN()+26)),"") -> #N/A | I8: =IF(ROW()-5<ROWS(INDIRECT(BereichLeistungen)),IF(ISBLANK(INDEX(INDIRECT(BereichLeistungen),(ROW()-4),COLUMN()+26)),"",INDEX(INDIRECT(BereichLeistungen),(ROW()-4),COLUMN()+26)),"") -> #N/A | J8: =IF(ROW()-5<ROWS(INDIRECT(BereichLeistungen)),IF(ISBLANK(INDEX(INDIRECT(BereichLeistungen),(ROW()-4),COLUMN()+26)),"",INDEX(INDIRECT(BereichLeistungen),(ROW()-4),COLUMN()+26)),"") -> #N/A | ... AB8: =IF(ROW()-5<ROWS(INDIRECT(BereichLeistungen)),IF(ISBLANK(INDEX(INDIRECT(BereichLeistungen),(ROW()-4),COLUMN()+26)),"",INDEX(INDIRECT(BereichLeistungen),(ROW()-4),COLUMN()+26)),"") -> #N/A
A9: =IF(ROW()-5<ROWS(INDIRECT(BereichLeistungen)),IF(ISBLANK(INDEX(INDIRECT(BereichLeistungen),(ROW()-4),COLUMN())),"",INDEX(INDIRECT(BereichLeistungen),(ROW()-4),COLUMN())),"") -> #N/A | B9: =IF(ROW()-5<ROWS(INDIRECT(BereichLeistungen)),IF(ISBLANK(INDEX(INDIRECT(BereichLeistungen),(ROW()-4),COLUMN())),"",INDEX(INDIRECT(BereichLeistungen),(ROW()-4),COLUMN())),"") -> #N/A | C9: =IF(ROW()-5<ROWS(INDIRECT(BereichLeistungen)),IF(ISBLANK(INDEX(INDIRECT(BereichLeistungen),(ROW()-4),COLUMN()+26)),"",INDEX(INDIRECT(BereichLeistungen),(ROW()-4),COLUMN()+26)),"") -> #N/A | D9: =IF(ROW()-5<ROWS(INDIRECT(BereichLeistungen)),IF(ISBLANK(INDEX(INDIRECT(BereichLeistungen),(ROW()-4),COLUMN()+26)),"",INDEX(INDIRECT(BereichLeistungen),(ROW()-4),COLUMN()+26)),"") -> #N/A | E9: =IF(ROW()-5<ROWS(INDIRECT(BereichLeistungen)),IF(ISBLANK(INDEX(INDIRECT(BereichLeistungen),(ROW()-4),COLUMN()+26)),"",INDEX(INDIRECT(BereichLeistungen),(ROW()-4),COLUMN()+26)),"") -> #N/A | F9: =IF(ROW()-5<ROWS(INDIRECT(BereichLeistungen)),IF(ISBLANK(INDEX(INDIRECT(BereichLeistungen),(ROW()-4),COLUMN()+26)),"",INDEX(INDIRECT(BereichLeistungen),(ROW()-4),COLUMN()+26)),"") -> #N/A | G9: =IF(ROW()-5<ROWS(INDIRECT(BereichLeistungen)),IF(ISBLANK(INDEX(INDIRECT(BereichLeistungen),(ROW()-4),COLUMN()+26)),"",INDEX(INDIRECT(BereichLeistungen),(ROW()-4),COLUMN()+26)),"") -> #N/A | H9: =IF(ROW()-5<ROWS(INDIRECT(BereichLeistungen)),IF(ISBLANK(INDEX(INDIRECT(BereichLeistungen),(ROW()-4),COLUMN()+26)),"",INDEX(INDIRECT(BereichLeistungen),(ROW()-4),COLUMN()+26)),"") -> #N/A | I9: =IF(ROW()-5<ROWS(INDIRECT(BereichLeistungen)),IF(ISBLANK(INDEX(INDIRECT(BereichLeistungen),(ROW()-4),COLUMN()+26)),"",INDEX(INDIRECT(BereichLeistungen),(ROW()-4),COLUMN()+26)),"") -> #N/A | J9: =IF(ROW()-5<ROWS(INDIRECT(BereichLeistungen)),IF(ISBLANK(INDEX(INDIRECT(BereichLeistungen),(ROW()-4),COLUMN()+26)),"",INDEX(INDIRECT(BereichLeistungen),(ROW()-4),COLUMN()+26)),"") -> #N/A | ... AB9: =IF(ROW()-5<ROWS(INDIRECT(BereichLeistungen)),IF(ISBLANK(INDEX(INDIRECT(BereichLeistungen),(ROW()-4),COLUMN()+26)),"",INDEX(INDIRECT(BereichLeistungen),(ROW()-4),COLUMN()+26)),"") -> #N/A
A10: =IF(ROW()-5<ROWS(INDIRECT(BereichLeistungen)),IF(ISBLANK(INDEX(INDIRECT(BereichLeistungen),(ROW()-4),COLUMN())),"",INDEX(INDIRECT(BereichLeistungen),(ROW()-4),COLUMN())),"") -> #N/A | B10: =IF(ROW()-5<ROWS(INDIRECT(BereichLeistungen)),IF(ISBLANK(INDEX(INDIRECT(BereichLeistungen),(ROW()-4),COLUMN())),"",INDEX(INDIRECT(BereichLeistungen),(ROW()-4),COLUMN())),"") -> #N/A | C10: =IF(ROW()-5<ROWS(INDIRECT(BereichLeistungen)),IF(ISBLANK(INDEX(INDIRECT(BereichLeistungen),(ROW()-4),COLUMN()+26)),"",INDEX(INDIRECT(BereichLeistungen),(ROW()-4),COLUMN()+26)),"") -> #N/A | D10: =IF(ROW()-5<ROWS(INDIRECT(BereichLeistungen)),IF(ISBLANK(INDEX(INDIRECT(BereichLeistungen),(ROW()-4),COLUMN()+26)),"",INDEX(INDIRECT(BereichLeistungen),(ROW()-4),COLUMN()+26)),"") -> #N/A | E10: =IF(ROW()-5<ROWS(INDIRECT(BereichLeistungen)),IF(ISBLANK(INDEX(INDIRECT(BereichLeistungen),(ROW()-4),COLUMN()+26)),"",INDEX(INDIRECT(BereichLeistungen),(ROW()-4),COLUMN()+26)),"") -> #N/A | F10: =IF(ROW()-5<ROWS(INDIRECT(BereichLeistungen)),IF(ISBLANK(INDEX(INDIRECT(BereichLeistungen),(ROW()-4),COLUMN()+26)),"",INDEX(INDIRECT(BereichLeistungen),(ROW()-4),COLUMN()+26)),"") -> #N/A | G10: =IF(ROW()-5<ROWS(INDIRECT(BereichLeistungen)),IF(ISBLANK(INDEX(INDIRECT(BereichLeistungen),(ROW()-4),COLUMN()+26)),"",INDEX(INDIRECT(BereichLeistungen),(ROW()-4),COLUMN()+26)),"") -> #N/A | H10: =IF(ROW()-5<ROWS(INDIRECT(BereichLeistungen)),IF(ISBLANK(INDEX(INDIRECT(BereichLeistungen),(ROW()-4),COLUMN()+26)),"",INDEX(INDIRECT(BereichLeistungen),(ROW()-4),COLUMN()+26)),"") -> #N/A | I10: =IF(ROW()-5<ROWS(INDIRECT(BereichLeistungen)),IF(ISBLANK(INDEX(INDIRECT(BereichLeistungen),(ROW()-4),COLUMN()+26)),"",INDEX(INDIRECT(BereichLeistungen),(ROW()-4),COLUMN()+26)),"") -> #N/A | J10: =IF(ROW()-5<ROWS(INDIRECT(BereichLeistungen)),IF(ISBLANK(INDEX(INDIRECT(BereichLeistungen),(ROW()-4),COLUMN()+26)),"",INDEX(INDIRECT(BereichLeistungen),(ROW()-4),COLUMN()+26)),"") -> #N/A | ... AB10: =IF(ROW()-5<ROWS(INDIRECT(BereichLeistungen)),IF(ISBLANK(INDEX(INDIRECT(BereichLeistungen),(ROW()-4),COLUMN()+26)),"",INDEX(INDIRECT(BereichLeistungen),(ROW()-4),COLUMN()+26)),"") -> #N/A
A11: =IF(ROW()-5<ROWS(INDIRECT(BereichLeistungen)),IF(ISBLANK(INDEX(INDIRECT(BereichLeistungen),(ROW()-4),COLUMN())),"",INDEX(INDIRECT(BereichLeistungen),(ROW()-4),COLUMN())),"") -> #N/A | B11: =IF(ROW()-5<ROWS(INDIRECT(BereichLeistungen)),IF(ISBLANK(INDEX(INDIRECT(BereichLeistungen),(ROW()-4),COLUMN())),"",INDEX(INDIRECT(BereichLeistungen),(ROW()-4),COLUMN())),"") -> #N/A | C11: =IF(ROW()-5<ROWS(INDIRECT(BereichLeistungen)),IF(ISBLANK(INDEX(INDIRECT(BereichLeistungen),(ROW()-4),COLUMN()+26)),"",INDEX(INDIRECT(BereichLeistungen),(ROW()-4),COLUMN()+26)),"") -> #N/A | D11: =IF(ROW()-5<ROWS(INDIRECT(BereichLeistungen)),IF(ISBLANK(INDEX(INDIRECT(BereichLeistungen),(ROW()-4),COLUMN()+26)),"",INDEX(INDIRECT(BereichLeistungen),(ROW()-4),COLUMN()+26)),"") -> #N/A | E11: =IF(ROW()-5<ROWS(INDIRECT(BereichLeistungen)),IF(ISBLANK(INDEX(INDIRECT(BereichLeistungen),(ROW()-4),COLUMN()+26)),"",INDEX(INDIRECT(BereichLeistungen),(ROW()-4),COLUMN()+26)),"") -> #N/A | F11: =IF(ROW()-5<ROWS(INDIRECT(BereichLeistungen)),IF(ISBLANK(INDEX(INDIRECT(BereichLeistungen),(ROW()-4),COLUMN()+26)),"",INDEX(INDIRECT(BereichLeistungen),(ROW()-4),COLUMN()+26)),"") -> #N/A | G11: =IF(ROW()-5<ROWS(INDIRECT(BereichLeistungen)),IF(ISBLANK(INDEX(INDIRECT(BereichLeistungen),(ROW()-4),COLUMN()+26)),"",INDEX(INDIRECT(BereichLeistungen),(ROW()-4),COLUMN()+26)),"") -> #N/A | H11: =IF(ROW()-5<ROWS(INDIRECT(BereichLeistungen)),IF(ISBLANK(INDEX(INDIRECT(BereichLeistungen),(ROW()-4),COLUMN()+26)),"",INDEX(INDIRECT(BereichLeistungen),(ROW()-4),COLUMN()+26)),"") -> #N/A | I11: =IF(ROW()-5<ROWS(INDIRECT(BereichLeistungen)),IF(ISBLANK(INDEX(INDIRECT(BereichLeistungen),(ROW()-4),COLUMN()+26)),"",INDEX(INDIRECT(BereichLeistungen),(ROW()-4),COLUMN()+26)),"") -> #N/A | J11: =IF(ROW()-5<ROWS(INDIRECT(BereichLeistungen)),IF(ISBLANK(INDEX(INDIRECT(BereichLeistungen),(ROW()-4),COLUMN()+26)),"",INDEX(INDIRECT(BereichLeistungen),(ROW()-4),COLUMN()+26)),"") -> #N/A | ... AB11: =IF(ROW()-5<ROWS(INDIRECT(BereichLeistungen)),IF(ISBLANK(INDEX(INDIRECT(BereichLeistungen),(ROW()-4),COLUMN()+26)),"",INDEX(INDIRECT(BereichLeistungen),(ROW()-4),COLUMN()+26)),"") -> #N/A
A12: =IF(ROW()-5<ROWS(INDIRECT(BereichLeistungen)),IF(ISBLANK(INDEX(INDIRECT(BereichLeistungen),(ROW()-4),COLUMN())),"",INDEX(INDIRECT(BereichLeistungen),(ROW()-4),COLUMN())),"") -> #N/A | B12: =IF(ROW()-5<ROWS(INDIRECT(BereichLeistungen)),IF(ISBLANK(INDEX(INDIRECT(BereichLeistungen),(ROW()-4),COLUMN())),"",INDEX(INDIRECT(BereichLeistungen),(ROW()-4),COLUMN())),"") -> #N/A | C12: =IF(ROW()-5<ROWS(INDIRECT(BereichLeistungen)),IF(ISBLANK(INDEX(INDIRECT(BereichLeistungen),(ROW()-4),COLUMN()+26)),"",INDEX(INDIRECT(BereichLeistungen),(ROW()-4),COLUMN()+26)),"") -> #N/A | D12: =IF(ROW()-5<ROWS(INDIRECT(BereichLeistungen)),IF(ISBLANK(INDEX(INDIRECT(BereichLeistungen),(ROW()-4),COLUMN()+26)),"",INDEX(INDIRECT(BereichLeistungen),(ROW()-4),COLUMN()+26)),"") -> #N/A | E12: =IF(ROW()-5<ROWS(INDIRECT(BereichLeistungen)),IF(ISBLANK(INDEX(INDIRECT(BereichLeistungen),(ROW()-4),COLUMN()+26)),"",INDEX(INDIRECT(BereichLeistungen),(ROW()-4),COLUMN()+26)),"") -> #N/A | F12: =IF(ROW()-5<ROWS(INDIRECT(BereichLeistungen)),IF(ISBLANK(INDEX(INDIRECT(BereichLeistungen),(ROW()-4),COLUMN()+26)),"",INDEX(INDIRECT(BereichLeistungen),(ROW()-4),COLUMN()+26)),"") -> #N/A | G12: =IF(ROW()-5<ROWS(INDIRECT(BereichLeistungen)),IF(ISBLANK(INDEX(INDIRECT(BereichLeistungen),(ROW()-4),COLUMN()+26)),"",INDEX(INDIRECT(BereichLeistungen),(ROW()-4),COLUMN()+26)),"") -> #N/A | H12: =IF(ROW()-5<ROWS(INDIRECT(BereichLeistungen)),IF(ISBLANK(INDEX(INDIRECT(BereichLeistungen),(ROW()-4),COLUMN()+26)),"",INDEX(INDIRECT(BereichLeistungen),(ROW()-4),COLUMN()+26)),"") -> #N/A | I12: =IF(ROW()-5<ROWS(INDIRECT(BereichLeistungen)),IF(ISBLANK(INDEX(INDIRECT(BereichLeistungen),(ROW()-4),COLUMN()+26)),"",INDEX(INDIRECT(BereichLeistungen),(ROW()-4),COLUMN()+26)),"") -> #N/A | J12: =IF(ROW()-5<ROWS(INDIRECT(BereichLeistungen)),IF(ISBLANK(INDEX(INDIRECT(BereichLeistungen),(ROW()-4),COLUMN()+26)),"",INDEX(INDIRECT(BereichLeistungen),(ROW()-4),COLUMN()+26)),"") -> #N/A | ... AB12: =IF(ROW()-5<ROWS(INDIRECT(BereichLeistungen)),IF(ISBLANK(INDEX(INDIRECT(BereichLeistungen),(ROW()-4),COLUMN()+26)),"",INDEX(INDIRECT(BereichLeistungen),(ROW()-4),COLUMN()+26)),"") -> #N/A
A13: =IF(ROW()-5<ROWS(INDIRECT(BereichLeistungen)),IF(ISBLANK(INDEX(INDIRECT(BereichLeistungen),(ROW()-4),COLUMN())),"",INDEX(INDIRECT(BereichLeistungen),(ROW()-4),COLUMN())),"") -> #N/A | B13: =IF(ROW()-5<ROWS(INDIRECT(BereichLeistungen)),IF(ISBLANK(INDEX(INDIRECT(BereichLeistungen),(ROW()-4),COLUMN())),"",INDEX(INDIRECT(BereichLeistungen),(ROW()-4),COLUMN())),"") -> #N/A | C13: =IF(ROW()-5<ROWS(INDIRECT(BereichLeistungen)),IF(ISBLANK(INDEX(INDIRECT(BereichLeistungen),(ROW()-4),COLUMN()+26)),"",INDEX(INDIRECT(BereichLeistungen),(ROW()-4),COLUMN()+26)),"") -> #N/A | D13: =IF(ROW()-5<ROWS(INDIRECT(BereichLeistungen)),IF(ISBLANK(INDEX(INDIRECT(BereichLeistungen),(ROW()-4),COLUMN()+26)),"",INDEX(INDIRECT(BereichLeistungen),(ROW()-4),COLUMN()+26)),"") -> #N/A | E13: =IF(ROW()-5<ROWS(INDIRECT(BereichLeistungen)),IF(ISBLANK(INDEX(INDIRECT(BereichLeistungen),(ROW()-4),COLUMN()+26)),"",INDEX(INDIRECT(BereichLeistungen),(ROW()-4),COLUMN()+26)),"") -> #N/A | F13: =IF(ROW()-5<ROWS(INDIRECT(BereichLeistungen)),IF(ISBLANK(INDEX(INDIRECT(BereichLeistungen),(ROW()-4),COLUMN()+26)),"",INDEX(INDIRECT(BereichLeistungen),(ROW()-4),COLUMN()+26)),"") -> #N/A | G13: =IF(ROW()-5<ROWS(INDIRECT(BereichLeistungen)),IF(ISBLANK(INDEX(INDIRECT(BereichLeistungen),(ROW()-4),COLUMN()+26)),"",INDEX(INDIRECT(BereichLeistungen),(ROW()-4),COLUMN()+26)),"") -> #N/A | H13: =IF(ROW()-5<ROWS(INDIRECT(BereichLeistungen)),IF(ISBLANK(INDEX(INDIRECT(BereichLeistungen),(ROW()-4),COLUMN()+26)),"",INDEX(INDIRECT(BereichLeistungen),(ROW()-4),COLUMN()+26)),"") -> #N/A | I13: =IF(ROW()-5<ROWS(INDIRECT(BereichLeistungen)),IF(ISBLANK(INDEX(INDIRECT(BereichLeistungen),(ROW()-4),COLUMN()+26)),"",INDEX(INDIRECT(BereichLeistungen),(ROW()-4),COLUMN()+26)),"") -> #N/A | J13: =IF(ROW()-5<ROWS(INDIRECT(BereichLeistungen)),IF(ISBLANK(INDEX(INDIRECT(BereichLeistungen),(ROW()-4),COLUMN()+26)),"",INDEX(INDIRECT(BereichLeistungen),(ROW()-4),COLUMN()+26)),"") -> #N/A | ... AB13: =IF(ROW()-5<ROWS(INDIRECT(BereichLeistungen)),IF(ISBLANK(INDEX(INDIRECT(BereichLeistungen),(ROW()-4),COLUMN()+26)),"",INDEX(INDIRECT(BereichLeistungen),(ROW()-4),COLUMN()+26)),"") -> #N/A
A14: =IF(ROW()-5<ROWS(INDIRECT(BereichLeistungen)),IF(ISBLANK(INDEX(INDIRECT(BereichLeistungen),(ROW()-4),COLUMN())),"",INDEX(INDIRECT(BereichLeistungen),(ROW()-4),COLUMN())),"") -> #N/A | B14: =IF(ROW()-5<ROWS(INDIRECT(BereichLeistungen)),IF(ISBLANK(INDEX(INDIRECT(BereichLeistungen),(ROW()-4),COLUMN())),"",INDEX(INDIRECT(BereichLeistungen),(ROW()-4),COLUMN())),"") -> #N/A | C14: =IF(ROW()-5<ROWS(INDIRECT(BereichLeistungen)),IF(ISBLANK(INDEX(INDIRECT(BereichLeistungen),(ROW()-4),COLUMN()+26)),"",INDEX(INDIRECT(BereichLeistungen),(ROW()-4),COLUMN()+26)),"") -> #N/A | D14: =IF(ROW()-5<ROWS(INDIRECT(BereichLeistungen)),IF(ISBLANK(INDEX(INDIRECT(BereichLeistungen),(ROW()-4),COLUMN()+26)),"",INDEX(INDIRECT(BereichLeistungen),(ROW()-4),COLUMN()+26)),"") -> #N/A | E14: =IF(ROW()-5<ROWS(INDIRECT(BereichLeistungen)),IF(ISBLANK(INDEX(INDIRECT(BereichLeistungen),(ROW()-4),COLUMN()+26)),"",INDEX(INDIRECT(BereichLeistungen),(ROW()-4),COLUMN()+26)),"") -> #N/A | F14: =IF(ROW()-5<ROWS(INDIRECT(BereichLeistungen)),IF(ISBLANK(INDEX(INDIRECT(BereichLeistungen),(ROW()-4),COLUMN()+26)),"",INDEX(INDIRECT(BereichLeistungen),(ROW()-4),COLUMN()+26)),"") -> #N/A | G14: =IF(ROW()-5<ROWS(INDIRECT(BereichLeistungen)),IF(ISBLANK(INDEX(INDIRECT(BereichLeistungen),(ROW()-4),COLUMN()+26)),"",INDEX(INDIRECT(BereichLeistungen),(ROW()-4),COLUMN()+26)),"") -> #N/A | H14: =IF(ROW()-5<ROWS(INDIRECT(BereichLeistungen)),IF(ISBLANK(INDEX(INDIRECT(BereichLeistungen),(ROW()-4),COLUMN()+26)),"",INDEX(INDIRECT(BereichLeistungen),(ROW()-4),COLUMN()+26)),"") -> #N/A | I14: =IF(ROW()-5<ROWS(INDIRECT(BereichLeistungen)),IF(ISBLANK(INDEX(INDIRECT(BereichLeistungen),(ROW()-4),COLUMN()+26)),"",INDEX(INDIRECT(BereichLeistungen),(ROW()-4),COLUMN()+26)),"") -> #N/A | J14: =IF(ROW()-5<ROWS(INDIRECT(BereichLeistungen)),IF(ISBLANK(INDEX(INDIRECT(BereichLeistungen),(ROW()-4),COLUMN()+26)),"",INDEX(INDIRECT(BereichLeistungen),(ROW()-4),COLUMN()+26)),"") -> #N/A | ... AB14: =IF(ROW()-5<ROWS(INDIRECT(BereichLeistungen)),IF(ISBLANK(INDEX(INDIRECT(BereichLeistungen),(ROW()-4),COLUMN()+26)),"",INDEX(INDIRECT(BereichLeistungen),(ROW()-4),COLUMN()+26)),"") -> #N/A
A15: =IF(ROW()-5<ROWS(INDIRECT(BereichLeistungen)),IF(ISBLANK(INDEX(INDIRECT(BereichLeistungen),(ROW()-4),COLUMN())),"",INDEX(INDIRECT(BereichLeistungen),(ROW()-4),COLUMN())),"") -> #N/A | B15: =IF(ROW()-5<ROWS(INDIRECT(BereichLeistungen)),IF(ISBLANK(INDEX(INDIRECT(BereichLeistungen),(ROW()-4),COLUMN())),"",INDEX(INDIRECT(BereichLeistungen),(ROW()-4),COLUMN())),"") -> #N/A | C15: =IF(ROW()-5<ROWS(INDIRECT(BereichLeistungen)),IF(ISBLANK(INDEX(INDIRECT(BereichLeistungen),(ROW()-4),COLUMN()+26)),"",INDEX(INDIRECT(BereichLeistungen),(ROW()-4),COLUMN()+26)),"") -> #N/A | D15: =IF(ROW()-5<ROWS(INDIRECT(BereichLeistungen)),IF(ISBLANK(INDEX(INDIRECT(BereichLeistungen),(ROW()-4),COLUMN()+26)),"",INDEX(INDIRECT(BereichLeistungen),(ROW()-4),COLUMN()+26)),"") -> #N/A | E15: =IF(ROW()-5<ROWS(INDIRECT(BereichLeistungen)),IF(ISBLANK(INDEX(INDIRECT(BereichLeistungen),(ROW()-4),COLUMN()+26)),"",INDEX(INDIRECT(BereichLeistungen),(ROW()-4),COLUMN()+26)),"") -> #N/A | F15: =IF(ROW()-5<ROWS(INDIRECT(BereichLeistungen)),IF(ISBLANK(INDEX(INDIRECT(BereichLeistungen),(ROW()-4),COLUMN()+26)),"",INDEX(INDIRECT(BereichLeistungen),(ROW()-4),COLUMN()+26)),"") -> #N/A | G15: =IF(ROW()-5<ROWS(INDIRECT(BereichLeistungen)),IF(ISBLANK(INDEX(INDIRECT(BereichLeistungen),(ROW()-4),COLUMN()+26)),"",INDEX(INDIRECT(BereichLeistungen),(ROW()-4),COLUMN()+26)),"") -> #N/A | H15: =IF(ROW()-5<ROWS(INDIRECT(BereichLeistungen)),IF(ISBLANK(INDEX(INDIRECT(BereichLeistungen),(ROW()-4),COLUMN()+26)),"",INDEX(INDIRECT(BereichLeistungen),(ROW()-4),COLUMN()+26)),"") -> #N/A | I15: =IF(ROW()-5<ROWS(INDIRECT(BereichLeistungen)),IF(ISBLANK(INDEX(INDIRECT(BereichLeistungen),(ROW()-4),COLUMN()+26)),"",INDEX(INDIRECT(BereichLeistungen),(ROW()-4),COLUMN()+26)),"") -> #N/A | J15: =IF(ROW()-5<ROWS(INDIRECT(BereichLeistungen)),IF(ISBLANK(INDEX(INDIRECT(BereichLeistungen),(ROW()-4),COLUMN()+26)),"",INDEX(INDIRECT(BereichLeistungen),(ROW()-4),COLUMN()+26)),"") -> #N/A | ... AB15: =IF(ROW()-5<ROWS(INDIRECT(BereichLeistungen)),IF(ISBLANK(INDEX(INDIRECT(BereichLeistungen),(ROW()-4),COLUMN()+26)),"",INDEX(INDIRECT(BereichLeistungen),(ROW()-4),COLUMN()+26)),"") -> #N/A
A16: =IF(ROW()-5<ROWS(INDIRECT(BereichLeistungen)),IF(ISBLANK(INDEX(INDIRECT(BereichLeistungen),(ROW()-4),COLUMN())),"",INDEX(INDIRECT(BereichLeistungen),(ROW()-4),COLUMN())),"") -> #N/A | B16: =IF(ROW()-5<ROWS(INDIRECT(BereichLeistungen)),IF(ISBLANK(INDEX(INDIRECT(BereichLeistungen),(ROW()-4),COLUMN())),"",INDEX(INDIRECT(BereichLeistungen),(ROW()-4),COLUMN())),"") -> #N/A | C16: =IF(ROW()-5<ROWS(INDIRECT(BereichLeistungen)),IF(ISBLANK(INDEX(INDIRECT(BereichLeistungen),(ROW()-4),COLUMN()+26)),"",INDEX(INDIRECT(BereichLeistungen),(ROW()-4),COLUMN()+26)),"") -> #N/A | D16: =IF(ROW()-5<ROWS(INDIRECT(BereichLeistungen)),IF(ISBLANK(INDEX(INDIRECT(BereichLeistungen),(ROW()-4),COLUMN()+26)),"",INDEX(INDIRECT(BereichLeistungen),(ROW()-4),COLUMN()+26)),"") -> #N/A | E16: =IF(ROW()-5<ROWS(INDIRECT(BereichLeistungen)),IF(ISBLANK(INDEX(INDIRECT(BereichLeistungen),(ROW()-4),COLUMN()+26)),"",INDEX(INDIRECT(BereichLeistungen),(ROW()-4),COLUMN()+26)),"") -> #N/A | F16: =IF(ROW()-5<ROWS(INDIRECT(BereichLeistungen)),IF(ISBLANK(INDEX(INDIRECT(BereichLeistungen),(ROW()-4),COLUMN()+26)),"",INDEX(INDIRECT(BereichLeistungen),(ROW()-4),COLUMN()+26)),"") -> #N/A | G16: =IF(ROW()-5<ROWS(INDIRECT(BereichLeistungen)),IF(ISBLANK(INDEX(INDIRECT(BereichLeistungen),(ROW()-4),COLUMN()+26)),"",INDEX(INDIRECT(BereichLeistungen),(ROW()-4),COLUMN()+26)),"") -> #N/A | H16: =IF(ROW()-5<ROWS(INDIRECT(BereichLeistungen)),IF(ISBLANK(INDEX(INDIRECT(BereichLeistungen),(ROW()-4),COLUMN()+26)),"",INDEX(INDIRECT(BereichLeistungen),(ROW()-4),COLUMN()+26)),"") -> #N/A | I16: =IF(ROW()-5<ROWS(INDIRECT(BereichLeistungen)),IF(ISBLANK(INDEX(INDIRECT(BereichLeistungen),(ROW()-4),COLUMN()+26)),"",INDEX(INDIRECT(BereichLeistungen),(ROW()-4),COLUMN()+26)),"") -> #N/A | J16: =IF(ROW()-5<ROWS(INDIRECT(BereichLeistungen)),IF(ISBLANK(INDEX(INDIRECT(BereichLeistungen),(ROW()-4),COLUMN()+26)),"",INDEX(INDIRECT(BereichLeistungen),(ROW()-4),COLUMN()+26)),"") -> #N/A | ... AB16: =IF(ROW()-5<ROWS(INDIRECT(BereichLeistungen)),IF(ISBLANK(INDEX(INDIRECT(BereichLeistungen),(ROW()-4),COLUMN()+26)),"",INDEX(INDIRECT(BereichLeistungen),(ROW()-4),COLUMN()+26)),"") -> #N/A
A17: =IF(ROW()-5<ROWS(INDIRECT(BereichLeistungen)),IF(ISBLANK(INDEX(INDIRECT(BereichLeistungen),(ROW()-4),COLUMN())),"",INDEX(INDIRECT(BereichLeistungen),(ROW()-4),COLUMN())),"") -> #N/A | B17: =IF(ROW()-5<ROWS(INDIRECT(BereichLeistungen)),IF(ISBLANK(INDEX(INDIRECT(BereichLeistungen),(ROW()-4),COLUMN())),"",INDEX(INDIRECT(BereichLeistungen),(ROW()-4),COLUMN())),"") -> #N/A | C17: =IF(ROW()-5<ROWS(INDIRECT(BereichLeistungen)),IF(ISBLANK(INDEX(INDIRECT(BereichLeistungen),(ROW()-4),COLUMN()+26)),"",INDEX(INDIRECT(BereichLeistungen),(ROW()-4),COLUMN()+26)),"") -> #N/A | D17: =IF(ROW()-5<ROWS(INDIRECT(BereichLeistungen)),IF(ISBLANK(INDEX(INDIRECT(BereichLeistungen),(ROW()-4),COLUMN()+26)),"",INDEX(INDIRECT(BereichLeistungen),(ROW()-4),COLUMN()+26)),"") -> #N/A | E17: =IF(ROW()-5<ROWS(INDIRECT(BereichLeistungen)),IF(ISBLANK(INDEX(INDIRECT(BereichLeistungen),(ROW()-4),COLUMN()+26)),"",INDEX(INDIRECT(BereichLeistungen),(ROW()-4),COLUMN()+26)),"") -> #N/A | F17: =IF(ROW()-5<ROWS(INDIRECT(BereichLeistungen)),IF(ISBLANK(INDEX(INDIRECT(BereichLeistungen),(ROW()-4),COLUMN()+26)),"",INDEX(INDIRECT(BereichLeistungen),(ROW()-4),COLUMN()+26)),"") -> #N/A | G17: =IF(ROW()-5<ROWS(INDIRECT(BereichLeistungen)),IF(ISBLANK(INDEX(INDIRECT(BereichLeistungen),(ROW()-4),COLUMN()+26)),"",INDEX(INDIRECT(BereichLeistungen),(ROW()-4),COLUMN()+26)),"") -> #N/A | H17: =IF(ROW()-5<ROWS(INDIRECT(BereichLeistungen)),IF(ISBLANK(INDEX(INDIRECT(BereichLeistungen),(ROW()-4),COLUMN()+26)),"",INDEX(INDIRECT(BereichLeistungen),(ROW()-4),COLUMN()+26)),"") -> #N/A | I17: =IF(ROW()-5<ROWS(INDIRECT(BereichLeistungen)),IF(ISBLANK(INDEX(INDIRECT(BereichLeistungen),(ROW()-4),COLUMN()+26)),"",INDEX(INDIRECT(BereichLeistungen),(ROW()-4),COLUMN()+26)),"") -> #N/A | J17: =IF(ROW()-5<ROWS(INDIRECT(BereichLeistungen)),IF(ISBLANK(INDEX(INDIRECT(BereichLeistungen),(ROW()-4),COLUMN()+26)),"",INDEX(INDIRECT(BereichLeistungen),(ROW()-4),COLUMN()+26)),"") -> #N/A | ... AB17: =IF(ROW()-5<ROWS(INDIRECT(BereichLeistungen)),IF(ISBLANK(INDEX(INDIRECT(BereichLeistungen),(ROW()-4),COLUMN()+26)),"",INDEX(INDIRECT(BereichLeistungen),(ROW()-4),COLUMN()+26)),"") -> #N/A
... A76: =IF(ROW()-5<ROWS(INDIRECT(BereichLeistungen)),IF(ISBLANK(INDEX(INDIRECT(BereichLeistungen),(ROW()-4),COLUMN())),"",INDEX(INDIRECT(BereichLeistungen),(ROW()-4),COLUMN())),"") -> #N/A | B76: =IF(ROW()-5<ROWS(INDIRECT(BereichLeistungen)),IF(ISBLANK(INDEX(INDIRECT(BereichLeistungen),(ROW()-4),COLUMN())),"",INDEX(INDIRECT(BereichLeistungen),(ROW()-4),COLUMN())),"") -> #N/A | C76: =IF(ROW()-5<ROWS(INDIRECT(BereichLeistungen)),IF(ISBLANK(INDEX(INDIRECT(BereichLeistungen),(ROW()-4),COLUMN()+26)),"",INDEX(INDIRECT(BereichLeistungen),(ROW()-4),COLUMN()+26)),"") -> #N/A | D76: =IF(ROW()-5<ROWS(INDIRECT(BereichLeistungen)),IF(ISBLANK(INDEX(INDIRECT(BereichLeistungen),(ROW()-4),COLUMN()+26)),"",INDEX(INDIRECT(BereichLeistungen),(ROW()-4),COLUMN()+26)),"") -> #N/A | E76: =IF(ROW()-5<ROWS(INDIRECT(BereichLeistungen)),IF(ISBLANK(INDEX(INDIRECT(BereichLeistungen),(ROW()-4),COLUMN()+26)),"",INDEX(INDIRECT(BereichLeistungen),(ROW()-4),COLUMN()+26)),"") -> #N/A | F76: =IF(ROW()-5<ROWS(INDIRECT(BereichLeistungen)),IF(ISBLANK(INDEX(INDIRECT(BereichLeistungen),(ROW()-4),COLUMN()+26)),"",INDEX(INDIRECT(BereichLeistungen),(ROW()-4),COLUMN()+26)),"") -> #N/A | G76: =IF(ROW()-5<ROWS(INDIRECT(BereichLeistungen)),IF(ISBLANK(INDEX(INDIRECT(BereichLeistungen),(ROW()-4),COLUMN()+26)),"",INDEX(INDIRECT(BereichLeistungen),(ROW()-4),COLUMN()+26)),"") -> #N/A | H76: =IF(ROW()-5<ROWS(INDIRECT(BereichLeistungen)),IF(ISBLANK(INDEX(INDIRECT(BereichLeistungen),(ROW()-4),COLUMN()+26)),"",INDEX(INDIRECT(BereichLeistungen),(ROW()-4),COLUMN()+26)),"") -> #N/A | I76: =IF(ROW()-5<ROWS(INDIRECT(BereichLeistungen)),IF(ISBLANK(INDEX(INDIRECT(BereichLeistungen),(ROW()-4),COLUMN()+26)),"",INDEX(INDIRECT(BereichLeistungen),(ROW()-4),COLUMN()+26)),"") -> #N/A | J76: =IF(ROW()-5<ROWS(INDIRECT(BereichLeistungen)),IF(ISBLANK(INDEX(INDIRECT(BereichLeistungen),(ROW()-4),COLUMN()+26)),"",INDEX(INDIRECT(BereichLeistungen),(ROW()-4),COLUMN()+26)),"") -> #N/A | ... AB76: =IF(ROW()-5<ROWS(INDIRECT(BereichLeistungen)),IF(ISBLANK(INDEX(INDIRECT(BereichLeistungen),(ROW()-4),COLUMN()+26)),"",INDEX(INDIRECT(BereichLeistungen),(ROW()-4),COLUMN()+26)),"") -> #N/A

Sheet Fehlzeiten (S.1)
A1: =CONCATENATE("Fehlzeitenübersicht für Kurs: ", INDEX(CSV!$B$1:$B$1071,ZeileKursbezeichnung)) -> #N/A
A2: =CONCATENATE("Jahrgang: ", INDEX(CSV!$B$1:$B$1071,ZeileJahrgang)) -> #N/A
A3: =IF(ISBLANK(INDEX(CSV!$B$1:$B$1071,ZeileLehrer)),"",INDEX(CSV!$B$1:$B$1071,ZeileLehrer)) -> #N/A
A5: =IF(ISBLANK(INDEX(INDIRECT(BereichFehlstundenDatum),(ROW()-4),COLUMN()) ),"",INDEX(INDIRECT(BereichFehlstundenDatum),(ROW()-4),COLUMN())) -> #N/A | B5: =IF(ISBLANK(INDEX(INDIRECT(BereichFehlstundenDatum),(ROW()-4),COLUMN()) ),"",INDEX(INDIRECT(BereichFehlstundenDatum),(ROW()-4),COLUMN())) -> #N/A | C5: =IF(ISBLANK(INDEX(INDIRECT(BereichFehlstundenDatum),(ROW()-4),COLUMN()) ),"",INDEX(INDIRECT(BereichFehlstundenDatum),(ROW()-4),COLUMN())) -> #N/A | D5: =IF(ISBLANK(INDEX(INDIRECT(BereichFehlstundenDatum),(ROW()-4),COLUMN()) ),"",INDEX(INDIRECT(BereichFehlstundenDatum),(ROW()-4),COLUMN())) -> #N/A | E5: =IF(ISBLANK(INDEX(INDIRECT(BereichFehlstundenDatum),(ROW()-4),COLUMN()) ),"",INDEX(INDIRECT(BereichFehlstundenDatum),(ROW()-4),COLUMN())) -> #N/A | F5: =IF(ISBLANK(INDEX(INDIRECT(BereichFehlstundenDatum),(ROW()-4),COLUMN()) ),"",INDEX(INDIRECT(BereichFehlstundenDatum),(ROW()-4),COLUMN())) -> #N/A | G5: =IF(ISBLANK(INDEX(INDIRECT(BereichFehlstundenDatum),(ROW()-4),COLUMN()) ),"",INDEX(INDIRECT(BereichFehlstundenDatum),(ROW()-4),COLUMN())) -> #N/A | H5: =IF(ISBLANK(INDEX(INDIRECT(BereichFehlstundenDatum),(ROW()-4),COLUMN()) ),"",INDEX(INDIRECT(BereichFehlstundenDatum),(ROW()-4),COLUMN())) -> #N/A | ... AI5: =IF(ISBLANK(INDEX(INDIRECT(BereichFehlstundenDatum),(ROW()-4),COLUMN()) ),"",INDEX(INDIRECT(BereichFehlstundenDatum),(ROW()-4),COLUMN())) -> #N/A
A6: =IF(ROW()-6<ROWS(INDIRECT(BereichFehlstunden)),IF(ISBLANK(INDEX(INDIRECT(BereichFehlstunden),(ROW()-5),COLUMN())),"",INDEX(INDIRECT(BereichFehlstunden),(ROW()-5),COLUMN())),"") -> #N/A | B6: =IF(ROW()-6<ROWS(INDIRECT(BereichFehlstunden)),IF(ISBLANK(INDEX(INDIRECT(BereichFehlstunden),(ROW()-5),COLUMN())),"",INDEX(INDIRECT(BereichFehlstunden),(ROW()-5),COLUMN())),"") -> #N/A | C6: =IF(ROW()-6<ROWS(INDIRECT(BereichFehlstunden)),IF(ISBLANK(INDEX(INDIRECT(BereichFehlstunden),(ROW()-5),COLUMN())),"",INDEX(INDIRECT(BereichFehlstunden),(ROW()-5),COLUMN())),"") -> #N/A | D6: =IF(ROW()-6<ROWS(INDIRECT(BereichFehlstunden)),IF(ISBLANK(INDEX(INDIRECT(BereichFehlstunden),(ROW()-5),COLUMN())),"",INDEX(INDIRECT(BereichFehlstunden),(ROW()-5),COLUMN())),"") -> #N/A | E6: =IF(ROW()-6<ROWS(INDIRECT(BereichFehlstunden)),IF(ISBLANK(INDEX(INDIRECT(BereichFehlstunden),(ROW()-5),COLUMN())),"",INDEX(INDIRECT(BereichFehlstunden),(ROW()-5),COLUMN())),"") -> #N/A | F6: =IF(ROW()-6<ROWS(INDIRECT(BereichFehlstunden)),IF(ISBLANK(INDEX(INDIRECT(BereichFehlstunden),(ROW()-5),COLUMN())),"",INDEX(INDIRECT(BereichFehlstunden),(ROW()-5),COLUMN())),"") -> #N/A | G6: =IF(ROW()-6<ROWS(INDIRECT(BereichFehlstunden)),IF(ISBLANK(INDEX(INDIRECT(BereichFehlstunden),(ROW()-5),COLUMN())),"",INDEX(INDIRECT(BereichFehlstunden),(ROW()-5),COLUMN())),"") -> #N/A | H6: =IF(ROW()-6<ROWS(INDIRECT(BereichFehlstunden)),IF(ISBLANK(INDEX(INDIRECT(BereichFehlstunden),(ROW()-5),COLUMN())),"",INDEX(INDIRECT(BereichFehlstunden),(ROW()-5),COLUMN())),"") -> #N/A | ... AI6: =IF(ROW()-6<ROWS(INDIRECT(BereichFehlstunden)),IF(ISBLANK(INDEX(INDIRECT(BereichFehlstunden),(ROW()-5),COLUMN())),"",INDEX(INDIRECT(BereichFehlstunden),(ROW()-5),COLUMN())),"") -> #N/A
A7: =IF(ROW()-6<ROWS(INDIRECT(BereichFehlstunden)),IF(ISBLANK(INDEX(INDIRECT(BereichFehlstunden),(ROW()-5),COLUMN())),"",INDEX(INDIRECT(BereichFehlstunden),(ROW()-5),COLUMN())),"") -> #N/A | B7: =IF(ROW()-6<ROWS(INDIRECT(BereichFehlstunden)),IF(ISBLANK(INDEX(INDIRECT(BereichFehlstunden),(ROW()-5),COLUMN())),"",INDEX(INDIRECT(BereichFehlstunden),(ROW()-5),COLUMN())),"") -> #N/A | C7: =IF(ROW()-6<ROWS(INDIRECT(BereichFehlstunden)),IF(ISBLANK(INDEX(INDIRECT(BereichFehlstunden),(ROW()-5),COLUMN())),"",INDEX(INDIRECT(BereichFehlstunden),(ROW()-5),COLUMN())),"") -> #N/A | D7: =IF(ROW()-6<ROWS(INDIRECT(BereichFehlstunden)),IF(ISBLANK(INDEX(INDIRECT(BereichFehlstunden),(ROW()-5),COLUMN())),"",INDEX(INDIRECT(BereichFehlstunden),(ROW()-5),COLUMN())),"") -> #N/A | E7: =IF(ROW()-6<ROWS(INDIRECT(BereichFehlstunden)),IF(ISBLANK(INDEX(INDIRECT(BereichFehlstunden),(ROW()-5),COLUMN())),"",INDEX(INDIRECT(BereichFehlstunden),(ROW()-5),COLUMN())),"") -> #N/A | F7: =IF(ROW()-6<ROWS(INDIRECT(BereichFehlstunden)),IF(ISBLANK(INDEX(INDIRECT(BereichFehlstunden),(ROW()-5),COLUMN())),"",INDEX(INDIRECT(BereichFehlstunden),(ROW()-5),COLUMN())),"") -> #N/A | G7: =IF(ROW()-6<ROWS(INDIRECT(BereichFehlstunden)),IF(ISBLANK(INDEX(INDIRECT(BereichFehlstunden),(ROW()-5),COLUMN())),"",INDEX(INDIRECT(BereichFehlstunden),(ROW()-5),COLUMN())),"") -> #N/A | H7: =IF(ROW()-6<ROWS(INDIRECT(BereichFehlstunden)),IF(ISBLANK(INDEX(INDIRECT(BereichFehlstunden),(ROW()-5),COLUMN())),"",INDEX(INDIRECT(BereichFehlstunden),(ROW()-5),COLUMN())),"") -> #N/A | ... AI7: =IF(ROW()-6<ROWS(INDIRECT(BereichFehlstunden)),IF(ISBLANK(INDEX(INDIRECT(BereichFehlstunden),(ROW()-5),COLUMN())),"",INDEX(INDIRECT(BereichFehlstunden),(ROW()-5),COLUMN())),"") -> #N/A
A8: =IF(ROW()-6<ROWS(INDIRECT(BereichFehlstunden)),IF(ISBLANK(INDEX(INDIRECT(BereichFehlstunden),(ROW()-5),COLUMN())),"",INDEX(INDIRECT(BereichFehlstunden),(ROW()-5),COLUMN())),"") -> #N/A | B8: =IF(ROW()-6<ROWS(INDIRECT(BereichFehlstunden)),IF(ISBLANK(INDEX(INDIRECT(BereichFehlstunden),(ROW()-5),COLUMN())),"",INDEX(INDIRECT(BereichFehlstunden),(ROW()-5),COLUMN())),"") -> #N/A | C8: =IF(ROW()-6<ROWS(INDIRECT(BereichFehlstunden)),IF(ISBLANK(INDEX(INDIRECT(BereichFehlstunden),(ROW()-5),COLUMN())),"",INDEX(INDIRECT(BereichFehlstunden),(ROW()-5),COLUMN())),"") -> #N/A | D8: =IF(ROW()-6<ROWS(INDIRECT(BereichFehlstunden)),IF(ISBLANK(INDEX(INDIRECT(BereichFehlstunden),(ROW()-5),COLUMN())),"",INDEX(INDIRECT(BereichFehlstunden),(ROW()-5),COLUMN())),"") -> #N/A | E8: =IF(ROW()-6<ROWS(INDIRECT(BereichFehlstunden)),IF(ISBLANK(INDEX(INDIRECT(BereichFehlstunden),(ROW()-5),COLUMN())),"",INDEX(INDIRECT(BereichFehlstunden),(ROW()-5),COLUMN())),"") -> #N/A | F8: =IF(ROW()-6<ROWS(INDIRECT(BereichFehlstunden)),IF(ISBLANK(INDEX(INDIRECT(BereichFehlstunden),(ROW()-5),COLUMN())),"",INDEX(INDIRECT(BereichFehlstunden),(ROW()-5),COLUMN())),"") -> #N/A | G8: =IF(ROW()-6<ROWS(INDIRECT(BereichFehlstunden)),IF(ISBLANK(INDEX(INDIRECT(BereichFehlstunden),(ROW()-5),COLUMN())),"",INDEX(INDIRECT(BereichFehlstunden),(ROW()-5),COLUMN())),"") -> #N/A | H8: =IF(ROW()-6<ROWS(INDIRECT(BereichFehlstunden)),IF(ISBLANK(INDEX(INDIRECT(BereichFehlstunden),(ROW()-5),COLUMN())),"",INDEX(INDIRECT(BereichFehlstunden),(ROW()-5),COLUMN())),"") -> #N/A | ... AI8: =IF(ROW()-6<ROWS(INDIRECT(BereichFehlstunden)),IF(ISBLANK(INDEX(INDIRECT(BereichFehlstunden),(ROW()-5),COLUMN())),"",INDEX(INDIRECT(BereichFehlstunden),(ROW()-5),COLUMN())),"") -> #N/A
A9: =IF(ROW()-6<ROWS(INDIRECT(BereichFehlstunden)),IF(ISBLANK(INDEX(INDIRECT(BereichFehlstunden),(ROW()-5),COLUMN())),"",INDEX(INDIRECT(BereichFehlstunden),(ROW()-5),COLUMN())),"") -> #N/A | B9: =IF(ROW()-6<ROWS(INDIRECT(BereichFehlstunden)),IF(ISBLANK(INDEX(INDIRECT(BereichFehlstunden),(ROW()-5),COLUMN())),"",INDEX(INDIRECT(BereichFehlstunden),(ROW()-5),COLUMN())),"") -> #N/A | C9: =IF(ROW()-6<ROWS(INDIRECT(BereichFehlstunden)),IF(ISBLANK(INDEX(INDIRECT(BereichFehlstunden),(ROW()-5),COLUMN())),"",INDEX(INDIRECT(BereichFehlstunden),(ROW()-5),COLUMN())),"") -> #N/A | D9: =IF(ROW()-6<ROWS(INDIRECT(BereichFehlstunden)),IF(ISBLANK(INDEX(INDIRECT(BereichFehlstunden),(ROW()-5),COLUMN())),"",INDEX(INDIRECT(BereichFehlstunden),(ROW()-5),COLUMN())),"") -> #N/A | E9: =IF(ROW()-6<ROWS(INDIRECT(BereichFehlstunden)),IF(ISBLANK(INDEX(INDIRECT(BereichFehlstunden),(ROW()-5),COLUMN())),"",INDEX(INDIRECT(BereichFehlstunden),(ROW()-5),COLUMN())),"") -> #N/A | F9: =IF(ROW()-6<ROWS(INDIRECT(BereichFehlstunden)),IF(ISBLANK(INDEX(INDIRECT(BereichFehlstunden),(ROW()-5),COLUMN())),"",INDEX(INDIRECT(BereichFehlstunden),(ROW()-5),COLUMN())),"") -> #N/A | G9: =IF(ROW()-6<ROWS(INDIRECT(BereichFehlstunden)),IF(ISBLANK(INDEX(INDIRECT(BereichFehlstunden),(ROW()-5),COLUMN())),"",INDEX(INDIRECT(BereichFehlstunden),(ROW()-5),COLUMN())),"") -> #N/A | H9: =IF(ROW()-6<ROWS(INDIRECT(BereichFehlstunden)),IF(ISBLANK(INDEX(INDIRECT(BereichFehlstunden),(ROW()-5),COLUMN())),"",INDEX(INDIRECT(BereichFehlstunden),(ROW()-5),COLUMN())),"") -> #N/A | ... AI9: =IF(ROW()-6<ROWS(INDIRECT(BereichFehlstunden)),IF(ISBLANK(INDEX(INDIRECT(BereichFehlstunden),(ROW()-5),COLUMN())),"",INDEX(INDIRECT(BereichFehlstunden),(ROW()-5),COLUMN())),"") -> #N/A
A10: =IF(ROW()-6<ROWS(INDIRECT(BereichFehlstunden)),IF(ISBLANK(INDEX(INDIRECT(BereichFehlstunden),(ROW()-5),COLUMN())),"",INDEX(INDIRECT(BereichFehlstunden),(ROW()-5),COLUMN())),"") -> #N/A | B10: =IF(ROW()-6<ROWS(INDIRECT(BereichFehlstunden)),IF(ISBLANK(INDEX(INDIRECT(BereichFehlstunden),(ROW()-5),COLUMN())),"",INDEX(INDIRECT(BereichFehlstunden),(ROW()-5),COLUMN())),"") -> #N/A | C10: =IF(ROW()-6<ROWS(INDIRECT(BereichFehlstunden)),IF(ISBLANK(INDEX(INDIRECT(BereichFehlstunden),(ROW()-5),COLUMN())),"",INDEX(INDIRECT(BereichFehlstunden),(ROW()-5),COLUMN())),"") -> #N/A | D10: =IF(ROW()-6<ROWS(INDIRECT(BereichFehlstunden)),IF(ISBLANK(INDEX(INDIRECT(BereichFehlstunden),(ROW()-5),COLUMN())),"",INDEX(INDIRECT(BereichFehlstunden),(ROW()-5),COLUMN())),"") -> #N/A | E10: =IF(ROW()-6<ROWS(INDIRECT(BereichFehlstunden)),IF(ISBLANK(INDEX(INDIRECT(BereichFehlstunden),(ROW()-5),COLUMN())),"",INDEX(INDIRECT(BereichFehlstunden),(ROW()-5),COLUMN())),"") -> #N/A | F10: =IF(ROW()-6<ROWS(INDIRECT(BereichFehlstunden)),IF(ISBLANK(INDEX(INDIRECT(BereichFehlstunden),(ROW()-5),COLUMN())),"",INDEX(INDIRECT(BereichFehlstunden),(ROW()-5),COLUMN())),"") -> #N/A | G10: =IF(ROW()-6<ROWS(INDIRECT(BereichFehlstunden)),IF(ISBLANK(INDEX(INDIRECT(BereichFehlstunden),(ROW()-5),COLUMN())),"",INDEX(INDIRECT(BereichFehlstunden),(ROW()-5),COLUMN())),"") -> #N/A | H10: =IF(ROW()-6<ROWS(INDIRECT(BereichFehlstunden)),IF(ISBLANK(INDEX(INDIRECT(BereichFehlstunden),(ROW()-5),COLUMN())),"",INDEX(INDIRECT(BereichFehlstunden),(ROW()-5),COLUMN())),"") -> #N/A | ... AI10: =IF(ROW()-6<ROWS(INDIRECT(BereichFehlstunden)),IF(ISBLANK(INDEX(INDIRECT(BereichFehlstunden),(ROW()-5),COLUMN())),"",INDEX(INDIRECT(BereichFehlstunden),(ROW()-5),COLUMN())),"") -> #N/A
A11: =IF(ROW()-6<ROWS(INDIRECT(BereichFehlstunden)),IF(ISBLANK(INDEX(INDIRECT(BereichFehlstunden),(ROW()-5),COLUMN())),"",INDEX(INDIRECT(BereichFehlstunden),(ROW()-5),COLUMN())),"") -> #N/A | B11: =IF(ROW()-6<ROWS(INDIRECT(BereichFehlstunden)),IF(ISBLANK(INDEX(INDIRECT(BereichFehlstunden),(ROW()-5),COLUMN())),"",INDEX(INDIRECT(BereichFehlstunden),(ROW()-5),COLUMN())),"") -> #N/A | C11: =IF(ROW()-6<ROWS(INDIRECT(BereichFehlstunden)),IF(ISBLANK(INDEX(INDIRECT(BereichFehlstunden),(ROW()-5),COLUMN())),"",INDEX(INDIRECT(BereichFehlstunden),(ROW()-5),COLUMN())),"") -> #N/A | D11: =IF(ROW()-6<ROWS(INDIRECT(BereichFehlstunden)),IF(ISBLANK(INDEX(INDIRECT(BereichFehlstunden),(ROW()-5),COLUMN())),"",INDEX(INDIRECT(BereichFehlstunden),(ROW()-5),COLUMN())),"") -> #N/A | E11: =IF(ROW()-6<ROWS(INDIRECT(BereichFehlstunden)),IF(ISBLANK(INDEX(INDIRECT(BereichFehlstunden),(ROW()-5),COLUMN())),"",INDEX(INDIRECT(BereichFehlstunden),(ROW()-5),COLUMN())),"") -> #N/A | F11: =IF(ROW()-6<ROWS(INDIRECT(BereichFehlstunden)),IF(ISBLANK(INDEX(INDIRECT(BereichFehlstunden),(ROW()-5),COLUMN())),"",INDEX(INDIRECT(BereichFehlstunden),(ROW()-5),COLUMN())),"") -> #N/A | G11: =IF(ROW()-6<ROWS(INDIRECT(BereichFehlstunden)),IF(ISBLANK(INDEX(INDIRECT(BereichFehlstunden),(ROW()-5),COLUMN())),"",INDEX(INDIRECT(BereichFehlstunden),(ROW()-5),COLUMN())),"") -> #N/A | H11: =IF(ROW()-6<ROWS(INDIRECT(BereichFehlstunden)),IF(ISBLANK(INDEX(INDIRECT(BereichFehlstunden),(ROW()-5),COLUMN())),"",INDEX(INDIRECT(BereichFehlstunden),(ROW()-5),COLUMN())),"") -> #N/A | ... AI11: =IF(ROW()-6<ROWS(INDIRECT(BereichFehlstunden)),IF(ISBLANK(INDEX(INDIRECT(BereichFehlstunden),(ROW()-5),COLUMN())),"",INDEX(INDIRECT(BereichFehlstunden),(ROW()-5),COLUMN())),"") -> #N/A
A12: =IF(ROW()-6<ROWS(INDIRECT(BereichFehlstunden)),IF(ISBLANK(INDEX(INDIRECT(BereichFehlstunden),(ROW()-5),COLUMN())),"",INDEX(INDIRECT(BereichFehlstunden),(ROW()-5),COLUMN())),"") -> #N/A | B12: =IF(ROW()-6<ROWS(INDIRECT(BereichFehlstunden)),IF(ISBLANK(INDEX(INDIRECT(BereichFehlstunden),(ROW()-5),COLUMN())),"",INDEX(INDIRECT(BereichFehlstunden),(ROW()-5),COLUMN())),"") -> #N/A | C12: =IF(ROW()-6<ROWS(INDIRECT(BereichFehlstunden)),IF(ISBLANK(INDEX(INDIRECT(BereichFehlstunden),(ROW()-5),COLUMN())),"",INDEX(INDIRECT(BereichFehlstunden),(ROW()-5),COLUMN())),"") -> #N/A | D12: =IF(ROW()-6<ROWS(INDIRECT(BereichFehlstunden)),IF(ISBLANK(INDEX(INDIRECT(BereichFehlstunden),(ROW()-5),COLUMN())),"",INDEX(INDIRECT(BereichFehlstunden),(ROW()-5),COLUMN())),"") -> #N/A | E12: =IF(ROW()-6<ROWS(INDIRECT(BereichFehlstunden)),IF(ISBLANK(INDEX(INDIRECT(BereichFehlstunden),(ROW()-5),COLUMN())),"",INDEX(INDIRECT(BereichFehlstunden),(ROW()-5),COLUMN())),"") -> #N/A | F12: =IF(ROW()-6<ROWS(INDIRECT(BereichFehlstunden)),IF(ISBLANK(INDEX(INDIRECT(BereichFehlstunden),(ROW()-5),COLUMN())),"",INDEX(INDIRECT(BereichFehlstunden),(ROW()-5),COLUMN())),"") -> #N/A | G12: =IF(ROW()-6<ROWS(INDIRECT(BereichFehlstunden)),IF(ISBLANK(INDEX(INDIRECT(BereichFehlstunden),(ROW()-5),COLUMN())),"",INDEX(INDIRECT(BereichFehlstunden),(ROW()-5),COLUMN())),"") -> #N/A | H12: =IF(ROW()-6<ROWS(INDIRECT(BereichFehlstunden)),IF(ISBLANK(INDEX(INDIRECT(BereichFehlstunden),(ROW()-5),COLUMN())),"",INDEX(INDIRECT(BereichFehlstunden),(ROW()-5),COLUMN())),"") -> #N/A | ... AI12: =IF(ROW()-6<ROWS(INDIRECT(BereichFehlstunden)),IF(ISBLANK(INDEX(INDIRECT(BereichFehlstunden),(ROW()-5),COLUMN())),"",INDEX(INDIRECT(BereichFehlstunden),(ROW()-5),COLUMN())),"") -> #N/A
A13: =IF(ROW()-6<ROWS(INDIRECT(BereichFehlstunden)),IF(ISBLANK(INDEX(INDIRECT(BereichFehlstunden),(ROW()-5),COLUMN())),"",INDEX(INDIRECT(BereichFehlstunden),(ROW()-5),COLUMN())),"") -> #N/A | B13: =IF(ROW()-6<ROWS(INDIRECT(BereichFehlstunden)),IF(ISBLANK(INDEX(INDIRECT(BereichFehlstunden),(ROW()-5),COLUMN())),"",INDEX(INDIRECT(BereichFehlstunden),(ROW()-5),COLUMN())),"") -> #N/A | C13: =IF(ROW()-6<ROWS(INDIRECT(BereichFehlstunden)),IF(ISBLANK(INDEX(INDIRECT(BereichFehlstunden),(ROW()-5),COLUMN())),"",INDEX(INDIRECT(BereichFehlstunden),(ROW()-5),COLUMN())),"") -> #N/A | D13: =IF(ROW()-6<ROWS(INDIRECT(BereichFehlstunden)),IF(ISBLANK(INDEX(INDIRECT(BereichFehlstunden),(ROW()-5),COLUMN())),"",INDEX(INDIRECT(BereichFehlstunden),(ROW()-5),COLUMN())),"") -> #N/A | E13: =IF(ROW()-6<ROWS(INDIRECT(BereichFehlstunden)),IF(ISBLANK(INDEX(INDIRECT(BereichFehlstunden),(ROW()-5),COLUMN())),"",INDEX(INDIRECT(BereichFehlstunden),(ROW()-5),COLUMN())),"") -> #N/A | F13: =IF(ROW()-6<ROWS(INDIRECT(BereichFehlstunden)),IF(ISBLANK(INDEX(INDIRECT(BereichFehlstunden),(ROW()-5),COLUMN())),"",INDEX(INDIRECT(BereichFehlstunden),(ROW()-5),COLUMN())),"") -> #N/A | G13: =IF(ROW()-6<ROWS(INDIRECT(BereichFehlstunden)),IF(ISBLANK(INDEX(INDIRECT(BereichFehlstunden),(ROW()-5),COLUMN())),"",INDEX(INDIRECT(BereichFehlstunden),(ROW()-5),COLUMN())),"") -> #N/A | H13: =IF(ROW()-6<ROWS(INDIRECT(BereichFehlstunden)),IF(ISBLANK(INDEX(INDIRECT(BereichFehlstunden),(ROW()-5),COLUMN())),"",INDEX(INDIRECT(BereichFehlstunden),(ROW()-5),COLUMN())),"") -> #N/A | ... AI13: =IF(ROW()-6<ROWS(INDIRECT(BereichFehlstunden)),IF(ISBLANK(INDEX(INDIRECT(BereichFehlstunden),(ROW()-5),COLUMN())),"",INDEX(INDIRECT(BereichFehlstunden),(ROW()-5),COLUMN())),"") -> #N/A
A14: =IF(ROW()-6<ROWS(INDIRECT(BereichFehlstunden)),IF(ISBLANK(INDEX(INDIRECT(BereichFehlstunden),(ROW()-5),COLUMN())),"",INDEX(INDIRECT(BereichFehlstunden),(ROW()-5),COLUMN())),"") -> #N/A | B14: =IF(ROW()-6<ROWS(INDIRECT(BereichFehlstunden)),IF(ISBLANK(INDEX(INDIRECT(BereichFehlstunden),(ROW()-5),COLUMN())),"",INDEX(INDIRECT(BereichFehlstunden),(ROW()-5),COLUMN())),"") -> #N/A | C14: =IF(ROW()-6<ROWS(INDIRECT(BereichFehlstunden)),IF(ISBLANK(INDEX(INDIRECT(BereichFehlstunden),(ROW()-5),COLUMN())),"",INDEX(INDIRECT(BereichFehlstunden),(ROW()-5),COLUMN())),"") -> #N/A | D14: =IF(ROW()-6<ROWS(INDIRECT(BereichFehlstunden)),IF(ISBLANK(INDEX(INDIRECT(BereichFehlstunden),(ROW()-5),COLUMN())),"",INDEX(INDIRECT(BereichFehlstunden),(ROW()-5),COLUMN())),"") -> #N/A | E14: =IF(ROW()-6<ROWS(INDIRECT(BereichFehlstunden)),IF(ISBLANK(INDEX(INDIRECT(BereichFehlstunden),(ROW()-5),COLUMN())),"",INDEX(INDIRECT(BereichFehlstunden),(ROW()-5),COLUMN())),"") -> #N/A | F14: =IF(ROW()-6<ROWS(INDIRECT(BereichFehlstunden)),IF(ISBLANK(INDEX(INDIRECT(BereichFehlstunden),(ROW()-5),COLUMN())),"",INDEX(INDIRECT(BereichFehlstunden),(ROW()-5),COLUMN())),"") -> #N/A | G14: =IF(ROW()-6<ROWS(INDIRECT(BereichFehlstunden)),IF(ISBLANK(INDEX(INDIRECT(BereichFehlstunden),(ROW()-5),COLUMN())),"",INDEX(INDIRECT(BereichFehlstunden),(ROW()-5),COLUMN())),"") -> #N/A | H14: =IF(ROW()-6<ROWS(INDIRECT(BereichFehlstunden)),IF(ISBLANK(INDEX(INDIRECT(BereichFehlstunden),(ROW()-5),COLUMN())),"",INDEX(INDIRECT(BereichFehlstunden),(ROW()-5),COLUMN())),"") -> #N/A | ... AI14: =IF(ROW()-6<ROWS(INDIRECT(BereichFehlstunden)),IF(ISBLANK(INDEX(INDIRECT(BereichFehlstunden),(ROW()-5),COLUMN())),"",INDEX(INDIRECT(BereichFehlstunden),(ROW()-5),COLUMN())),"") -> #N/A
A15: =IF(ROW()-6<ROWS(INDIRECT(BereichFehlstunden)),IF(ISBLANK(INDEX(INDIRECT(BereichFehlstunden),(ROW()-5),COLUMN())),"",INDEX(INDIRECT(BereichFehlstunden),(ROW()-5),COLUMN())),"") -> #N/A | B15: =IF(ROW()-6<ROWS(INDIRECT(BereichFehlstunden)),IF(ISBLANK(INDEX(INDIRECT(BereichFehlstunden),(ROW()-5),COLUMN())),"",INDEX(INDIRECT(BereichFehlstunden),(ROW()-5),COLUMN())),"") -> #N/A | C15: =IF(ROW()-6<ROWS(INDIRECT(BereichFehlstunden)),IF(ISBLANK(INDEX(INDIRECT(BereichFehlstunden),(ROW()-5),COLUMN())),"",INDEX(INDIRECT(BereichFehlstunden),(ROW()-5),COLUMN())),"") -> #N/A | D15: =IF(ROW()-6<ROWS(INDIRECT(BereichFehlstunden)),IF(ISBLANK(INDEX(INDIRECT(BereichFehlstunden),(ROW()-5),COLUMN())),"",INDEX(INDIRECT(BereichFehlstunden),(ROW()-5),COLUMN())),"") -> #N/A | E15: =IF(ROW()-6<ROWS(INDIRECT(BereichFehlstunden)),IF(ISBLANK(INDEX(INDIRECT(BereichFehlstunden),(ROW()-5),COLUMN())),"",INDEX(INDIRECT(BereichFehlstunden),(ROW()-5),COLUMN())),"") -> #N/A | F15: =IF(ROW()-6<ROWS(INDIRECT(BereichFehlstunden)),IF(ISBLANK(INDEX(INDIRECT(BereichFehlstunden),(ROW()-5),COLUMN())),"",INDEX(INDIRECT(BereichFehlstunden),(ROW()-5),COLUMN())),"") -> #N/A | G15: =IF(ROW()-6<ROWS(INDIRECT(BereichFehlstunden)),IF(ISBLANK(INDEX(INDIRECT(BereichFehlstunden),(ROW()-5),COLUMN())),"",INDEX(INDIRECT(BereichFehlstunden),(ROW()-5),COLUMN())),"") -> #N/A | H15: =IF(ROW()-6<ROWS(INDIRECT(BereichFehlstunden)),IF(ISBLANK(INDEX(INDIRECT(BereichFehlstunden),(ROW()-5),COLUMN())),"",INDEX(INDIRECT(BereichFehlstunden),(ROW()-5),COLUMN())),"") -> #N/A | ... AI15: =IF(ROW()-6<ROWS(INDIRECT(BereichFehlstunden)),IF(ISBLANK(INDEX(INDIRECT(BereichFehlstunden),(ROW()-5),COLUMN())),"",INDEX(INDIRECT(BereichFehlstunden),(ROW()-5),COLUMN())),"") -> #N/A
A16: =IF(ROW()-6<ROWS(INDIRECT(BereichFehlstunden)),IF(ISBLANK(INDEX(INDIRECT(BereichFehlstunden),(ROW()-5),COLUMN())),"",INDEX(INDIRECT(BereichFehlstunden),(ROW()-5),COLUMN())),"") -> #N/A | B16: =IF(ROW()-6<ROWS(INDIRECT(BereichFehlstunden)),IF(ISBLANK(INDEX(INDIRECT(BereichFehlstunden),(ROW()-5),COLUMN())),"",INDEX(INDIRECT(BereichFehlstunden),(ROW()-5),COLUMN())),"") -> #N/A | C16: =IF(ROW()-6<ROWS(INDIRECT(BereichFehlstunden)),IF(ISBLANK(INDEX(INDIRECT(BereichFehlstunden),(ROW()-5),COLUMN())),"",INDEX(INDIRECT(BereichFehlstunden),(ROW()-5),COLUMN())),"") -> #N/A | D16: =IF(ROW()-6<ROWS(INDIRECT(BereichFehlstunden)),IF(ISBLANK(INDEX(INDIRECT(BereichFehlstunden),(ROW()-5),COLUMN())),"",INDEX(INDIRECT(BereichFehlstunden),(ROW()-5),COLUMN())),"") -> #N/A | E16: =IF(ROW()-6<ROWS(INDIRECT(BereichFehlstunden)),IF(ISBLANK(INDEX(INDIRECT(BereichFehlstunden),(ROW()-5),COLUMN())),"",INDEX(INDIRECT(BereichFehlstunden),(ROW()-5),COLUMN())),"") -> #N/A | F16: =IF(ROW()-6<ROWS(INDIRECT(BereichFehlstunden)),IF(ISBLANK(INDEX(INDIRECT(BereichFehlstunden),(ROW()-5),COLUMN())),"",INDEX(INDIRECT(BereichFehlstunden),(ROW()-5),COLUMN())),"") -> #N/A | G16: =IF(ROW()-6<ROWS(INDIRECT(BereichFehlstunden)),IF(ISBLANK(INDEX(INDIRECT(BereichFehlstunden),(ROW()-5),COLUMN())),"",INDEX(INDIRECT(BereichFehlstunden),(ROW()-5),COLUMN())),"") -> #N/A | H16: =IF(ROW()-6<ROWS(INDIRECT(BereichFehlstunden)),IF(ISBLANK(INDEX(INDIRECT(BereichFehlstunden),(ROW()-5),COLUMN())),"",INDEX(INDIRECT(BereichFehlstunden),(ROW()-5),COLUMN())),"") -> #N/A | ... AI16: =IF(ROW()-6<ROWS(INDIRECT(BereichFehlstunden)),IF(ISBLANK(INDEX(INDIRECT(BereichFehlstunden),(ROW()-5),COLUMN())),"",INDEX(INDIRECT(BereichFehlstunden),(ROW()-5),COLUMN())),"") -> #N/A
A17: =IF(ROW()-6<ROWS(INDIRECT(BereichFehlstunden)),IF(ISBLANK(INDEX(INDIRECT(BereichFehlstunden),(ROW()-5),COLUMN())),"",INDEX(INDIRECT(BereichFehlstunden),(ROW()-5),COLUMN())),"") -> #N/A | B17: =IF(ROW()-6<ROWS(INDIRECT(BereichFehlstunden)),IF(ISBLANK(INDEX(INDIRECT(BereichFehlstunden),(ROW()-5),COLUMN())),"",INDEX(INDIRECT(BereichFehlstunden),(ROW()-5),COLUMN())),"") -> #N/A | C17: =IF(ROW()-6<ROWS(INDIRECT(BereichFehlstunden)),IF(ISBLANK(INDEX(INDIRECT(BereichFehlstunden),(ROW()-5),COLUMN())),"",INDEX(INDIRECT(BereichFehlstunden),(ROW()-5),COLUMN())),"") -> #N/A | D17: =IF(ROW()-6<ROWS(INDIRECT(BereichFehlstunden)),IF(ISBLANK(INDEX(INDIRECT(BereichFehlstunden),(ROW()-5),COLUMN())),"",INDEX(INDIRECT(BereichFehlstunden),(ROW()-5),COLUMN())),"") -> #N/A | E17: =IF(ROW()-6<ROWS(INDIRECT(BereichFehlstunden)),IF(ISBLANK(INDEX(INDIRECT(BereichFehlstunden),(ROW()-5),COLUMN())),"",INDEX(INDIRECT(BereichFehlstunden),(ROW()-5),COLUMN())),"") -> #N/A | F17: =IF(ROW()-6<ROWS(INDIRECT(BereichFehlstunden)),IF(ISBLANK(INDEX(INDIRECT(BereichFehlstunden),(ROW()-5),COLUMN())),"",INDEX(INDIRECT(BereichFehlstunden),(ROW()-5),COLUMN())),"") -> #N/A | G17: =IF(ROW()-6<ROWS(INDIRECT(BereichFehlstunden)),IF(ISBLANK(INDEX(INDIRECT(BereichFehlstunden),(ROW()-5),COLUMN())),"",INDEX(INDIRECT(BereichFehlstunden),(ROW()-5),COLUMN())),"") -> #N/A | H17: =IF(ROW()-6<ROWS(INDIRECT(BereichFehlstunden)),IF(ISBLANK(INDEX(INDIRECT(BereichFehlstunden),(ROW()-5),COLUMN())),"",INDEX(INDIRECT(BereichFehlstunden),(ROW()-5),COLUMN())),"") -> #N/A | ... AI17: =IF(ROW()-6<ROWS(INDIRECT(BereichFehlstunden)),IF(ISBLANK(INDEX(INDIRECT(BereichFehlstunden),(ROW()-5),COLUMN())),"",INDEX(INDIRECT(BereichFehlstunden),(ROW()-5),COLUMN())),"") -> #N/A
... A76: =IF(ROW()-6<ROWS(INDIRECT(BereichFehlstunden)),IF(ISBLANK(INDEX(INDIRECT(BereichFehlstunden),(ROW()-5),COLUMN())),"",INDEX(INDIRECT(BereichFehlstunden),(ROW()-5),COLUMN())),"") -> #N/A | B76: =IF(ROW()-6<ROWS(INDIRECT(BereichFehlstunden)),IF(ISBLANK(INDEX(INDIRECT(BereichFehlstunden),(ROW()-5),COLUMN())),"",INDEX(INDIRECT(BereichFehlstunden),(ROW()-5),COLUMN())),"") -> #N/A | C76: =IF(ROW()-6<ROWS(INDIRECT(BereichFehlstunden)),IF(ISBLANK(INDEX(INDIRECT(BereichFehlstunden),(ROW()-5),COLUMN())),"",INDEX(INDIRECT(BereichFehlstunden),(ROW()-5),COLUMN())),"") -> #N/A | D76: =IF(ROW()-6<ROWS(INDIRECT(BereichFehlstunden)),IF(ISBLANK(INDEX(INDIRECT(BereichFehlstunden),(ROW()-5),COLUMN())),"",INDEX(INDIRECT(BereichFehlstunden),(ROW()-5),COLUMN())),"") -> #N/A | E76: =IF(ROW()-6<ROWS(INDIRECT(BereichFehlstunden)),IF(ISBLANK(INDEX(INDIRECT(BereichFehlstunden),(ROW()-5),COLUMN())),"",INDEX(INDIRECT(BereichFehlstunden),(ROW()-5),COLUMN())),"") -> #N/A | F76: =IF(ROW()-6<ROWS(INDIRECT(BereichFehlstunden)),IF(ISBLANK(INDEX(INDIRECT(BereichFehlstunden),(ROW()-5),COLUMN())),"",INDEX(INDIRECT(BereichFehlstunden),(ROW()-5),COLUMN())),"") -> #N/A | G76: =IF(ROW()-6<ROWS(INDIRECT(BereichFehlstunden)),IF(ISBLANK(INDEX(INDIRECT(BereichFehlstunden),(ROW()-5),COLUMN())),"",INDEX(INDIRECT(BereichFehlstunden),(ROW()-5),COLUMN())),"") -> #N/A | H76: =IF(ROW()-6<ROWS(INDIRECT(BereichFehlstunden)),IF(ISBLANK(INDEX(INDIRECT(BereichFehlstunden),(ROW()-5),COLUMN())),"",INDEX(INDIRECT(BereichFehlstunden),(ROW()-5),COLUMN())),"") -> #N/A | ... AI76: =IF(ROW()-6<ROWS(INDIRECT(BereichFehlstunden)),IF(ISBLANK(INDEX(INDIRECT(BereichFehlstunden),(ROW()-5),COLUMN())),"",INDEX(INDIRECT(BereichFehlstunden),(ROW()-5),COLUMN())),"") -> #N/A

Sheet Fehlzeiten (S.2)
A1: =CONCATENATE("Fehlzeitenübersicht für Kurs: ", INDEX(CSV!$B$1:$B$1071,ZeileKursbezeichnung)) -> #N/A
A2: =CONCATENATE("Jahrgang: ", INDEX(CSV!$B$1:$B$1071,ZeileJahrgang)) -> #N/A
A3: =IF(ISBLANK(INDEX(CSV!$B$1:$B$1071,ZeileLehrer)),"",INDEX(CSV!$B$1:$B$1071,ZeileLehrer)) -> #N/A
A5: =IF(ISBLANK(INDEX(INDIRECT(BereichFehlstundenDatum),(ROW()-4),COLUMN()) ),"",INDEX(INDIRECT(BereichFehlstundenDatum),(ROW()-4),COLUMN())) -> #N/A | B5: =IF(ISBLANK(INDEX(INDIRECT(BereichFehlstundenDatum),(ROW()-4),COLUMN()) ),"",INDEX(INDIRECT(BereichFehlstundenDatum),(ROW()-4),COLUMN())) -> #N/A | C5: =IF(ISBLANK(INDEX(INDIRECT(BereichFehlstundenDatum),(ROW()-4),COLUMN()+33) ),"",INDEX(INDIRECT(BereichFehlstundenDatum),(ROW()-4),COLUMN()+33)) -> #N/A | D5: =IF(ISBLANK(INDEX(INDIRECT(BereichFehlstundenDatum),(ROW()-4),COLUMN()+33) ),"",INDEX(INDIRECT(BereichFehlstundenDatum),(ROW()-4),COLUMN()+33)) -> #N/A | E5: =IF(ISBLANK(INDEX(INDIRECT(BereichFehlstundenDatum),(ROW()-4),COLUMN()+33) ),"",INDEX(INDIRECT(BereichFehlstundenDatum),(ROW()-4),COLUMN()+33)) -> #N/A | F5: =IF(ISBLANK(INDEX(INDIRECT(BereichFehlstundenDatum),(ROW()-4),COLUMN()+33) ),"",INDEX(INDIRECT(BereichFehlstundenDatum),(ROW()-4),COLUMN()+33)) -> #N/A | G5: =IF(ISBLANK(INDEX(INDIRECT(BereichFehlstundenDatum),(ROW()-4),COLUMN()+33) ),"",INDEX(INDIRECT(BereichFehlstundenDatum),(ROW()-4),COLUMN()+33)) -> #N/A | H5: =IF(ISBLANK(INDEX(INDIRECT(BereichFehlstundenDatum),(ROW()-4),COLUMN()+33) ),"",INDEX(INDIRECT(BereichFehlstundenDatum),(ROW()-4),COLUMN()+33)) -> #N/A | I5: =IF(ISBLANK(INDEX(INDIRECT(BereichFehlstundenDatum),(ROW()-4),COLUMN()+33) ),"",INDEX(INDIRECT(BereichFehlstundenDatum),(ROW()-4),COLUMN()+33)) -> #N/A | J5: =IF(ISBLANK(INDEX(INDIRECT(BereichFehlstundenDatum),(ROW()-4),COLUMN()+33) ),"",INDEX(INDIRECT(BereichFehlstundenDatum),(ROW()-4),COLUMN()+33)) -> #N/A | ... AI5: =IF(ISBLANK(INDEX(INDIRECT(BereichFehlstundenDatum),(ROW()-4),COLUMN()+33) ),"",INDEX(INDIRECT(BereichFehlstundenDatum),(ROW()-4),COLUMN()+33)) -> #N/A
A6: =IF(ROW()-6<ROWS(INDIRECT(BereichFehlstunden)),IF(ISBLANK(INDEX(INDIRECT(BereichFehlstunden),(ROW()-5),COLUMN())),"",INDEX(INDIRECT(BereichFehlstunden),(ROW()-5),COLUMN())),"") -> #N/A | B6: =IF(ROW()-6<ROWS(INDIRECT(BereichFehlstunden)),IF(ISBLANK(INDEX(INDIRECT(BereichFehlstunden),(ROW()-5),COLUMN())),"",INDEX(INDIRECT(BereichFehlstunden),(ROW()-5),COLUMN())),"") -> #N/A | C6: =IF(ROW()-6<ROWS(INDIRECT(BereichFehlstunden)),IF(ISBLANK(INDEX(INDIRECT(BereichFehlstunden),(ROW()-5),COLUMN()+33)),"",INDEX(INDIRECT(BereichFehlstunden),(ROW()-5),COLUMN()+33)),"") -> #N/A | D6: =IF(ROW()-6<ROWS(INDIRECT(BereichFehlstunden)),IF(ISBLANK(INDEX(INDIRECT(BereichFehlstunden),(ROW()-5),COLUMN()+33)),"",INDEX(INDIRECT(BereichFehlstunden),(ROW()-5),COLUMN()+33)),"") -> #N/A | E6: =IF(ROW()-6<ROWS(INDIRECT(BereichFehlstunden)),IF(ISBLANK(INDEX(INDIRECT(BereichFehlstunden),(ROW()-5),COLUMN()+33)),"",INDEX(INDIRECT(BereichFehlstunden),(ROW()-5),COLUMN()+33)),"") -> #N/A | F6: =IF(ROW()-6<ROWS(INDIRECT(BereichFehlstunden)),IF(ISBLANK(INDEX(INDIRECT(BereichFehlstunden),(ROW()-5),COLUMN()+33)),"",INDEX(INDIRECT(BereichFehlstunden),(ROW()-5),COLUMN()+33)),"") -> #N/A | G6: =IF(ROW()-6<ROWS(INDIRECT(BereichFehlstunden)),IF(ISBLANK(INDEX(INDIRECT(BereichFehlstunden),(ROW()-5),COLUMN()+33)),"",INDEX(INDIRECT(BereichFehlstunden),(ROW()-5),COLUMN()+33)),"") -> #N/A | H6: =IF(ROW()-6<ROWS(INDIRECT(BereichFehlstunden)),IF(ISBLANK(INDEX(INDIRECT(BereichFehlstunden),(ROW()-5),COLUMN()+33)),"",INDEX(INDIRECT(BereichFehlstunden),(ROW()-5),COLUMN()+33)),"") -> #N/A | I6: =IF(ROW()-6<ROWS(INDIRECT(BereichFehlstunden)),IF(ISBLANK(INDEX(INDIRECT(BereichFehlstunden),(ROW()-5),COLUMN()+33)),"",INDEX(INDIRECT(BereichFehlstunden),(ROW()-5),COLUMN()+33)),"") -> #N/A | J6: =IF(ROW()-6<ROWS(INDIRECT(BereichFehlstunden)),IF(ISBLANK(INDEX(INDIRECT(BereichFehlstunden),(ROW()-5),COLUMN()+33)),"",INDEX(INDIRECT(BereichFehlstunden),(ROW()-5),COLUMN()+33)),"") -> #N/A | ... AI6: =IF(ROW()-6<ROWS(INDIRECT(BereichFehlstunden)),IF(ISBLANK(INDEX(INDIRECT(BereichFehlstunden),(ROW()-5),COLUMN()+33)),"",INDEX(INDIRECT(BereichFehlstunden),(ROW()-5),COLUMN()+33)),"") -> #N/A
A7: =IF(ROW()-6<ROWS(INDIRECT(BereichFehlstunden)),IF(ISBLANK(INDEX(INDIRECT(BereichFehlstunden),(ROW()-5),COLUMN())),"",INDEX(INDIRECT(BereichFehlstunden),(ROW()-5),COLUMN())),"") -> #N/A | B7: =IF(ROW()-6<ROWS(INDIRECT(BereichFehlstunden)),IF(ISBLANK(INDEX(INDIRECT(BereichFehlstunden),(ROW()-5),COLUMN())),"",INDEX(INDIRECT(BereichFehlstunden),(ROW()-5),COLUMN())),"") -> #N/A | C7: =IF(ROW()-6<ROWS(INDIRECT(BereichFehlstunden)),IF(ISBLANK(INDEX(INDIRECT(BereichFehlstunden),(ROW()-5),COLUMN()+33)),"",INDEX(INDIRECT(BereichFehlstunden),(ROW()-5),COLUMN()+33)),"") -> #N/A | D7: =IF(ROW()-6<ROWS(INDIRECT(BereichFehlstunden)),IF(ISBLANK(INDEX(INDIRECT(BereichFehlstunden),(ROW()-5),COLUMN()+33)),"",INDEX(INDIRECT(BereichFehlstunden),(ROW()-5),COLUMN()+33)),"") -> #N/A | E7: =IF(ROW()-6<ROWS(INDIRECT(BereichFehlstunden)),IF(ISBLANK(INDEX(INDIRECT(BereichFehlstunden),(ROW()-5),COLUMN()+33)),"",INDEX(INDIRECT(BereichFehlstunden),(ROW()-5),COLUMN()+33)),"") -> #N/A | F7: =IF(ROW()-6<ROWS(INDIRECT(BereichFehlstunden)),IF(ISBLANK(INDEX(INDIRECT(BereichFehlstunden),(ROW()-5),COLUMN()+33)),"",INDEX(INDIRECT(BereichFehlstunden),(ROW()-5),COLUMN()+33)),"") -> #N/A | G7: =IF(ROW()-6<ROWS(INDIRECT(BereichFehlstunden)),IF(ISBLANK(INDEX(INDIRECT(BereichFehlstunden),(ROW()-5),COLUMN()+33)),"",INDEX(INDIRECT(BereichFehlstunden),(ROW()-5),COLUMN()+33)),"") -> #N/A | H7: =IF(ROW()-6<ROWS(INDIRECT(BereichFehlstunden)),IF(ISBLANK(INDEX(INDIRECT(BereichFehlstunden),(ROW()-5),COLUMN()+33)),"",INDEX(INDIRECT(BereichFehlstunden),(ROW()-5),COLUMN()+33)),"") -> #N/A | I7: =IF(ROW()-6<ROWS(INDIRECT(BereichFehlstunden)),IF(ISBLANK(INDEX(INDIRECT(BereichFehlstunden),(ROW()-5),COLUMN()+33)),"",INDEX(INDIRECT(BereichFehlstunden),(ROW()-5),COLUMN()+33)),"") -> #N/A | J7: =IF(ROW()-6<ROWS(INDIRECT(BereichFehlstunden)),IF(ISBLANK(INDEX(INDIRECT(BereichFehlstunden),(ROW()-5),COLUMN()+33)),"",INDEX(INDIRECT(BereichFehlstunden),(ROW()-5),COLUMN()+33)),"") -> #N/A | ... AI7: =IF(ROW()-6<ROWS(INDIRECT(BereichFehlstunden)),IF(ISBLANK(INDEX(INDIRECT(BereichFehlstunden),(ROW()-5),COLUMN()+33)),"",INDEX(INDIRECT(BereichFehlstunden),(ROW()-5),COLUMN()+33)),"") -> #N/A
A8: =IF(ROW()-6<ROWS(INDIRECT(BereichFehlstunden)),IF(ISBLANK(INDEX(INDIRECT(BereichFehlstunden),(ROW()-5),COLUMN())),"",INDEX(INDIRECT(BereichFehlstunden),(ROW()-5),COLUMN())),"") -> #N/A | B8: =IF(ROW()-6<ROWS(INDIRECT(BereichFehlstunden)),IF(ISBLANK(INDEX(INDIRECT(BereichFehlstunden),(ROW()-5),COLUMN())),"",INDEX(INDIRECT(BereichFehlstunden),(ROW()-5),COLUMN())),"") -> #N/A | C8: =IF(ROW()-6<ROWS(INDIRECT(BereichFehlstunden)),IF(ISBLANK(INDEX(INDIRECT(BereichFehlstunden),(ROW()-5),COLUMN()+33)),"",INDEX(INDIRECT(BereichFehlstunden),(ROW()-5),COLUMN()+33)),"") -> #N/A | D8: =IF(ROW()-6<ROWS(INDIRECT(BereichFehlstunden)),IF(ISBLANK(INDEX(INDIRECT(BereichFehlstunden),(ROW()-5),COLUMN()+33)),"",INDEX(INDIRECT(BereichFehlstunden),(ROW()-5),COLUMN()+33)),"") -> #N/A | E8: =IF(ROW()-6<ROWS(INDIRECT(BereichFehlstunden)),IF(ISBLANK(INDEX(INDIRECT(BereichFehlstunden),(ROW()-5),COLUMN()+33)),"",INDEX(INDIRECT(BereichFehlstunden),(ROW()-5),COLUMN()+33)),"") -> #N/A | F8: =IF(ROW()-6<ROWS(INDIRECT(BereichFehlstunden)),IF(ISBLANK(INDEX(INDIRECT(BereichFehlstunden),(ROW()-5),COLUMN()+33)),"",INDEX(INDIRECT(BereichFehlstunden),(ROW()-5),COLUMN()+33)),"") -> #N/A | G8: =IF(ROW()-6<ROWS(INDIRECT(BereichFehlstunden)),IF(ISBLANK(INDEX(INDIRECT(BereichFehlstunden),(ROW()-5),COLUMN()+33)),"",INDEX(INDIRECT(BereichFehlstunden),(ROW()-5),COLUMN()+33)),"") -> #N/A | H8: =IF(ROW()-6<ROWS(INDIRECT(BereichFehlstunden)),IF(ISBLANK(INDEX(INDIRECT(BereichFehlstunden),(ROW()-5),COLUMN()+33)),"",INDEX(INDIRECT(BereichFehlstunden),(ROW()-5),COLUMN()+33)),"") -> #N/A | I8: =IF(ROW()-6<ROWS(INDIRECT(BereichFehlstunden)),IF(ISBLANK(INDEX(INDIRECT(BereichFehlstunden),(ROW()-5),COLUMN()+33)),"",INDEX(INDIRECT(BereichFehlstunden),(ROW()-5),COLUMN()+33)),"") -> #N/A | J8: =IF(ROW()-6<ROWS(INDIRECT(BereichFehlstunden)),IF(ISBLANK(INDEX(INDIRECT(BereichFehlstunden),(ROW()-5),COLUMN()+33)),"",INDEX(INDIRECT(BereichFehlstunden),(ROW()-5),COLUMN()+33)),"") -> #N/A | ... AI8: =IF(ROW()-6<ROWS(INDIRECT(BereichFehlstunden)),IF(ISBLANK(INDEX(INDIRECT(BereichFehlstunden),(ROW()-5),COLUMN()+33)),"",INDEX(INDIRECT(BereichFehlstunden),(ROW()-5),COLUMN()+33)),"") -> #N/A
A9: =IF(ROW()-6<ROWS(INDIRECT(BereichFehlstunden)),IF(ISBLANK(INDEX(INDIRECT(BereichFehlstunden),(ROW()-5),COLUMN())),"",INDEX(INDIRECT(BereichFehlstunden),(ROW()-5),COLUMN())),"") -> #N/A | B9: =IF(ROW()-6<ROWS(INDIRECT(BereichFehlstunden)),IF(ISBLANK(INDEX(INDIRECT(BereichFehlstunden),(ROW()-5),COLUMN())),"",INDEX(INDIRECT(BereichFehlstunden),(ROW()-5),COLUMN())),"") -> #N/A | C9: =IF(ROW()-6<ROWS(INDIRECT(BereichFehlstunden)),IF(ISBLANK(INDEX(INDIRECT(BereichFehlstunden),(ROW()-5),COLUMN()+33)),"",INDEX(INDIRECT(BereichFehlstunden),(ROW()-5),COLUMN()+33)),"") -> #N/A | D9: =IF(ROW()-6<ROWS(INDIRECT(BereichFehlstunden)),IF(ISBLANK(INDEX(INDIRECT(BereichFehlstunden),(ROW()-5),COLUMN()+33)),"",INDEX(INDIRECT(BereichFehlstunden),(ROW()-5),COLUMN()+33)),"") -> #N/A | E9: =IF(ROW()-6<ROWS(INDIRECT(BereichFehlstunden)),IF(ISBLANK(INDEX(INDIRECT(BereichFehlstunden),(ROW()-5),COLUMN()+33)),"",INDEX(INDIRECT(BereichFehlstunden),(ROW()-5),COLUMN()+33)),"") -> #N/A | F9: =IF(ROW()-6<ROWS(INDIRECT(BereichFehlstunden)),IF(ISBLANK(INDEX(INDIRECT(BereichFehlstunden),(ROW()-5),COLUMN()+33)),"",INDEX(INDIRECT(BereichFehlstunden),(ROW()-5),COLUMN()+33)),"") -> #N/A | G9: =IF(ROW()-6<ROWS(INDIRECT(BereichFehlstunden)),IF(ISBLANK(INDEX(INDIRECT(BereichFehlstunden),(ROW()-5),COLUMN()+33)),"",INDEX(INDIRECT(BereichFehlstunden),(ROW()-5),COLUMN()+33)),"") -> #N/A | H9: =IF(ROW()-6<ROWS(INDIRECT(BereichFehlstunden)),IF(ISBLANK(INDEX(INDIRECT(BereichFehlstunden),(ROW()-5),COLUMN()+33)),"",INDEX(INDIRECT(BereichFehlstunden),(ROW()-5),COLUMN()+33)),"") -> #N/A | I9: =IF(ROW()-6<ROWS(INDIRECT(BereichFehlstunden)),IF(ISBLANK(INDEX(INDIRECT(BereichFehlstunden),(ROW()-5),COLUMN()+33)),"",INDEX(INDIRECT(BereichFehlstunden),(ROW()-5),COLUMN()+33)),"") -> #N/A | J9: =IF(ROW()-6<ROWS(INDIRECT(BereichFehlstunden)),IF(ISBLANK(INDEX(INDIRECT(BereichFehlstunden),(ROW()-5),COLUMN()+33)),"",INDEX(INDIRECT(BereichFehlstunden),(ROW()-5),COLUMN()+33)),"") -> #N/A | ... AI9: =IF(ROW()-6<ROWS(INDIRECT(BereichFehlstunden)),IF(ISBLANK(INDEX(INDIRECT(BereichFehlstunden),(ROW()-5),COLUMN()+33)),"",INDEX(INDIRECT(BereichFehlstunden),(ROW()-5),COLUMN()+33)),"") -> #N/A
A10: =IF(ROW()-6<ROWS(INDIRECT(BereichFehlstunden)),IF(ISBLANK(INDEX(INDIRECT(BereichFehlstunden),(ROW()-5),COLUMN())),"",INDEX(INDIRECT(BereichFehlstunden),(ROW()-5),COLUMN())),"") -> #N/A | B10: =IF(ROW()-6<ROWS(INDIRECT(BereichFehlstunden)),IF(ISBLANK(INDEX(INDIRECT(BereichFehlstunden),(ROW()-5),COLUMN())),"",INDEX(INDIRECT(BereichFehlstunden),(ROW()-5),COLUMN())),"") -> #N/A | C10: =IF(ROW()-6<ROWS(INDIRECT(BereichFehlstunden)),IF(ISBLANK(INDEX(INDIRECT(BereichFehlstunden),(ROW()-5),COLUMN()+33)),"",INDEX(INDIRECT(BereichFehlstunden),(ROW()-5),COLUMN()+33)),"") -> #N/A | D10: =IF(ROW()-6<ROWS(INDIRECT(BereichFehlstunden)),IF(ISBLANK(INDEX(INDIRECT(BereichFehlstunden),(ROW()-5),COLUMN()+33)),"",INDEX(INDIRECT(BereichFehlstunden),(ROW()-5),COLUMN()+33)),"") -> #N/A | E10: =IF(ROW()-6<ROWS(INDIRECT(BereichFehlstunden)),IF(ISBLANK(INDEX(INDIRECT(BereichFehlstunden),(ROW()-5),COLUMN()+33)),"",INDEX(INDIRECT(BereichFehlstunden),(ROW()-5),COLUMN()+33)),"") -> #N/A | F10: =IF(ROW()-6<ROWS(INDIRECT(BereichFehlstunden)),IF(ISBLANK(INDEX(INDIRECT(BereichFehlstunden),(ROW()-5),COLUMN()+33)),"",INDEX(INDIRECT(BereichFehlstunden),(ROW()-5),COLUMN()+33)),"") -> #N/A | G10: =IF(ROW()-6<ROWS(INDIRECT(BereichFehlstunden)),IF(ISBLANK(INDEX(INDIRECT(BereichFehlstunden),(ROW()-5),COLUMN()+33)),"",INDEX(INDIRECT(BereichFehlstunden),(ROW()-5),COLUMN()+33)),"") -> #N/A | H10: =IF(ROW()-6<ROWS(INDIRECT(BereichFehlstunden)),IF(ISBLANK(INDEX(INDIRECT(BereichFehlstunden),(ROW()-5),COLUMN()+33)),"",INDEX(INDIRECT(BereichFehlstunden),(ROW()-5),COLUMN()+33)),"") -> #N/A | I10: =IF(ROW()-6<ROWS(INDIRECT(BereichFehlstunden)),IF(ISBLANK(INDEX(INDIRECT(BereichFehlstunden),(ROW()-5),COLUMN()+33)),"",INDEX(INDIRECT(BereichFehlstunden),(ROW()-5),COLUMN()+33)),"") -> #N/A | J10: =IF(ROW()-6<ROWS(INDIRECT(BereichFehlstunden)),IF(ISBLANK(INDEX(INDIRECT(BereichFehlstunden),(ROW()-5),COLUMN()+33)),"",INDEX(INDIRECT(BereichFehlstunden),(ROW()-5),COLUMN()+33)),"") -> #N/A | ... AI10: =IF(ROW()-6<ROWS(INDIRECT(BereichFehlstunden)),IF(ISBLANK(INDEX(INDIRECT(BereichFehlstunden),(ROW()-5),COLUMN()+33)),"",INDEX(INDIRECT(BereichFehlstunden),(ROW()-5),COLUMN()+33)),"") -> #N/A
A11: =IF(ROW()-6<ROWS(INDIRECT(BereichFehlstunden)),IF(ISBLANK(INDEX(INDIRECT(BereichFehlstunden),(ROW()-5),COLUMN())),"",INDEX(INDIRECT(BereichFehlstunden),(ROW()-5),COLUMN())),"") -> #N/A | B11: =IF(ROW()-6<ROWS(INDIRECT(BereichFehlstunden)),IF(ISBLANK(INDEX(INDIRECT(BereichFehlstunden),(ROW()-5),COLUMN())),"",INDEX(INDIRECT(BereichFehlstunden),(ROW()-5),COLUMN())),"") -> #N/A | C11: =IF(ROW()-6<ROWS(INDIRECT(BereichFehlstunden)),IF(ISBLANK(INDEX(INDIRECT(BereichFehlstunden),(ROW()-5),COLUMN()+33)),"",INDEX(INDIRECT(BereichFehlstunden),(ROW()-5),COLUMN()+33)),"") -> #N/A | D11: =IF(ROW()-6<ROWS(INDIRECT(BereichFehlstunden)),IF(ISBLANK(INDEX(INDIRECT(BereichFehlstunden),(ROW()-5),COLUMN()+33)),"",INDEX(INDIRECT(BereichFehlstunden),(ROW()-5),COLUMN()+33)),"") -> #N/A | E11: =IF(ROW()-6<ROWS(INDIRECT(BereichFehlstunden)),IF(ISBLANK(INDEX(INDIRECT(BereichFehlstunden),(ROW()-5),COLUMN()+33)),"",INDEX(INDIRECT(BereichFehlstunden),(ROW()-5),COLUMN()+33)),"") -> #N/A | F11: =IF(ROW()-6<ROWS(INDIRECT(BereichFehlstunden)),IF(ISBLANK(INDEX(INDIRECT(BereichFehlstunden),(ROW()-5),COLUMN()+33)),"",INDEX(INDIRECT(BereichFehlstunden),(ROW()-5),COLUMN()+33)),"") -> #N/A | G11: =IF(ROW()-6<ROWS(INDIRECT(BereichFehlstunden)),IF(ISBLANK(INDEX(INDIRECT(BereichFehlstunden),(ROW()-5),COLUMN()+33)),"",INDEX(INDIRECT(BereichFehlstunden),(ROW()-5),COLUMN()+33)),"") -> #N/A | H11: =IF(ROW()-6<ROWS(INDIRECT(BereichFehlstunden)),IF(ISBLANK(INDEX(INDIRECT(BereichFehlstunden),(ROW()-5),COLUMN()+33)),"",INDEX(INDIRECT(BereichFehlstunden),(ROW()-5),COLUMN()+33)),"") -> #N/A | I11: =IF(ROW()-6<ROWS(INDIRECT(BereichFehlstunden)),IF(ISBLANK(INDEX(INDIRECT(BereichFehlstunden),(ROW()-5),COLUMN()+33)),"",INDEX(INDIRECT(BereichFehlstunden),(ROW()-5),COLUMN()+33)),"") -> #N/A | J11: =IF(ROW()-6<ROWS(INDIRECT(BereichFehlstunden)),IF(ISBLANK(INDEX(INDIRECT(BereichFehlstunden),(ROW()-5),COLUMN()+33)),"",INDEX(INDIRECT(BereichFehlstunden),(ROW()-5),COLUMN()+33)),"") -> #N/A | ... AI11: =IF(ROW()-6<ROWS(INDIRECT(BereichFehlstunden)),IF(ISBLANK(INDEX(INDIRECT(BereichFehlstunden),(ROW()-5),COLUMN()+33)),"",INDEX(INDIRECT(BereichFehlstunden),(ROW()-5),COLUMN()+33)),"") -> #N/A
A12: =IF(ROW()-6<ROWS(INDIRECT(BereichFehlstunden)),IF(ISBLANK(INDEX(INDIRECT(BereichFehlstunden),(ROW()-5),COLUMN())),"",INDEX(INDIRECT(BereichFehlstunden),(ROW()-5),COLUMN())),"") -> #N/A | B12: =IF(ROW()-6<ROWS(INDIRECT(BereichFehlstunden)),IF(ISBLANK(INDEX(INDIRECT(BereichFehlstunden),(ROW()-5),COLUMN())),"",INDEX(INDIRECT(BereichFehlstunden),(ROW()-5),COLUMN())),"") -> #N/A | C12: =IF(ROW()-6<ROWS(INDIRECT(BereichFehlstunden)),IF(ISBLANK(INDEX(INDIRECT(BereichFehlstunden),(ROW()-5),COLUMN()+33)),"",INDEX(INDIRECT(BereichFehlstunden),(ROW()-5),COLUMN()+33)),"") -> #N/A | D12: =IF(ROW()-6<ROWS(INDIRECT(BereichFehlstunden)),IF(ISBLANK(INDEX(INDIRECT(BereichFehlstunden),(ROW()-5),COLUMN()+33)),"",INDEX(INDIRECT(BereichFehlstunden),(ROW()-5),COLUMN()+33)),"") -> #N/A | E12: =IF(ROW()-6<ROWS(INDIRECT(BereichFehlstunden)),IF(ISBLANK(INDEX(INDIRECT(BereichFehlstunden),(ROW()-5),COLUMN()+33)),"",INDEX(INDIRECT(BereichFehlstunden),(ROW()-5),COLUMN()+33)),"") -> #N/A | F12: =IF(ROW()-6<ROWS(INDIRECT(BereichFehlstunden)),IF(ISBLANK(INDEX(INDIRECT(BereichFehlstunden),(ROW()-5),COLUMN()+33)),"",INDEX(INDIRECT(BereichFehlstunden),(ROW()-5),COLUMN()+33)),"") -> #N/A | G12: =IF(ROW()-6<ROWS(INDIRECT(BereichFehlstunden)),IF(ISBLANK(INDEX(INDIRECT(BereichFehlstunden),(ROW()-5),COLUMN()+33)),"",INDEX(INDIRECT(BereichFehlstunden),(ROW()-5),COLUMN()+33)),"") -> #N/A | H12: =IF(ROW()-6<ROWS(INDIRECT(BereichFehlstunden)),IF(ISBLANK(INDEX(INDIRECT(BereichFehlstunden),(ROW()-5),COLUMN()+33)),"",INDEX(INDIRECT(BereichFehlstunden),(ROW()-5),COLUMN()+33)),"") -> #N/A | I12: =IF(ROW()-6<ROWS(INDIRECT(BereichFehlstunden)),IF(ISBLANK(INDEX(INDIRECT(BereichFehlstunden),(ROW()-5),COLUMN()+33)),"",INDEX(INDIRECT(BereichFehlstunden),(ROW()-5),COLUMN()+33)),"") -> #N/A | J12: =IF(ROW()-6<ROWS(INDIRECT(BereichFehlstunden)),IF(ISBLANK(INDEX(INDIRECT(BereichFehlstunden),(ROW()-5),COLUMN()+33)),"",INDEX(INDIRECT(BereichFehlstunden),(ROW()-5),COLUMN()+33)),"") -> #N/A | ... AI12: =IF(ROW()-6<ROWS(INDIRECT(BereichFehlstunden)),IF(ISBLANK(INDEX(INDIRECT(BereichFehlstunden),(ROW()-5),COLUMN()+33)),"",INDEX(INDIRECT(BereichFehlstunden),(ROW()-5),COLUMN()+33)),"") -> #N/A
A13: =IF(ROW()-6<ROWS(INDIRECT(BereichFehlstunden)),IF(ISBLANK(INDEX(INDIRECT(BereichFehlstunden),(ROW()-5),COLUMN())),"",INDEX(INDIRECT(BereichFehlstunden),(ROW()-5),COLUMN())),"") -> #N/A | B13: =IF(ROW()-6<ROWS(INDIRECT(BereichFehlstunden)),IF(ISBLANK(INDEX(INDIRECT(BereichFehlstunden),(ROW()-5),COLUMN())),"",INDEX(INDIRECT(BereichFehlstunden),(ROW()-5),COLUMN())),"") -> #N/A | C13: =IF(ROW()-6<ROWS(INDIRECT(BereichFehlstunden)),IF(ISBLANK(INDEX(INDIRECT(BereichFehlstunden),(ROW()-5),COLUMN()+33)),"",INDEX(INDIRECT(BereichFehlstunden),(ROW()-5),COLUMN()+33)),"") -> #N/A | D13: =IF(ROW()-6<ROWS(INDIRECT(BereichFehlstunden)),IF(ISBLANK(INDEX(INDIRECT(BereichFehlstunden),(ROW()-5),COLUMN()+33)),"",INDEX(INDIRECT(BereichFehlstunden),(ROW()-5),COLUMN()+33)),"") -> #N/A | E13: =IF(ROW()-6<ROWS(INDIRECT(BereichFehlstunden)),IF(ISBLANK(INDEX(INDIRECT(BereichFehlstunden),(ROW()-5),COLUMN()+33)),"",INDEX(INDIRECT(BereichFehlstunden),(ROW()-5),COLUMN()+33)),"") -> #N/A | F13: =IF(ROW()-6<ROWS(INDIRECT(BereichFehlstunden)),IF(ISBLANK(INDEX(INDIRECT(BereichFehlstunden),(ROW()-5),COLUMN()+33)),"",INDEX(INDIRECT(BereichFehlstunden),(ROW()-5),COLUMN()+33)),"") -> #N/A | G13: =IF(ROW()-6<ROWS(INDIRECT(BereichFehlstunden)),IF(ISBLANK(INDEX(INDIRECT(BereichFehlstunden),(ROW()-5),COLUMN()+33)),"",INDEX(INDIRECT(BereichFehlstunden),(ROW()-5),COLUMN()+33)),"") -> #N/A | H13: =IF(ROW()-6<ROWS(INDIRECT(BereichFehlstunden)),IF(ISBLANK(INDEX(INDIRECT(BereichFehlstunden),(ROW()-5),COLUMN()+33)),"",INDEX(INDIRECT(BereichFehlstunden),(ROW()-5),COLUMN()+33)),"") -> #N/A | I13: =IF(ROW()-6<ROWS(INDIRECT(BereichFehlstunden)),IF(ISBLANK(INDEX(INDIRECT(BereichFehlstunden),(ROW()-5),COLUMN()+33)),"",INDEX(INDIRECT(BereichFehlstunden),(ROW()-5),COLUMN()+33)),"") -> #N/A | J13: =IF(ROW()-6<ROWS(INDIRECT(BereichFehlstunden)),IF(ISBLANK(INDEX(INDIRECT(BereichFehlstunden),(ROW()-5),COLUMN()+33)),"",INDEX(INDIRECT(BereichFehlstunden),(ROW()-5),COLUMN()+33)),"") -> #N/A | ... AI13: =IF(ROW()-6<ROWS(INDIRECT(BereichFehlstunden)),IF(ISBLANK(INDEX(INDIRECT(BereichFehlstunden),(ROW()-5),COLUMN()+33)),"",INDEX(INDIRECT(BereichFehlstunden),(ROW()-5),COLUMN()+33)),"") -> #N/A
A14: =IF(ROW()-6<ROWS(INDIRECT(BereichFehlstunden)),IF(ISBLANK(INDEX(INDIRECT(BereichFehlstunden),(ROW()-5),COLUMN())),"",INDEX(INDIRECT(BereichFehlstunden),(ROW()-5),COLUMN())),"") -> #N/A | B14: =IF(ROW()-6<ROWS(INDIRECT(BereichFehlstunden)),IF(ISBLANK(INDEX(INDIRECT(BereichFehlstunden),(ROW()-5),COLUMN())),"",INDEX(INDIRECT(BereichFehlstunden),(ROW()-5),COLUMN())),"") -> #N/A | C14: =IF(ROW()-6<ROWS(INDIRECT(BereichFehlstunden)),IF(ISBLANK(INDEX(INDIRECT(BereichFehlstunden),(ROW()-5),COLUMN()+33)),"",INDEX(INDIRECT(BereichFehlstunden),(ROW()-5),COLUMN()+33)),"") -> #N/A | D14: =IF(ROW()-6<ROWS(INDIRECT(BereichFehlstunden)),IF(ISBLANK(INDEX(INDIRECT(BereichFehlstunden),(ROW()-5),COLUMN()+33)),"",INDEX(INDIRECT(BereichFehlstunden),(ROW()-5),COLUMN()+33)),"") -> #N/A | E14: =IF(ROW()-6<ROWS(INDIRECT(BereichFehlstunden)),IF(ISBLANK(INDEX(INDIRECT(BereichFehlstunden),(ROW()-5),COLUMN()+33)),"",INDEX(INDIRECT(BereichFehlstunden),(ROW()-5),COLUMN()+33)),"") -> #N/A | F14: =IF(ROW()-6<ROWS(INDIRECT(BereichFehlstunden)),IF(ISBLANK(INDEX(INDIRECT(BereichFehlstunden),(ROW()-5),COLUMN()+33)),"",INDEX(INDIRECT(BereichFehlstunden),(ROW()-5),COLUMN()+33)),"") -> #N/A | G14: =IF(ROW()-6<ROWS(INDIRECT(BereichFehlstunden)),IF(ISBLANK(INDEX(INDIRECT(BereichFehlstunden),(ROW()-5),COLUMN()+33)),"",INDEX(INDIRECT(BereichFehlstunden),(ROW()-5),COLUMN()+33)),"") -> #N/A | H14: =IF(ROW()-6<ROWS(INDIRECT(BereichFehlstunden)),IF(ISBLANK(INDEX(INDIRECT(BereichFehlstunden),(ROW()-5),COLUMN()+33)),"",INDEX(INDIRECT(BereichFehlstunden),(ROW()-5),COLUMN()+33)),"") -> #N/A | I14: =IF(ROW()-6<ROWS(INDIRECT(BereichFehlstunden)),IF(ISBLANK(INDEX(INDIRECT(BereichFehlstunden),(ROW()-5),COLUMN()+33)),"",INDEX(INDIRECT(BereichFehlstunden),(ROW()-5),COLUMN()+33)),"") -> #N/A | J14: =IF(ROW()-6<ROWS(INDIRECT(BereichFehlstunden)),IF(ISBLANK(INDEX(INDIRECT(BereichFehlstunden),(ROW()-5),COLUMN()+33)),"",INDEX(INDIRECT(BereichFehlstunden),(ROW()-5),COLUMN()+33)),"") -> #N/A | ... AI14: =IF(ROW()-6<ROWS(INDIRECT(BereichFehlstunden)),IF(ISBLANK(INDEX(INDIRECT(BereichFehlstunden),(ROW()-5),COLUMN()+33)),"",INDEX(INDIRECT(BereichFehlstunden),(ROW()-5),COLUMN()+33)),"") -> #N/A
A15: =IF(ROW()-6<ROWS(INDIRECT(BereichFehlstunden)),IF(ISBLANK(INDEX(INDIRECT(BereichFehlstunden),(ROW()-5),COLUMN())),"",INDEX(INDIRECT(BereichFehlstunden),(ROW()-5),COLUMN())),"") -> #N/A | B15: =IF(ROW()-6<ROWS(INDIRECT(BereichFehlstunden)),IF(ISBLANK(INDEX(INDIRECT(BereichFehlstunden),(ROW()-5),COLUMN())),"",INDEX(INDIRECT(BereichFehlstunden),(ROW()-5),COLUMN())),"") -> #N/A | C15: =IF(ROW()-6<ROWS(INDIRECT(BereichFehlstunden)),IF(ISBLANK(INDEX(INDIRECT(BereichFehlstunden),(ROW()-5),COLUMN()+33)),"",INDEX(INDIRECT(BereichFehlstunden),(ROW()-5),COLUMN()+33)),"") -> #N/A | D15: =IF(ROW()-6<ROWS(INDIRECT(BereichFehlstunden)),IF(ISBLANK(INDEX(INDIRECT(BereichFehlstunden),(ROW()-5),COLUMN()+33)),"",INDEX(INDIRECT(BereichFehlstunden),(ROW()-5),COLUMN()+33)),"") -> #N/A | E15: =IF(ROW()-6<ROWS(INDIRECT(BereichFehlstunden)),IF(ISBLANK(INDEX(INDIRECT(BereichFehlstunden),(ROW()-5),COLUMN()+33)),"",INDEX(INDIRECT(BereichFehlstunden),(ROW()-5),COLUMN()+33)),"") -> #N/A | F15: =IF(ROW()-6<ROWS(INDIRECT(BereichFehlstunden)),IF(ISBLANK(INDEX(INDIRECT(BereichFehlstunden),(ROW()-5),COLUMN()+33)),"",INDEX(INDIRECT(BereichFehlstunden),(ROW()-5),COLUMN()+33)),"") -> #N/A | G15: =IF(ROW()-6<ROWS(INDIRECT(BereichFehlstunden)),IF(ISBLANK(INDEX(INDIRECT(BereichFehlstunden),(ROW()-5),COLUMN()+33)),"",INDEX(INDIRECT(BereichFehlstunden),(ROW()-5),COLUMN()+33)),"") -> #N/A | H15: =IF(ROW()-6<ROWS(INDIRECT(BereichFehlstunden)),IF(ISBLANK(INDEX(INDIRECT(BereichFehlstunden),(ROW()-5),COLUMN()+33)),"",INDEX(INDIRECT(BereichFehlstunden),(ROW()-5),COLUMN()+33)),"") -> #N/A | I15: =IF(ROW()-6<ROWS(INDIRECT(BereichFehlstunden)),IF(ISBLANK(INDEX(INDIRECT(BereichFehlstunden),(ROW()-5),COLUMN()+33)),"",INDEX(INDIRECT(BereichFehlstunden),(ROW()-5),COLUMN()+33)),"") -> #N/A | J15: =IF(ROW()-6<ROWS(INDIRECT(BereichFehlstunden)),IF(ISBLANK(INDEX(INDIRECT(BereichFehlstunden),(ROW()-5),COLUMN()+33)),"",INDEX(INDIRECT(BereichFehlstunden),(ROW()-5),COLUMN()+33)),"") -> #N/A | ... AI15: =IF(ROW()-6<ROWS(INDIRECT(BereichFehlstunden)),IF(ISBLANK(INDEX(INDIRECT(BereichFehlstunden),(ROW()-5),COLUMN()+33)),"",INDEX(INDIRECT(BereichFehlstunden),(ROW()-5),COLUMN()+33)),"") -> #N/A
A16: =IF(ROW()-6<ROWS(INDIRECT(BereichFehlstunden)),IF(ISBLANK(INDEX(INDIRECT(BereichFehlstunden),(ROW()-5),COLUMN())),"",INDEX(INDIRECT(BereichFehlstunden),(ROW()-5),COLUMN())),"") -> #N/A | B16: =IF(ROW()-6<ROWS(INDIRECT(BereichFehlstunden)),IF(ISBLANK(INDEX(INDIRECT(BereichFehlstunden),(ROW()-5),COLUMN())),"",INDEX(INDIRECT(BereichFehlstunden),(ROW()-5),COLUMN())),"") -> #N/A | C16: =IF(ROW()-6<ROWS(INDIRECT(BereichFehlstunden)),IF(ISBLANK(INDEX(INDIRECT(BereichFehlstunden),(ROW()-5),COLUMN()+33)),"",INDEX(INDIRECT(BereichFehlstunden),(ROW()-5),COLUMN()+33)),"") -> #N/A | D16: =IF(ROW()-6<ROWS(INDIRECT(BereichFehlstunden)),IF(ISBLANK(INDEX(INDIRECT(BereichFehlstunden),(ROW()-5),COLUMN()+33)),"",INDEX(INDIRECT(BereichFehlstunden),(ROW()-5),COLUMN()+33)),"") -> #N/A | E16: =IF(ROW()-6<ROWS(INDIRECT(BereichFehlstunden)),IF(ISBLANK(INDEX(INDIRECT(BereichFehlstunden),(ROW()-5),COLUMN()+33)),"",INDEX(INDIRECT(BereichFehlstunden),(ROW()-5),COLUMN()+33)),"") -> #N/A | F16: =IF(ROW()-6<ROWS(INDIRECT(BereichFehlstunden)),IF(ISBLANK(INDEX(INDIRECT(BereichFehlstunden),(ROW()-5),COLUMN()+33)),"",INDEX(INDIRECT(BereichFehlstunden),(ROW()-5),COLUMN()+33)),"") -> #N/A | G16: =IF(ROW()-6<ROWS(INDIRECT(BereichFehlstunden)),IF(ISBLANK(INDEX(INDIRECT(BereichFehlstunden),(ROW()-5),COLUMN()+33)),"",INDEX(INDIRECT(BereichFehlstunden),(ROW()-5),COLUMN()+33)),"") -> #N/A | H16: =IF(ROW()-6<ROWS(INDIRECT(BereichFehlstunden)),IF(ISBLANK(INDEX(INDIRECT(BereichFehlstunden),(ROW()-5),COLUMN()+33)),"",INDEX(INDIRECT(BereichFehlstunden),(ROW()-5),COLUMN()+33)),"") -> #N/A | I16: =IF(ROW()-6<ROWS(INDIRECT(BereichFehlstunden)),IF(ISBLANK(INDEX(INDIRECT(BereichFehlstunden),(ROW()-5),COLUMN()+33)),"",INDEX(INDIRECT(BereichFehlstunden),(ROW()-5),COLUMN()+33)),"") -> #N/A | J16: =IF(ROW()-6<ROWS(INDIRECT(BereichFehlstunden)),IF(ISBLANK(INDEX(INDIRECT(BereichFehlstunden),(ROW()-5),COLUMN()+33)),"",INDEX(INDIRECT(BereichFehlstunden),(ROW()-5),COLUMN()+33)),"") -> #N/A | ... AI16: =IF(ROW()-6<ROWS(INDIRECT(BereichFehlstunden)),IF(ISBLANK(INDEX(INDIRECT(BereichFehlstunden),(ROW()-5),COLUMN()+33)),"",INDEX(INDIRECT(BereichFehlstunden),(ROW()-5),COLUMN()+33)),"") -> #N/A
A17: =IF(ROW()-6<ROWS(INDIRECT(BereichFehlstunden)),IF(ISBLANK(INDEX(INDIRECT(BereichFehlstunden),(ROW()-5),COLUMN())),"",INDEX(INDIRECT(BereichFehlstunden),(ROW()-5),COLUMN())),"") -> #N/A | B17: =IF(ROW()-6<ROWS(INDIRECT(BereichFehlstunden)),IF(ISBLANK(INDEX(INDIRECT(BereichFehlstunden),(ROW()-5),COLUMN())),"",INDEX(INDIRECT(BereichFehlstunden),(ROW()-5),COLUMN())),"") -> #N/A | C17: =IF(ROW()-6<ROWS(INDIRECT(BereichFehlstunden)),IF(ISBLANK(INDEX(INDIRECT(BereichFehlstunden),(ROW()-5),COLUMN()+33)),"",INDEX(INDIRECT(BereichFehlstunden),(ROW()-5),COLUMN()+33)),"") -> #N/A | D17: =IF(ROW()-6<ROWS(INDIRECT(BereichFehlstunden)),IF(ISBLANK(INDEX(INDIRECT(BereichFehlstunden),(ROW()-5),COLUMN()+33)),"",INDEX(INDIRECT(BereichFehlstunden),(ROW()-5),COLUMN()+33)),"") -> #N/A | E17: =IF(ROW()-6<ROWS(INDIRECT(BereichFehlstunden)),IF(ISBLANK(INDEX(INDIRECT(BereichFehlstunden),(ROW()-5),COLUMN()+33)),"",INDEX(INDIRECT(BereichFehlstunden),(ROW()-5),COLUMN()+33)),"") -> #N/A | F17: =IF(ROW()-6<ROWS(INDIRECT(BereichFehlstunden)),IF(ISBLANK(INDEX(INDIRECT(BereichFehlstunden),(ROW()-5),COLUMN()+33)),"",INDEX(INDIRECT(BereichFehlstunden),(ROW()-5),COLUMN()+33)),"") -> #N/A | G17: =IF(ROW()-6<ROWS(INDIRECT(BereichFehlstunden)),IF(ISBLANK(INDEX(INDIRECT(BereichFehlstunden),(ROW()-5),COLUMN()+33)),"",INDEX(INDIRECT(BereichFehlstunden),(ROW()-5),COLUMN()+33)),"") -> #N/A | H17: =IF(ROW()-6<ROWS(INDIRECT(BereichFehlstunden)),IF(ISBLANK(INDEX(INDIRECT(BereichFehlstunden),(ROW()-5),COLUMN()+33)),"",INDEX(INDIRECT(BereichFehlstunden),(ROW()-5),COLUMN()+33)),"") -> #N/A | I17: =IF(ROW()-6<ROWS(INDIRECT(BereichFehlstunden)),IF(ISBLANK(INDEX(INDIRECT(BereichFehlstunden),(ROW()-5),COLUMN()+33)),"",INDEX(INDIRECT(BereichFehlstunden),(ROW()-5),COLUMN()+33)),"") -> #N/A | J17: =IF(ROW()-6<ROWS(INDIRECT(BereichFehlstunden)),IF(ISBLANK(INDEX(INDIRECT(BereichFehlstunden),(ROW()-5),COLUMN()+33)),"",INDEX(INDIRECT(BereichFehlstunden),(ROW()-5),COLUMN()+33)),"") -> #N/A | ... AI17: =IF(ROW()-6<ROWS(INDIRECT(BereichFehlstunden)),IF(ISBLANK(INDEX(INDIRECT(BereichFehlstunden),(ROW()-5),COLUMN()+33)),"",INDEX(INDIRECT(BereichFehlstunden),(ROW()-5),COLUMN()+33)),"") -> #N/A
... A76: =IF(ROW()-6<ROWS(INDIRECT(BereichFehlstunden)),IF(ISBLANK(INDEX(INDIRECT(BereichFehlstunden),(ROW()-5),COLUMN())),"",INDEX(INDIRECT(BereichFehlstunden),(ROW()-5),COLUMN())),"") -> #N/A | B76: =IF(ROW()-6<ROWS(INDIRECT(BereichFehlstunden)),IF(ISBLANK(INDEX(INDIRECT(BereichFehlstunden),(ROW()-5),COLUMN())),"",INDEX(INDIRECT(BereichFehlstunden),(ROW()-5),COLUMN())),"") -> #N/A | C76: =IF(ROW()-6<ROWS(INDIRECT(BereichFehlstunden)),IF(ISBLANK(INDEX(INDIRECT(BereichFehlstunden),(ROW()-5),COLUMN()+33)),"",INDEX(INDIRECT(BereichFehlstunden),(ROW()-5),COLUMN()+33)),"") -> #N/A | D76: =IF(ROW()-6<ROWS(INDIRECT(BereichFehlstunden)),IF(ISBLANK(INDEX(INDIRECT(BereichFehlstunden),(ROW()-5),COLUMN()+33)),"",INDEX(INDIRECT(BereichFehlstunden),(ROW()-5),COLUMN()+33)),"") -> #N/A | E76: =IF(ROW()-6<ROWS(INDIRECT(BereichFehlstunden)),IF(ISBLANK(INDEX(INDIRECT(BereichFehlstunden),(ROW()-5),COLUMN()+33)),"",INDEX(INDIRECT(BereichFehlstunden),(ROW()-5),COLUMN()+33)),"") -> #N/A | F76: =IF(ROW()-6<ROWS(INDIRECT(BereichFehlstunden)),IF(ISBLANK(INDEX(INDIRECT(BereichFehlstunden),(ROW()-5),COLUMN()+33)),"",INDEX(INDIRECT(BereichFehlstunden),(ROW()-5),COLUMN()+33)),"") -> #N/A | G76: =IF(ROW()-6<ROWS(INDIRECT(BereichFehlstunden)),IF(ISBLANK(INDEX(INDIRECT(BereichFehlstunden),(ROW()-5),COLUMN()+33)),"",INDEX(INDIRECT(BereichFehlstunden),(ROW()-5),COLUMN()+33)),"") -> #N/A | H76: =IF(ROW()-6<ROWS(INDIRECT(BereichFehlstunden)),IF(ISBLANK(INDEX(INDIRECT(BereichFehlstunden),(ROW()-5),COLUMN()+33)),"",INDEX(INDIRECT(BereichFehlstunden),(ROW()-5),COLUMN()+33)),"") -> #N/A | I76: =IF(ROW()-6<ROWS(INDIRECT(BereichFehlstunden)),IF(ISBLANK(INDEX(INDIRECT(BereichFehlstunden),(ROW()-5),COLUMN()+33)),"",INDEX(INDIRECT(BereichFehlstunden),(ROW()-5),COLUMN()+33)),"") -> #N/A | J76: =IF(ROW()-6<ROWS(INDIRECT(BereichFehlstunden)),IF(ISBLANK(INDEX(INDIRECT(BereichFehlstunden),(ROW()-5),COLUMN()+33)),"",INDEX(INDIRECT(BereichFehlstunden),(ROW()-5),COLUMN()+33)),"") -> #N/A | ... AI76: =IF(ROW()-6<ROWS(INDIRECT(BereichFehlstunden)),IF(ISBLANK(INDEX(INDIRECT(BereichFehlstunden),(ROW()-5),COLUMN()+33)),"",INDEX(INDIRECT(BereichFehlstunden),(ROW()-5),COLUMN()+33)),"") -> #N/A

Sheet Kursbuch
A1: =CONCATENATE("Inhaltsübersicht für Kurs: ", INDEX(CSV!$B$1:$B$1071,ZeileKursbezeichnung)) -> #N/A
A2: =CONCATENATE("Jahrgang: ", INDEX(CSV!$B$1:$B$1071,ZeileJahrgang)) -> #N/A
A3: =IF(ISBLANK(INDEX(CSV!$B$1:$B$1071,ZeileLehrer)),"",INDEX(CSV!$B$1:$B$1071,ZeileLehrer)) -> #N/A
A5: =INDEX(INDIRECT(BereichKursbuch),1,COLUMN()) -> #N/A | B5: =INDEX(INDIRECT(BereichKursbuch),1,COLUMN()) -> #N/A | C5: =INDEX(INDIRECT(BereichKursbuch),1,COLUMN()) -> #N/A | D5: =INDEX(INDIRECT(BereichKursbuch),1,COLUMN()) -> #N/A | E5: =INDEX(INDIRECT(BereichKursbuch),1,COLUMN()) -> #N/A | F5: =INDEX(INDIRECT(BereichKursbuch),1,COLUMN()) -> #N/A | G5: Paraffe
A6: =IF(ROW()-5<ROWS(INDIRECT(BereichKursbuch)),IF(ISBLANK(INDEX(INDIRECT(BereichKursbuch),(ROW()-4),COLUMN())),"",INDEX(INDIRECT(BereichKursbuch),(ROW()-4),COLUMN())),"") -> #N/A | B6: =IF(ROW()-5<ROWS(INDIRECT(BereichKursbuch)),IF(ISBLANK(INDEX(INDIRECT(BereichKursbuch),(ROW()-4),COLUMN())),"",INDEX(INDIRECT(BereichKursbuch),(ROW()-4),COLUMN())),"") -> #N/A | C6: =IF(ROW()-5<ROWS(INDIRECT(BereichKursbuch)),IF(ISBLANK(INDEX(INDIRECT(BereichKursbuch),(ROW()-4),COLUMN())),"",INDEX(INDIRECT(BereichKursbuch),(ROW()-4),COLUMN())),"") -> #N/A | D6: =IF(ROW()-5<ROWS(INDIRECT(BereichKursbuch)),IF(ISBLANK(INDEX(INDIRECT(BereichKursbuch),(ROW()-4),COLUMN())),"",INDEX(INDIRECT(BereichKursbuch),(ROW()-4),COLUMN())),"") -> #N/A | E6: =IF(ROW()-5<ROWS(INDIRECT(BereichKursbuch)),IF(ISBLANK(INDEX(INDIRECT(BereichKursbuch),(ROW()-4),COLUMN())),"",INDEX(INDIRECT(BereichKursbuch),(ROW()-4),COLUMN())),"") -> #N/A | F6: =IF(ROW()-5<ROWS(INDIRECT(BereichKursbuch)),IF(ISBLANK(INDEX(INDIRECT(BereichKursbuch),(ROW()-4),COLUMN())),"",INDEX(INDIRECT(BereichKursbuch),(ROW()-4),COLUMN())),"") -> #N/A | G6: =IF(ROW()-5<ROWS(INDIRECT(BereichKursbuch)),IF(ISBLANK(INDEX(INDIRECT(BereichKursbuch),(ROW()-4),COLUMN())),"",INDEX(INDIRECT(BereichKursbuch),(ROW()-4),COLUMN())),"") -> #N/A
A7: =IF(ROW()-5<ROWS(INDIRECT(BereichKursbuch)),IF(ISBLANK(INDEX(INDIRECT(BereichKursbuch),(ROW()-4),COLUMN())),"",INDEX(INDIRECT(BereichKursbuch),(ROW()-4),COLUMN())),"") -> #N/A | B7: =IF(ROW()-5<ROWS(INDIRECT(BereichKursbuch)),IF(ISBLANK(INDEX(INDIRECT(BereichKursbuch),(ROW()-4),COLUMN())),"",INDEX(INDIRECT(BereichKursbuch),(ROW()-4),COLUMN())),"") -> #N/A | C7: =IF(ROW()-5<ROWS(INDIRECT(BereichKursbuch)),IF(ISBLANK(INDEX(INDIRECT(BereichKursbuch),(ROW()-4),COLUMN())),"",INDEX(INDIRECT(BereichKursbuch),(ROW()-4),COLUMN())),"") -> #N/A | D7: =IF(ROW()-5<ROWS(INDIRECT(BereichKursbuch)),IF(ISBLANK(INDEX(INDIRECT(BereichKursbuch),(ROW()-4),COLUMN())),"",INDEX(INDIRECT(BereichKursbuch),(ROW()-4),COLUMN())),"") -> #N/A | E7: =IF(ROW()-5<ROWS(INDIRECT(BereichKursbuch)),IF(ISBLANK(INDEX(INDIRECT(BereichKursbuch),(ROW()-4),COLUMN())),"",INDEX(INDIRECT(BereichKursbuch),(ROW()-4),COLUMN())),"") -> #N/A | F7: =IF(ROW()-5<ROWS(INDIRECT(BereichKursbuch)),IF(ISBLANK(INDEX(INDIRECT(BereichKursbuch),(ROW()-4),COLUMN())),"",INDEX(INDIRECT(BereichKursbuch),(ROW()-4),COLUMN())),"") -> #N/A | G7: =IF(ROW()-5<ROWS(INDIRECT(BereichKursbuch)),IF(ISBLANK(INDEX(INDIRECT(BereichKursbuch),(ROW()-4),COLUMN())),"",INDEX(INDIRECT(BereichKursbuch),(ROW()-4),COLUMN())),"") -> #N/A
A8: =IF(ROW()-5<ROWS(INDIRECT(BereichKursbuch)),IF(ISBLANK(INDEX(INDIRECT(BereichKursbuch),(ROW()-4),COLUMN())),"",INDEX(INDIRECT(BereichKursbuch),(ROW()-4),COLUMN())),"") -> #N/A | B8: =IF(ROW()-5<ROWS(INDIRECT(BereichKursbuch)),IF(ISBLANK(INDEX(INDIRECT(BereichKursbuch),(ROW()-4),COLUMN())),"",INDEX(INDIRECT(BereichKursbuch),(ROW()-4),COLUMN())),"") -> #N/A | C8: =IF(ROW()-5<ROWS(INDIRECT(BereichKursbuch)),IF(ISBLANK(INDEX(INDIRECT(BereichKursbuch),(ROW()-4),COLUMN())),"",INDEX(INDIRECT(BereichKursbuch),(ROW()-4),COLUMN())),"") -> #N/A | D8: =IF(ROW()-5<ROWS(INDIRECT(BereichKursbuch)),IF(ISBLANK(INDEX(INDIRECT(BereichKursbuch),(ROW()-4),COLUMN())),"",INDEX(INDIRECT(BereichKursbuch),(ROW()-4),COLUMN())),"") -> #N/A | E8: =IF(ROW()-5<ROWS(INDIRECT(BereichKursbuch)),IF(ISBLANK(INDEX(INDIRECT(BereichKursbuch),(ROW()-4),COLUMN())),"",INDEX(INDIRECT(BereichKursbuch),(ROW()-4),COLUMN())),"") -> #N/A | F8: =IF(ROW()-5<ROWS(INDIRECT(BereichKursbuch)),IF(ISBLANK(INDEX(INDIRECT(BereichKursbuch),(ROW()-4),COLUMN())),"",INDEX(INDIRECT(BereichKursbuch),(ROW()-4),COLUMN())),"") -> #N/A | G8: =IF(ROW()-5<ROWS(INDIRECT(BereichKursbuch)),IF(ISBLANK(INDEX(INDIRECT(BereichKursbuch),(ROW()-4),COLUMN())),"",INDEX(INDIRECT(BereichKursbuch),(ROW()-4),COLUMN())),"") -> #N/A
A9: =IF(ROW()-5<ROWS(INDIRECT(BereichKursbuch)),IF(ISBLANK(INDEX(INDIRECT(BereichKursbuch),(ROW()-4),COLUMN())),"",INDEX(INDIRECT(BereichKursbuch),(ROW()-4),COLUMN())),"") -> #N/A | B9: =IF(ROW()-5<ROWS(INDIRECT(BereichKursbuch)),IF(ISBLANK(INDEX(INDIRECT(BereichKursbuch),(ROW()-4),COLUMN())),"",INDEX(INDIRECT(BereichKursbuch),(ROW()-4),COLUMN())),"") -> #N/A | C9: =IF(ROW()-5<ROWS(INDIRECT(BereichKursbuch)),IF(ISBLANK(INDEX(INDIRECT(BereichKursbuch),(ROW()-4),COLUMN())),"",INDEX(INDIRECT(BereichKursbuch),(ROW()-4),COLUMN())),"") -> #N/A | D9: =IF(ROW()-5<ROWS(INDIRECT(BereichKursbuch)),IF(ISBLANK(INDEX(INDIRECT(BereichKursbuch),(ROW()-4),COLUMN())),"",INDEX(INDIRECT(BereichKursbuch),(ROW()-4),COLUMN())),"") -> #N/A | E9: =IF(ROW()-5<ROWS(INDIRECT(BereichKursbuch)),IF(ISBLANK(INDEX(INDIRECT(BereichKursbuch),(ROW()-4),COLUMN())),"",INDEX(INDIRECT(BereichKursbuch),(ROW()-4),COLUMN())),"") -> #N/A | F9: =IF(ROW()-5<ROWS(INDIRECT(BereichKursbuch)),IF(ISBLANK(INDEX(INDIRECT(BereichKursbuch),(ROW()-4),COLUMN())),"",INDEX(INDIRECT(BereichKursbuch),(ROW()-4),COLUMN())),"") -> #N/A | G9: =IF(ROW()-5<ROWS(INDIRECT(BereichKursbuch)),IF(ISBLANK(INDEX(INDIRECT(BereichKursbuch),(ROW()-4),COLUMN())),"",INDEX(INDIRECT(BereichKursbuch),(ROW()-4),COLUMN())),"") -> #N/A
A10: =IF(ROW()-5<ROWS(INDIRECT(BereichKursbuch)),IF(ISBLANK(INDEX(INDIRECT(BereichKursbuch),(ROW()-4),COLUMN())),"",INDEX(INDIRECT(BereichKursbuch),(ROW()-4),COLUMN())),"") -> #N/A | B10: =IF(ROW()-5<ROWS(INDIRECT(BereichKursbuch)),IF(ISBLANK(INDEX(INDIRECT(BereichKursbuch),(ROW()-4),COLUMN())),"",INDEX(INDIRECT(BereichKursbuch),(ROW()-4),COLUMN())),"") -> #N/A | C10: =IF(ROW()-5<ROWS(INDIRECT(BereichKursbuch)),IF(ISBLANK(INDEX(INDIRECT(BereichKursbuch),(ROW()-4),COLUMN())),"",INDEX(INDIRECT(BereichKursbuch),(ROW()-4),COLUMN())),"") -> #N/A | D10: =IF(ROW()-5<ROWS(INDIRECT(BereichKursbuch)),IF(ISBLANK(INDEX(INDIRECT(BereichKursbuch),(ROW()-4),COLUMN())),"",INDEX(INDIRECT(BereichKursbuch),(ROW()-4),COLUMN())),"") -> #N/A | E10: =IF(ROW()-5<ROWS(INDIRECT(BereichKursbuch)),IF(ISBLANK(INDEX(INDIRECT(BereichKursbuch),(ROW()-4),COLUMN())),"",INDEX(INDIRECT(BereichKursbuch),(ROW()-4),COLUMN())),"") -> #N/A | F10: =IF(ROW()-5<ROWS(INDIRECT(BereichKursbuch)),IF(ISBLANK(INDEX(INDIRECT(BereichKursbuch),(ROW()-4),COLUMN())),"",INDEX(INDIRECT(BereichKursbuch),(ROW()-4),COLUMN())),"") -> #N/A | G10: =IF(ROW()-5<ROWS(INDIRECT(BereichKursbuch)),IF(ISBLANK(INDEX(INDIRECT(BereichKursbuch),(ROW()-4),COLUMN())),"",INDEX(INDIRECT(BereichKursbuch),(ROW()-4),COLUMN())),"") -> #N/A
A11: =IF(ROW()-5<ROWS(INDIRECT(BereichKursbuch)),IF(ISBLANK(INDEX(INDIRECT(BereichKursbuch),(ROW()-4),COLUMN())),"",INDEX(INDIRECT(BereichKursbuch),(ROW()-4),COLUMN())),"") -> #N/A | B11: =IF(ROW()-5<ROWS(INDIRECT(BereichKursbuch)),IF(ISBLANK(INDEX(INDIRECT(BereichKursbuch),(ROW()-4),COLUMN())),"",INDEX(INDIRECT(BereichKursbuch),(ROW()-4),COLUMN())),"") -> #N/A | C11: =IF(ROW()-5<ROWS(INDIRECT(BereichKursbuch)),IF(ISBLANK(INDEX(INDIRECT(BereichKursbuch),(ROW()-4),COLUMN())),"",INDEX(INDIRECT(BereichKursbuch),(ROW()-4),COLUMN())),"") -> #N/A | D11: =IF(ROW()-5<ROWS(INDIRECT(BereichKursbuch)),IF(ISBLANK(INDEX(INDIRECT(BereichKursbuch),(ROW()-4),COLUMN())),"",INDEX(INDIRECT(BereichKursbuch),(ROW()-4),COLUMN())),"") -> #N/A | E11: =IF(ROW()-5<ROWS(INDIRECT(BereichKursbuch)),IF(ISBLANK(INDEX(INDIRECT(BereichKursbuch),(ROW()-4),COLUMN())),"",INDEX(INDIRECT(BereichKursbuch),(ROW()-4),COLUMN())),"") -> #N/A | F11: =IF(ROW()-5<ROWS(INDIRECT(BereichKursbuch)),IF(ISBLANK(INDEX(INDIRECT(BereichKursbuch),(ROW()-4),COLUMN())),"",INDEX(INDIRECT(BereichKursbuch),(ROW()-4),COLUMN())),"") -> #N/A | G11: =IF(ROW()-5<ROWS(INDIRECT(BereichKursbuch)),IF(ISBLANK(INDEX(INDIRECT(BereichKursbuch),(ROW()-4),COLUMN())),"",INDEX(INDIRECT(BereichKursbuch),(ROW()-4),COLUMN())),"") -> #N/A
A12: =IF(ROW()-5<ROWS(INDIRECT(BereichKursbuch)),IF(ISBLANK(INDEX(INDIRECT(BereichKursbuch),(ROW()-4),COLUMN())),"",INDEX(INDIRECT(BereichKursbuch),(ROW()-4),COLUMN())),"") -> #N/A | B12: =IF(ROW()-5<ROWS(INDIRECT(BereichKursbuch)),IF(ISBLANK(INDEX(INDIRECT(BereichKursbuch),(ROW()-4),COLUMN())),"",INDEX(INDIRECT(BereichKursbuch),(ROW()-4),COLUMN())),"") -> #N/A | C12: =IF(ROW()-5<ROWS(INDIRECT(BereichKursbuch)),IF(ISBLANK(INDEX(INDIRECT(BereichKursbuch),(ROW()-4),COLUMN())),"",INDEX(INDIRECT(BereichKursbuch),(ROW()-4),COLUMN())),"") -> #N/A | D12: =IF(ROW()-5<ROWS(INDIRECT(BereichKursbuch)),IF(ISBLANK(INDEX(INDIRECT(BereichKursbuch),(ROW()-4),COLUMN())),"",INDEX(INDIRECT(BereichKursbuch),(ROW()-4),COLUMN())),"") -> #N/A | E12: =IF(ROW()-5<ROWS(INDIRECT(BereichKursbuch)),IF(ISBLANK(INDEX(INDIRECT(BereichKursbuch),(ROW()-4),COLUMN())),"",INDEX(INDIRECT(BereichKursbuch),(ROW()-4),COLUMN())),"") -> #N/A | F12: =IF(ROW()-5<ROWS(INDIRECT(BereichKursbuch)),IF(ISBLANK(INDEX(INDIRECT(BereichKursbuch),(ROW()-4),COLUMN())),"",INDEX(INDIRECT(BereichKursbuch),(ROW()-4),COLUMN())),"") -> #N/A | G12: =IF(ROW()-5<ROWS(INDIRECT(BereichKursbuch)),IF(ISBLANK(INDEX(INDIRECT(BereichKursbuch),(ROW()-4),COLUMN())),"",INDEX(INDIRECT(BereichKursbuch),(ROW()-4),COLUMN())),"") -> #N/A
A13: =IF(ROW()-5<ROWS(INDIRECT(BereichKursbuch)),IF(ISBLANK(INDEX(INDIRECT(BereichKursbuch),(ROW()-4),COLUMN())),"",INDEX(INDIRECT(BereichKursbuch),(ROW()-4),COLUMN())),"") -> #N/A | B13: =IF(ROW()-5<ROWS(INDIRECT(BereichKursbuch)),IF(ISBLANK(INDEX(INDIRECT(BereichKursbuch),(ROW()-4),COLUMN())),"",INDEX(INDIRECT(BereichKursbuch),(ROW()-4),COLUMN())),"") -> #N/A | C13: =IF(ROW()-5<ROWS(INDIRECT(BereichKursbuch)),IF(ISBLANK(INDEX(INDIRECT(BereichKursbuch),(ROW()-4),COLUMN())),"",INDEX(INDIRECT(BereichKursbuch),(ROW()-4),COLUMN())),"") -> #N/A | D13: =IF(ROW()-5<ROWS(INDIRECT(BereichKursbuch)),IF(ISBLANK(INDEX(INDIRECT(BereichKursbuch),(ROW()-4),COLUMN())),"",INDEX(INDIRECT(BereichKursbuch),(ROW()-4),COLUMN())),"") -> #N/A | E13: =IF(ROW()-5<ROWS(INDIRECT(BereichKursbuch)),IF(ISBLANK(INDEX(INDIRECT(BereichKursbuch),(ROW()-4),COLUMN())),"",INDEX(INDIRECT(BereichKursbuch),(ROW()-4),COLUMN())),"") -> #N/A | F13: =IF(ROW()-5<ROWS(INDIRECT(BereichKursbuch)),IF(ISBLANK(INDEX(INDIRECT(BereichKursbuch),(ROW()-4),COLUMN())),"",INDEX(INDIRECT(BereichKursbuch),(ROW()-4),COLUMN())),"") -> #N/A | G13: =IF(ROW()-5<ROWS(INDIRECT(BereichKursbuch)),IF(ISBLANK(INDEX(INDIRECT(BereichKursbuch),(ROW()-4),COLUMN())),"",INDEX(INDIRECT(BereichKursbuch),(ROW()-4),COLUMN())),"") -> #N/A
A14: =IF(ROW()-5<ROWS(INDIRECT(BereichKursbuch)),IF(ISBLANK(INDEX(INDIRECT(BereichKursbuch),(ROW()-4),COLUMN())),"",INDEX(INDIRECT(BereichKursbuch),(ROW()-4),COLUMN())),"") -> #N/A | B14: =IF(ROW()-5<ROWS(INDIRECT(BereichKursbuch)),IF(ISBLANK(INDEX(INDIRECT(BereichKursbuch),(ROW()-4),COLUMN())),"",INDEX(INDIRECT(BereichKursbuch),(ROW()-4),COLUMN())),"") -> #N/A | C14: =IF(ROW()-5<ROWS(INDIRECT(BereichKursbuch)),IF(ISBLANK(INDEX(INDIRECT(BereichKursbuch),(ROW()-4),COLUMN())),"",INDEX(INDIRECT(BereichKursbuch),(ROW()-4),COLUMN())),"") -> #N/A | D14: =IF(ROW()-5<ROWS(INDIRECT(BereichKursbuch)),IF(ISBLANK(INDEX(INDIRECT(BereichKursbuch),(ROW()-4),COLUMN())),"",INDEX(INDIRECT(BereichKursbuch),(ROW()-4),COLUMN())),"") -> #N/A | E14: =IF(ROW()-5<ROWS(INDIRECT(BereichKursbuch)),IF(ISBLANK(INDEX(INDIRECT(BereichKursbuch),(ROW()-4),COLUMN())),"",INDEX(INDIRECT(BereichKursbuch),(ROW()-4),COLUMN())),"") -> #N/A | F14: =IF(ROW()-5<ROWS(INDIRECT(BereichKursbuch)),IF(ISBLANK(INDEX(INDIRECT(BereichKursbuch),(ROW()-4),COLUMN())),"",INDEX(INDIRECT(BereichKursbuch),(ROW()-4),COLUMN())),"") -> #N/A | G14: =IF(ROW()-5<ROWS(INDIRECT(BereichKursbuch)),IF(ISBLANK(INDEX(INDIRECT(BereichKursbuch),(ROW()-4),COLUMN())),"",INDEX(INDIRECT(BereichKursbuch),(ROW()-4),COLUMN())),"") -> #N/A
A15: =IF(ROW()-5<ROWS(INDIRECT(BereichKursbuch)),IF(ISBLANK(INDEX(INDIRECT(BereichKursbuch),(ROW()-4),COLUMN())),"",INDEX(INDIRECT(BereichKursbuch),(ROW()-4),COLUMN())),"") -> #N/A | B15: =IF(ROW()-5<ROWS(INDIRECT(BereichKursbuch)),IF(ISBLANK(INDEX(INDIRECT(BereichKursbuch),(ROW()-4),COLUMN())),"",INDEX(INDIRECT(BereichKursbuch),(ROW()-4),COLUMN())),"") -> #N/A | C15: =IF(ROW()-5<ROWS(INDIRECT(BereichKursbuch)),IF(ISBLANK(INDEX(INDIRECT(BereichKursbuch),(ROW()-4),COLUMN())),"",INDEX(INDIRECT(BereichKursbuch),(ROW()-4),COLUMN())),"") -> #N/A | D15: =IF(ROW()-5<ROWS(INDIRECT(BereichKursbuch)),IF(ISBLANK(INDEX(INDIRECT(BereichKursbuch),(ROW()-4),COLUMN())),"",INDEX(INDIRECT(BereichKursbuch),(ROW()-4),COLUMN())),"") -> #N/A | E15: =IF(ROW()-5<ROWS(INDIRECT(BereichKursbuch)),IF(ISBLANK(INDEX(INDIRECT(BereichKursbuch),(ROW()-4),COLUMN())),"",INDEX(INDIRECT(BereichKursbuch),(ROW()-4),COLUMN())),"") -> #N/A | F15: =IF(ROW()-5<ROWS(INDIRECT(BereichKursbuch)),IF(ISBLANK(INDEX(INDIRECT(BereichKursbuch),(ROW()-4),COLUMN())),"",INDEX(INDIRECT(BereichKursbuch),(ROW()-4),COLUMN())),"") -> #N/A | G15: =IF(ROW()-5<ROWS(INDIRECT(BereichKursbuch)),IF(ISBLANK(INDEX(INDIRECT(BereichKursbuch),(ROW()-4),COLUMN())),"",INDEX(INDIRECT(BereichKursbuch),(ROW()-4),COLUMN())),"") -> #N/A
A16: =IF(ROW()-5<ROWS(INDIRECT(BereichKursbuch)),IF(ISBLANK(INDEX(INDIRECT(BereichKursbuch),(ROW()-4),COLUMN())),"",INDEX(INDIRECT(BereichKursbuch),(ROW()-4),COLUMN())),"") -> #N/A | B16: =IF(ROW()-5<ROWS(INDIRECT(BereichKursbuch)),IF(ISBLANK(INDEX(INDIRECT(BereichKursbuch),(ROW()-4),COLUMN())),"",INDEX(INDIRECT(BereichKursbuch),(ROW()-4),COLUMN())),"") -> #N/A | C16: =IF(ROW()-5<ROWS(INDIRECT(BereichKursbuch)),IF(ISBLANK(INDEX(INDIRECT(BereichKursbuch),(ROW()-4),COLUMN())),"",INDEX(INDIRECT(BereichKursbuch),(ROW()-4),COLUMN())),"") -> #N/A | D16: =IF(ROW()-5<ROWS(INDIRECT(BereichKursbuch)),IF(ISBLANK(INDEX(INDIRECT(BereichKursbuch),(ROW()-4),COLUMN())),"",INDEX(INDIRECT(BereichKursbuch),(ROW()-4),COLUMN())),"") -> #N/A | E16: =IF(ROW()-5<ROWS(INDIRECT(BereichKursbuch)),IF(ISBLANK(INDEX(INDIRECT(BereichKursbuch),(ROW()-4),COLUMN())),"",INDEX(INDIRECT(BereichKursbuch),(ROW()-4),COLUMN())),"") -> #N/A | F16: =IF(ROW()-5<ROWS(INDIRECT(BereichKursbuch)),IF(ISBLANK(INDEX(INDIRECT(BereichKursbuch),(ROW()-4),COLUMN())),"",INDEX(INDIRECT(BereichKursbuch),(ROW()-4),COLUMN())),"") -> #N/A | G16: =IF(ROW()-5<ROWS(INDIRECT(BereichKursbuch)),IF(ISBLANK(INDEX(INDIRECT(BereichKursbuch),(ROW()-4),COLUMN())),"",INDEX(INDIRECT(BereichKursbuch),(ROW()-4),COLUMN())),"") -> #N/A
A17: =A$5 -> #N/A | B17: =B$5 -> #N/A | C17: =C$5 -> #N/A | D17: =D$5 -> #N/A | E17: =E$5 -> #N/A | F17: =F$5 -> #N/A | G17: =G$5 -> Paraffe
A18: =IF(ROW()-6<ROWS(INDIRECT(BereichKursbuch)),IF(ISBLANK(INDEX(INDIRECT(BereichKursbuch),(ROW()-5),COLUMN())),"",INDEX(INDIRECT(BereichKursbuch),(ROW()-5),COLUMN())),"") -> #N/A | B18: =IF(ROW()-6<ROWS(INDIRECT(BereichKursbuch)),IF(ISBLANK(INDEX(INDIRECT(BereichKursbuch),(ROW()-5),COLUMN())),"",INDEX(INDIRECT(BereichKursbuch),(ROW()-5),COLUMN())),"") -> #N/A | C18: =IF(ROW()-6<ROWS(INDIRECT(BereichKursbuch)),IF(ISBLANK(INDEX(INDIRECT(BereichKursbuch),(ROW()-5),COLUMN())),"",INDEX(INDIRECT(BereichKursbuch),(ROW()-5),COLUMN())),"") -> #N/A | D18: =IF(ROW()-6<ROWS(INDIRECT(BereichKursbuch)),IF(ISBLANK(INDEX(INDIRECT(BereichKursbuch),(ROW()-5),COLUMN())),"",INDEX(INDIRECT(BereichKursbuch),(ROW()-5),COLUMN())),"") -> #N/A | E18: =IF(ROW()-6<ROWS(INDIRECT(BereichKursbuch)),IF(ISBLANK(INDEX(INDIRECT(BereichKursbuch),(ROW()-5),COLUMN())),"",INDEX(INDIRECT(BereichKursbuch),(ROW()-5),COLUMN())),"") -> #N/A | F18: =IF(ROW()-6<ROWS(INDIRECT(BereichKursbuch)),IF(ISBLANK(INDEX(INDIRECT(BereichKursbuch),(ROW()-5),COLUMN())),"",INDEX(INDIRECT(BereichKursbuch),(ROW()-5),COLUMN())),"") -> #N/A | G18: =IF(ROW()-6<ROWS(INDIRECT(BereichKursbuch)),IF(ISBLANK(INDEX(INDIRECT(BereichKursbuch),(ROW()-5),COLUMN())),"",INDEX(INDIRECT(BereichKursbuch),(ROW()-5),COLUMN())),"") -> #N/A
A19: =IF(ROW()-6<ROWS(INDIRECT(BereichKursbuch)),IF(ISBLANK(INDEX(INDIRECT(BereichKursbuch),(ROW()-5),COLUMN())),"",INDEX(INDIRECT(BereichKursbuch),(ROW()-5),COLUMN())),"") -> #N/A | B19: =IF(ROW()-6<ROWS(INDIRECT(BereichKursbuch)),IF(ISBLANK(INDEX(INDIRECT(BereichKursbuch),(ROW()-5),COLUMN())),"",INDEX(INDIRECT(BereichKursbuch),(ROW()-5),COLUMN())),"") -> #N/A | C19: =IF(ROW()-6<ROWS(INDIRECT(BereichKursbuch)),IF(ISBLANK(INDEX(INDIRECT(BereichKursbuch),(ROW()-5),COLUMN())),"",INDEX(INDIRECT(BereichKursbuch),(ROW()-5),COLUMN())),"") -> #N/A | D19: =IF(ROW()-6<ROWS(INDIRECT(BereichKursbuch)),IF(ISBLANK(INDEX(INDIRECT(BereichKursbuch),(ROW()-5),COLUMN())),"",INDEX(INDIRECT(BereichKursbuch),(ROW()-5),COLUMN())),"") -> #N/A | E19: =IF(ROW()-6<ROWS(INDIRECT(BereichKursbuch)),IF(ISBLANK(INDEX(INDIRECT(BereichKursbuch),(ROW()-5),COLUMN())),"",INDEX(INDIRECT(BereichKursbuch),(ROW()-5),COLUMN())),"") -> #N/A | F19: =IF(ROW()-6<ROWS(INDIRECT(BereichKursbuch)),IF(ISBLANK(INDEX(INDIRECT(BereichKursbuch),(ROW()-5),COLUMN())),"",INDEX(INDIRECT(BereichKursbuch),(ROW()-5),COLUMN())),"") -> #N/A | G19: =IF(ROW()-6<ROWS(INDIRECT(BereichKursbuch)),IF(ISBLANK(INDEX(INDIRECT(BereichKursbuch),(ROW()-5),COLUMN())),"",INDEX(INDIRECT(BereichKursbuch),(ROW()-5),COLUMN())),"") -> #N/A
A20: =IF(ROW()-6<ROWS(INDIRECT(BereichKursbuch)),IF(ISBLANK(INDEX(INDIRECT(BereichKursbuch),(ROW()-5),COLUMN())),"",INDEX(INDIRECT(BereichKursbuch),(ROW()-5),COLUMN())),"") -> #N/A | B20: =IF(ROW()-6<ROWS(INDIRECT(BereichKursbuch)),IF(ISBLANK(INDEX(INDIRECT(BereichKursbuch),(ROW()-5),COLUMN())),"",INDEX(INDIRECT(BereichKursbuch),(ROW()-5),COLUMN())),"") -> #N/A | C20: =IF(ROW()-6<ROWS(INDIRECT(BereichKursbuch)),IF(ISBLANK(INDEX(INDIRECT(BereichKursbuch),(ROW()-5),COLUMN())),"",INDEX(INDIRECT(BereichKursbuch),(ROW()-5),COLUMN())),"") -> #N/A | D20: =IF(ROW()-6<ROWS(INDIRECT(BereichKursbuch)),IF(ISBLANK(INDEX(INDIRECT(BereichKursbuch),(ROW()-5),COLUMN())),"",INDEX(INDIRECT(BereichKursbuch),(ROW()-5),COLUMN())),"") -> #N/A | E20: =IF(ROW()-6<ROWS(INDIRECT(BereichKursbuch)),IF(ISBLANK(INDEX(INDIRECT(BereichKursbuch),(ROW()-5),COLUMN())),"",INDEX(INDIRECT(BereichKursbuch),(ROW()-5),COLUMN())),"") -> #N/A | F20: =IF(ROW()-6<ROWS(INDIRECT(BereichKursbuch)),IF(ISBLANK(INDEX(INDIRECT(BereichKursbuch),(ROW()-5),COLUMN())),"",INDEX(INDIRECT(BereichKursbuch),(ROW()-5),COLUMN())),"") -> #N/A | G20: =IF(ROW()-6<ROWS(INDIRECT(BereichKursbuch)),IF(ISBLANK(INDEX(INDIRECT(BereichKursbuch),(ROW()-5),COLUMN())),"",INDEX(INDIRECT(BereichKursbuch),(ROW()-5),COLUMN())),"") -> #N/A
A21: =IF(ROW()-6<ROWS(INDIRECT(BereichKursbuch)),IF(ISBLANK(INDEX(INDIRECT(BereichKursbuch),(ROW()-5),COLUMN())),"",INDEX(INDIRECT(BereichKursbuch),(ROW()-5),COLUMN())),"") -> #N/A | B21: =IF(ROW()-6<ROWS(INDIRECT(BereichKursbuch)),IF(ISBLANK(INDEX(INDIRECT(BereichKursbuch),(ROW()-5),COLUMN())),"",INDEX(INDIRECT(BereichKursbuch),(ROW()-5),COLUMN())),"") -> #N/A | C21: =IF(ROW()-6<ROWS(INDIRECT(BereichKursbuch)),IF(ISBLANK(INDEX(INDIRECT(BereichKursbuch),(ROW()-5),COLUMN())),"",INDEX(INDIRECT(BereichKursbuch),(ROW()-5),COLUMN())),"") -> #N/A | D21: =IF(ROW()-6<ROWS(INDIRECT(BereichKursbuch)),IF(ISBLANK(INDEX(INDIRECT(BereichKursbuch),(ROW()-5),COLUMN())),"",INDEX(INDIRECT(BereichKursbuch),(ROW()-5),COLUMN())),"") -> #N/A | E21: =IF(ROW()-6<ROWS(INDIRECT(BereichKursbuch)),IF(ISBLANK(INDEX(INDIRECT(BereichKursbuch),(ROW()-5),COLUMN())),"",INDEX(INDIRECT(BereichKursbuch),(ROW()-5),COLUMN())),"") -> #N/A | F21: =IF(ROW()-6<ROWS(INDIRECT(BereichKursbuch)),IF(ISBLANK(INDEX(INDIRECT(BereichKursbuch),(ROW()-5),COLUMN())),"",INDEX(INDIRECT(BereichKursbuch),(ROW()-5),COLUMN())),"") -> #N/A | G21: =IF(ROW()-6<ROWS(INDIRECT(BereichKursbuch)),IF(ISBLANK(INDEX(INDIRECT(BereichKursbuch),(ROW()-5),COLUMN())),"",INDEX(INDIRECT(BereichKursbuch),(ROW()-5),COLUMN())),"") -> #N/A
A22: =IF(ROW()-6<ROWS(INDIRECT(BereichKursbuch)),IF(ISBLANK(INDEX(INDIRECT(BereichKursbuch),(ROW()-5),COLUMN())),"",INDEX(INDIRECT(BereichKursbuch),(ROW()-5),COLUMN())),"") -> #N/A | B22: =IF(ROW()-6<ROWS(INDIRECT(BereichKursbuch)),IF(ISBLANK(INDEX(INDIRECT(BereichKursbuch),(ROW()-5),COLUMN())),"",INDEX(INDIRECT(BereichKursbuch),(ROW()-5),COLUMN())),"") -> #N/A | C22: =IF(ROW()-6<ROWS(INDIRECT(BereichKursbuch)),IF(ISBLANK(INDEX(INDIRECT(BereichKursbuch),(ROW()-5),COLUMN())),"",INDEX(INDIRECT(BereichKursbuch),(ROW()-5),COLUMN())),"") -> #N/A | D22: =IF(ROW()-6<ROWS(INDIRECT(BereichKursbuch)),IF(ISBLANK(INDEX(INDIRECT(BereichKursbuch),(ROW()-5),COLUMN())),"",INDEX(INDIRECT(BereichKursbuch),(ROW()-5),COLUMN())),"") -> #N/A | E22: =IF(ROW()-6<ROWS(INDIRECT(BereichKursbuch)),IF(ISBLANK(INDEX(INDIRECT(BereichKursbuch),(ROW()-5),COLUMN())),"",INDEX(INDIRECT(BereichKursbuch),(ROW()-5),COLUMN())),"") -> #N/A | F22: =IF(ROW()-6<ROWS(INDIRECT(BereichKursbuch)),IF(ISBLANK(INDEX(INDIRECT(BereichKursbuch),(ROW()-5),COLUMN())),"",INDEX(INDIRECT(BereichKursbuch),(ROW()-5),COLUMN())),"") -> #N/A | G22: =IF(ROW()-6<ROWS(INDIRECT(BereichKursbuch)),IF(ISBLANK(INDEX(INDIRECT(BereichKursbuch),(ROW()-5),COLUMN())),"",INDEX(INDIRECT(BereichKursbuch),(ROW()-5),COLUMN())),"") -> #N/A
A23: =IF(ROW()-6<ROWS(INDIRECT(BereichKursbuch)),IF(ISBLANK(INDEX(INDIRECT(BereichKursbuch),(ROW()-5),COLUMN())),"",INDEX(INDIRECT(BereichKursbuch),(ROW()-5),COLUMN())),"") -> #N/A | B23: =IF(ROW()-6<ROWS(INDIRECT(BereichKursbuch)),IF(ISBLANK(INDEX(INDIRECT(BereichKursbuch),(ROW()-5),COLUMN())),"",INDEX(INDIRECT(BereichKursbuch),(ROW()-5),COLUMN())),"") -> #N/A | C23: =IF(ROW()-6<ROWS(INDIRECT(BereichKursbuch)),IF(ISBLANK(INDEX(INDIRECT(BereichKursbuch),(ROW()-5),COLUMN())),"",INDEX(INDIRECT(BereichKursbuch),(ROW()-5),COLUMN())),"") -> #N/A | D23: =IF(ROW()-6<ROWS(INDIRECT(BereichKursbuch)),IF(ISBLANK(INDEX(INDIRECT(BereichKursbuch),(ROW()-5),COLUMN())),"",INDEX(INDIRECT(BereichKursbuch),(ROW()-5),COLUMN())),"") -> #N/A | E23: =IF(ROW()-6<ROWS(INDIRECT(BereichKursbuch)),IF(ISBLANK(INDEX(INDIRECT(BereichKursbuch),(ROW()-5),COLUMN())),"",INDEX(INDIRECT(BereichKursbuch),(ROW()-5),COLUMN())),"") -> #N/A | F23: =IF(ROW()-6<ROWS(INDIRECT(BereichKursbuch)),IF(ISBLANK(INDEX(INDIRECT(BereichKursbuch),(ROW()-5),COLUMN())),"",INDEX(INDIRECT(BereichKursbuch),(ROW()-5),COLUMN())),"") -> #N/A | G23: =IF(ROW()-6<ROWS(INDIRECT(BereichKursbuch)),IF(ISBLANK(INDEX(INDIRECT(BereichKursbuch),(ROW()-5),COLUMN())),"",INDEX(INDIRECT(BereichKursbuch),(ROW()-5),COLUMN())),"") -> #N/A
A24: =IF(ROW()-6<ROWS(INDIRECT(BereichKursbuch)),IF(ISBLANK(INDEX(INDIRECT(BereichKursbuch),(ROW()-5),COLUMN())),"",INDEX(INDIRECT(BereichKursbuch),(ROW()-5),COLUMN())),"") -> #N/A | B24: =IF(ROW()-6<ROWS(INDIRECT(BereichKursbuch)),IF(ISBLANK(INDEX(INDIRECT(BereichKursbuch),(ROW()-5),COLUMN())),"",INDEX(INDIRECT(BereichKursbuch),(ROW()-5),COLUMN())),"") -> #N/A | C24: =IF(ROW()-6<ROWS(INDIRECT(BereichKursbuch)),IF(ISBLANK(INDEX(INDIRECT(BereichKursbuch),(ROW()-5),COLUMN())),"",INDEX(INDIRECT(BereichKursbuch),(ROW()-5),COLUMN())),"") -> #N/A | D24: =IF(ROW()-6<ROWS(INDIRECT(BereichKursbuch)),IF(ISBLANK(INDEX(INDIRECT(BereichKursbuch),(ROW()-5),COLUMN())),"",INDEX(INDIRECT(BereichKursbuch),(ROW()-5),COLUMN())),"") -> #N/A | E24: =IF(ROW()-6<ROWS(INDIRECT(BereichKursbuch)),IF(ISBLANK(INDEX(INDIRECT(BereichKursbuch),(ROW()-5),COLUMN())),"",INDEX(INDIRECT(BereichKursbuch),(ROW()-5),COLUMN())),"") -> #N/A | F24: =IF(ROW()-6<ROWS(INDIRECT(BereichKursbuch)),IF(ISBLANK(INDEX(INDIRECT(BereichKursbuch),(ROW()-5),COLUMN())),"",INDEX(INDIRECT(BereichKursbuch),(ROW()-5),COLUMN())),"") -> #N/A | G24: =IF(ROW()-6<ROWS(INDIRECT(BereichKursbuch)),IF(ISBLANK(INDEX(INDIRECT(BereichKursbuch),(ROW()-5),COLUMN())),"",INDEX(INDIRECT(BereichKursbuch),(ROW()-5),COLUMN())),"") -> #N/A
A25: =IF(ROW()-6<ROWS(INDIRECT(BereichKursbuch)),IF(ISBLANK(INDEX(INDIRECT(BereichKursbuch),(ROW()-5),COLUMN())),"",INDEX(INDIRECT(BereichKursbuch),(ROW()-5),COLUMN())),"") -> #N/A | B25: =IF(ROW()-6<ROWS(INDIRECT(BereichKursbuch)),IF(ISBLANK(INDEX(INDIRECT(BereichKursbuch),(ROW()-5),COLUMN())),"",INDEX(INDIRECT(BereichKursbuch),(ROW()-5),COLUMN())),"") -> #N/A | C25: =IF(ROW()-6<ROWS(INDIRECT(BereichKursbuch)),IF(ISBLANK(INDEX(INDIRECT(BereichKursbuch),(ROW()-5),COLUMN())),"",INDEX(INDIRECT(BereichKursbuch),(ROW()-5),COLUMN())),"") -> #N/A | D25: =IF(ROW()-6<ROWS(INDIRECT(BereichKursbuch)),IF(ISBLANK(INDEX(INDIRECT(BereichKursbuch),(ROW()-5),COLUMN())),"",INDEX(INDIRECT(BereichKursbuch),(ROW()-5),COLUMN())),"") -> #N/A | E25: =IF(ROW()-6<ROWS(INDIRECT(BereichKursbuch)),IF(ISBLANK(INDEX(INDIRECT(BereichKursbuch),(ROW()-5),COLUMN())),"",INDEX(INDIRECT(BereichKursbuch),(ROW()-5),COLUMN())),"") -> #N/A | F25: =IF(ROW()-6<ROWS(INDIRECT(BereichKursbuch)),IF(ISBLANK(INDEX(INDIRECT(BereichKursbuch),(ROW()-5),COLUMN())),"",INDEX(INDIRECT(BereichKursbuch),(ROW()-5),COLUMN())),"") -> #N/A | G25: =IF(ROW()-6<ROWS(INDIRECT(BereichKursbuch)),IF(ISBLANK(INDEX(INDIRECT(BereichKursbuch),(ROW()-5),COLUMN())),"",INDEX(INDIRECT(BereichKursbuch),(ROW()-5),COLUMN())),"") -> #N/A
A26: =IF(ROW()-6<ROWS(INDIRECT(BereichKursbuch)),IF(ISBLANK(INDEX(INDIRECT(BereichKursbuch),(ROW()-5),COLUMN())),"",INDEX(INDIRECT(BereichKursbuch),(ROW()-5),COLUMN())),"") -> #N/A | B26: =IF(ROW()-6<ROWS(INDIRECT(BereichKursbuch)),IF(ISBLANK(INDEX(INDIRECT(BereichKursbuch),(ROW()-5),COLUMN())),"",INDEX(INDIRECT(BereichKursbuch),(ROW()-5),COLUMN())),"") -> #N/A | C26: =IF(ROW()-6<ROWS(INDIRECT(BereichKursbuch)),IF(ISBLANK(INDEX(INDIRECT(BereichKursbuch),(ROW()-5),COLUMN())),"",INDEX(INDIRECT(BereichKursbuch),(ROW()-5),COLUMN())),"") -> #N/A | D26: =IF(ROW()-6<ROWS(INDIRECT(BereichKursbuch)),IF(ISBLANK(INDEX(INDIRECT(BereichKursbuch),(ROW()-5),COLUMN())),"",INDEX(INDIRECT(BereichKursbuch),(ROW()-5),COLUMN())),"") -> #N/A | E26: =IF(ROW()-6<ROWS(INDIRECT(BereichKursbuch)),IF(ISBLANK(INDEX(INDIRECT(BereichKursbuch),(ROW()-5),COLUMN())),"",INDEX(INDIRECT(BereichKursbuch),(ROW()-5),COLUMN())),"") -> #N/A | F26: =IF(ROW()-6<ROWS(INDIRECT(BereichKursbuch)),IF(ISBLANK(INDEX(INDIRECT(BereichKursbuch),(ROW()-5),COLUMN())),"",INDEX(INDIRECT(BereichKursbuch),(ROW()-5),COLUMN())),"") -> #N/A | G26: =IF(ROW()-6<ROWS(INDIRECT(BereichKursbuch)),IF(ISBLANK(INDEX(INDIRECT(BereichKursbuch),(ROW()-5),COLUMN())),"",INDEX(INDIRECT(BereichKursbuch),(ROW()-5),COLUMN())),"") -> #N/A
A27: =IF(ROW()-6<ROWS(INDIRECT(BereichKursbuch)),IF(ISBLANK(INDEX(INDIRECT(BereichKursbuch),(ROW()-5),COLUMN())),"",INDEX(INDIRECT(BereichKursbuch),(ROW()-5),COLUMN())),"") -> #N/A | B27: =IF(ROW()-6<ROWS(INDIRECT(BereichKursbuch)),IF(ISBLANK(INDEX(INDIRECT(BereichKursbuch),(ROW()-5),COLUMN())),"",INDEX(INDIRECT(BereichKursbuch),(ROW()-5),COLUMN())),"") -> #N/A | C27: =IF(ROW()-6<ROWS(INDIRECT(BereichKursbuch)),IF(ISBLANK(INDEX(INDIRECT(BereichKursbuch),(ROW()-5),COLUMN())),"",INDEX(INDIRECT(BereichKursbuch),(ROW()-5),COLUMN())),"") -> #N/A | D27: =IF(ROW()-6<ROWS(INDIRECT(BereichKursbuch)),IF(ISBLANK(INDEX(INDIRECT(BereichKursbuch),(ROW()-5),COLUMN())),"",INDEX(INDIRECT(BereichKursbuch),(ROW()-5),COLUMN())),"") -> #N/A | E27: =IF(ROW()-6<ROWS(INDIRECT(BereichKursbuch)),IF(ISBLANK(INDEX(INDIRECT(BereichKursbuch),(ROW()-5),COLUMN())),"",INDEX(INDIRECT(BereichKursbuch),(ROW()-5),COLUMN())),"") -> #N/A | F27: =IF(ROW()-6<ROWS(INDIRECT(BereichKursbuch)),IF(ISBLANK(INDEX(INDIRECT(BereichKursbuch),(ROW()-5),COLUMN())),"",INDEX(INDIRECT(BereichKursbuch),(ROW()-5),COLUMN())),"") -> #N/A | G27: =IF(ROW()-6<ROWS(INDIRECT(BereichKursbuch)),IF(ISBLANK(INDEX(INDIRECT(BereichKursbuch),(ROW()-5),COLUMN())),"",INDEX(INDIRECT(BereichKursbuch),(ROW()-5),COLUMN())),"") -> #N/A
A28: =IF(ROW()-6<ROWS(INDIRECT(BereichKursbuch)),IF(ISBLANK(INDEX(INDIRECT(BereichKursbuch),(ROW()-5),COLUMN())),"",INDEX(INDIRECT(BereichKursbuch),(ROW()-5),COLUMN())),"") -> #N/A | B28: =IF(ROW()-6<ROWS(INDIRECT(BereichKursbuch)),IF(ISBLANK(INDEX(INDIRECT(BereichKursbuch),(ROW()-5),COLUMN())),"",INDEX(INDIRECT(BereichKursbuch),(ROW()-5),COLUMN())),"") -> #N/A | C28: =IF(ROW()-6<ROWS(INDIRECT(BereichKursbuch)),IF(ISBLANK(INDEX(INDIRECT(BereichKursbuch),(ROW()-5),COLUMN())),"",INDEX(INDIRECT(BereichKursbuch),(ROW()-5),COLUMN())),"") -> #N/A | D28: =IF(ROW()-6<ROWS(INDIRECT(BereichKursbuch)),IF(ISBLANK(INDEX(INDIRECT(BereichKursbuch),(ROW()-5),COLUMN())),"",INDEX(INDIRECT(BereichKursbuch),(ROW()-5),COLUMN())),"") -> #N/A | E28: =IF(ROW()-6<ROWS(INDIRECT(BereichKursbuch)),IF(ISBLANK(INDEX(INDIRECT(BereichKursbuch),(ROW()-5),COLUMN())),"",INDEX(INDIRECT(BereichKursbuch),(ROW()-5),COLUMN())),"") -> #N/A | F28: =IF(ROW()-6<ROWS(INDIRECT(BereichKursbuch)),IF(ISBLANK(INDEX(INDIRECT(BereichKursbuch),(ROW()-5),COLUMN())),"",INDEX(INDIRECT(BereichKursbuch),(ROW()-5),COLUMN())),"") -> #N/A | G28: =IF(ROW()-6<ROWS(INDIRECT(BereichKursbuch)),IF(ISBLANK(INDEX(INDIRECT(BereichKursbuch),(ROW()-5),COLUMN())),"",INDEX(INDIRECT(BereichKursbuch),(ROW()-5),COLUMN())),"") -> #N/A
A29: =IF(ROW()-6<ROWS(INDIRECT(BereichKursbuch)),IF(ISBLANK(INDEX(INDIRECT(BereichKursbuch),(ROW()-5),COLUMN())),"",INDEX(INDIRECT(BereichKursbuch),(ROW()-5),COLUMN())),"") -> #N/A | B29: =IF(ROW()-6<ROWS(INDIRECT(BereichKursbuch)),IF(ISBLANK(INDEX(INDIRECT(BereichKursbuch),(ROW()-5),COLUMN())),"",INDEX(INDIRECT(BereichKursbuch),(ROW()-5),COLUMN())),"") -> #N/A | C29: =IF(ROW()-6<ROWS(INDIRECT(BereichKursbuch)),IF(ISBLANK(INDEX(INDIRECT(BereichKursbuch),(ROW()-5),COLUMN())),"",INDEX(INDIRECT(BereichKursbuch),(ROW()-5),COLUMN())),"") -> #N/A | D29: =IF(ROW()-6<ROWS(INDIRECT(BereichKursbuch)),IF(ISBLANK(INDEX(INDIRECT(BereichKursbuch),(ROW()-5),COLUMN())),"",INDEX(INDIRECT(BereichKursbuch),(ROW()-5),COLUMN())),"") -> #N/A | E29: =IF(ROW()-6<ROWS(INDIRECT(BereichKursbuch)),IF(ISBLANK(INDEX(INDIRECT(BereichKursbuch),(ROW()-5),COLUMN())),"",INDEX(INDIRECT(BereichKursbuch),(ROW()-5),COLUMN())),"") -> #N/A | F29: =IF(ROW()-6<ROWS(INDIRECT(BereichKursbuch)),IF(ISBLANK(INDEX(INDIRECT(BereichKursbuch),(ROW()-5),COLUMN())),"",INDEX(INDIRECT(BereichKursbuch),(ROW()-5),COLUMN())),"") -> #N/A | G29: =IF(ROW()-6<ROWS(INDIRECT(BereichKursbuch)),IF(ISBLANK(INDEX(INDIRECT(BereichKursbuch),(ROW()-5),COLUMN())),"",INDEX(INDIRECT(BereichKursbuch),(ROW()-5),COLUMN())),"") -> #N/A
A30: =A$5 -> #N/A | B30: =B$5 -> #N/A | C30: =C$5 -> #N/A | D30: =D$5 -> #N/A | E30: =E$5 -> #N/A | F30: =F$5 -> #N/A | G30: =G$5 -> Paraffe
A31: =IF(ROW()-7<ROWS(INDIRECT(BereichKursbuch)),IF(ISBLANK(INDEX(INDIRECT(BereichKursbuch),(ROW()-6),COLUMN())),"",INDEX(INDIRECT(BereichKursbuch),(ROW()-6),COLUMN())),"") -> #N/A | B31: =IF(ROW()-7<ROWS(INDIRECT(BereichKursbuch)),IF(ISBLANK(INDEX(INDIRECT(BereichKursbuch),(ROW()-6),COLUMN())),"",INDEX(INDIRECT(BereichKursbuch),(ROW()-6),COLUMN())),"") -> #N/A | C31: =IF(ROW()-7<ROWS(INDIRECT(BereichKursbuch)),IF(ISBLANK(INDEX(INDIRECT(BereichKursbuch),(ROW()-6),COLUMN())),"",INDEX(INDIRECT(BereichKursbuch),(ROW()-6),COLUMN())),"") -> #N/A | D31: =IF(ROW()-7<ROWS(INDIRECT(BereichKursbuch)),IF(ISBLANK(INDEX(INDIRECT(BereichKursbuch),(ROW()-6),COLUMN())),"",INDEX(INDIRECT(BereichKursbuch),(ROW()-6),COLUMN())),"") -> #N/A | E31: =IF(ROW()-7<ROWS(INDIRECT(BereichKursbuch)),IF(ISBLANK(INDEX(INDIRECT(BereichKursbuch),(ROW()-6),COLUMN())),"",INDEX(INDIRECT(BereichKursbuch),(ROW()-6),COLUMN())),"") -> #N/A | F31: =IF(ROW()-7<ROWS(INDIRECT(BereichKursbuch)),IF(ISBLANK(INDEX(INDIRECT(BereichKursbuch),(ROW()-6),COLUMN())),"",INDEX(INDIRECT(BereichKursbuch),(ROW()-6),COLUMN())),"") -> #N/A | G31: =IF(ROW()-7<ROWS(INDIRECT(BereichKursbuch)),IF(ISBLANK(INDEX(INDIRECT(BereichKursbuch),(ROW()-6),COLUMN())),"",INDEX(INDIRECT(BereichKursbuch),(ROW()-6),COLUMN())),"") -> #N/A
A32: =IF(ROW()-7<ROWS(INDIRECT(BereichKursbuch)),IF(ISBLANK(INDEX(INDIRECT(BereichKursbuch),(ROW()-6),COLUMN())),"",INDEX(INDIRECT(BereichKursbuch),(ROW()-6),COLUMN())),"") -> #N/A | B32: =IF(ROW()-7<ROWS(INDIRECT(BereichKursbuch)),IF(ISBLANK(INDEX(INDIRECT(BereichKursbuch),(ROW()-6),COLUMN())),"",INDEX(INDIRECT(BereichKursbuch),(ROW()-6),COLUMN())),"") -> #N/A | C32: =IF(ROW()-7<ROWS(INDIRECT(BereichKursbuch)),IF(ISBLANK(INDEX(INDIRECT(BereichKursbuch),(ROW()-6),COLUMN())),"",INDEX(INDIRECT(BereichKursbuch),(ROW()-6),COLUMN())),"") -> #N/A | D32: =IF(ROW()-7<ROWS(INDIRECT(BereichKursbuch)),IF(ISBLANK(INDEX(INDIRECT(BereichKursbuch),(ROW()-6),COLUMN())),"",INDEX(INDIRECT(BereichKursbuch),(ROW()-6),COLUMN())),"") -> #N/A | E32: =IF(ROW()-7<ROWS(INDIRECT(BereichKursbuch)),IF(ISBLANK(INDEX(INDIRECT(BereichKursbuch),(ROW()-6),COLUMN())),"",INDEX(INDIRECT(BereichKursbuch),(ROW()-6),COLUMN())),"") -> #N/A | F32: =IF(ROW()-7<ROWS(INDIRECT(BereichKursbuch)),IF(ISBLANK(INDEX(INDIRECT(BereichKursbuch),(ROW()-6),COLUMN())),"",INDEX(INDIRECT(BereichKursbuch),(ROW()-6),COLUMN())),"") -> #N/A | G32: =IF(ROW()-7<ROWS(INDIRECT(BereichKursbuch)),IF(ISBLANK(INDEX(INDIRECT(BereichKursbuch),(ROW()-6),COLUMN())),"",INDEX(INDIRECT(BereichKursbuch),(ROW()-6),COLUMN())),"") -> #N/A
A33: =IF(ROW()-7<ROWS(INDIRECT(BereichKursbuch)),IF(ISBLANK(INDEX(INDIRECT(BereichKursbuch),(ROW()-6),COLUMN())),"",INDEX(INDIRECT(BereichKursbuch),(ROW()-6),COLUMN())),"") -> #N/A | B33: =IF(ROW()-7<ROWS(INDIRECT(BereichKursbuch)),IF(ISBLANK(INDEX(INDIRECT(BereichKursbuch),(ROW()-6),COLUMN())),"",INDEX(INDIRECT(BereichKursbuch),(ROW()-6),COLUMN())),"") -> #N/A | C33: =IF(ROW()-7<ROWS(INDIRECT(BereichKursbuch)),IF(ISBLANK(INDEX(INDIRECT(BereichKursbuch),(ROW()-6),COLUMN())),"",INDEX(INDIRECT(BereichKursbuch),(ROW()-6),COLUMN())),"") -> #N/A | D33: =IF(ROW()-7<ROWS(INDIRECT(BereichKursbuch)),IF(ISBLANK(INDEX(INDIRECT(BereichKursbuch),(ROW()-6),COLUMN())),"",INDEX(INDIRECT(BereichKursbuch),(ROW()-6),COLUMN())),"") -> #N/A | E33: =IF(ROW()-7<ROWS(INDIRECT(BereichKursbuch)),IF(ISBLANK(INDEX(INDIRECT(BereichKursbuch),(ROW()-6),COLUMN())),"",INDEX(INDIRECT(BereichKursbuch),(ROW()-6),COLUMN())),"") -> #N/A | F33: =IF(ROW()-7<ROWS(INDIRECT(BereichKursbuch)),IF(ISBLANK(INDEX(INDIRECT(BereichKursbuch),(ROW()-6),COLUMN())),"",INDEX(INDIRECT(BereichKursbuch),(ROW()-6),COLUMN())),"") -> #N/A | G33: =IF(ROW()-7<ROWS(INDIRECT(BereichKursbuch)),IF(ISBLANK(INDEX(INDIRECT(BereichKursbuch),(ROW()-6),COLUMN())),"",INDEX(INDIRECT(BereichKursbuch),(ROW()-6),COLUMN())),"") -> #N/A
A34: =IF(ROW()-7<ROWS(INDIRECT(BereichKursbuch)),IF(ISBLANK(INDEX(INDIRECT(BereichKursbuch),(ROW()-6),COLUMN())),"",INDEX(INDIRECT(BereichKursbuch),(ROW()-6),COLUMN())),"") -> #N/A | B34: =IF(ROW()-7<ROWS(INDIRECT(BereichKursbuch)),IF(ISBLANK(INDEX(INDIRECT(BereichKursbuch),(ROW()-6),COLUMN())),"",INDEX(INDIRECT(BereichKursbuch),(ROW()-6),COLUMN())),"") -> #N/A | C34: =IF(ROW()-7<ROWS(INDIRECT(BereichKursbuch)),IF(ISBLANK(INDEX(INDIRECT(BereichKursbuch),(ROW()-6),COLUMN())),"",INDEX(INDIRECT(BereichKursbuch),(ROW()-6),COLUMN())),"") -> #N/A | D34: =IF(ROW()-7<ROWS(INDIRECT(BereichKursbuch)),IF(ISBLANK(INDEX(INDIRECT(BereichKursbuch),(ROW()-6),COLUMN())),"",INDEX(INDIRECT(BereichKursbuch),(ROW()-6),COLUMN())),"") -> #N/A | E34: =IF(ROW()-7<ROWS(INDIRECT(BereichKursbuch)),IF(ISBLANK(INDEX(INDIRECT(BereichKursbuch),(ROW()-6),COLUMN())),"",INDEX(INDIRECT(BereichKursbuch),(ROW()-6),COLUMN())),"") -> #N/A | F34: =IF(ROW()-7<ROWS(INDIRECT(BereichKursbuch)),IF(ISBLANK(INDEX(INDIRECT(BereichKursbuch),(ROW()-6),COLUMN())),"",INDEX(INDIRECT(BereichKursbuch),(ROW()-6),COLUMN())),"") -> #N/A | G34: =IF(ROW()-7<ROWS(INDIRECT(BereichKursbuch)),IF(ISBLANK(INDEX(INDIRECT(BereichKursbuch),(ROW()-6),COLUMN())),"",INDEX(INDIRECT(BereichKursbuch),(ROW()-6),COLUMN())),"") -> #N/A
A35: =IF(ROW()-7<ROWS(INDIRECT(BereichKursbuch)),IF(ISBLANK(INDEX(INDIRECT(BereichKursbuch),(ROW()-6),COLUMN())),"",INDEX(INDIRECT(BereichKursbuch),(ROW()-6),COLUMN())),"") -> #N/A | B35: =IF(ROW()-7<ROWS(INDIRECT(BereichKursbuch)),IF(ISBLANK(INDEX(INDIRECT(BereichKursbuch),(ROW()-6),COLUMN())),"",INDEX(INDIRECT(BereichKursbuch),(ROW()-6),COLUMN())),"") -> #N/A | C35: =IF(ROW()-7<ROWS(INDIRECT(BereichKursbuch)),IF(ISBLANK(INDEX(INDIRECT(BereichKursbuch),(ROW()-6),COLUMN())),"",INDEX(INDIRECT(BereichKursbuch),(ROW()-6),COLUMN())),"") -> #N/A | D35: =IF(ROW()-7<ROWS(INDIRECT(BereichKursbuch)),IF(ISBLANK(INDEX(INDIRECT(BereichKursbuch),(ROW()-6),COLUMN())),"",INDEX(INDIRECT(BereichKursbuch),(ROW()-6),COLUMN())),"") -> #N/A | E35: =IF(ROW()-7<ROWS(INDIRECT(BereichKursbuch)),IF(ISBLANK(INDEX(INDIRECT(BereichKursbuch),(ROW()-6),COLUMN())),"",INDEX(INDIRECT(BereichKursbuch),(ROW()-6),COLUMN())),"") -> #N/A | F35: =IF(ROW()-7<ROWS(INDIRECT(BereichKursbuch)),IF(ISBLANK(INDEX(INDIRECT(BereichKursbuch),(ROW()-6),COLUMN())),"",INDEX(INDIRECT(BereichKursbuch),(ROW()-6),COLUMN())),"") -> #N/A | G35: =IF(ROW()-7<ROWS(INDIRECT(BereichKursbuch)),IF(ISBLANK(INDEX(INDIRECT(BereichKursbuch),(ROW()-6),COLUMN())),"",INDEX(INDIRECT(BereichKursbuch),(ROW()-6),COLUMN())),"") -> #N/A
A36: =IF(ROW()-7<ROWS(INDIRECT(BereichKursbuch)),IF(ISBLANK(INDEX(INDIRECT(BereichKursbuch),(ROW()-6),COLUMN())),"",INDEX(INDIRECT(BereichKursbuch),(ROW()-6),COLUMN())),"") -> #N/A | B36: =IF(ROW()-7<ROWS(INDIRECT(BereichKursbuch)),IF(ISBLANK(INDEX(INDIRECT(BereichKursbuch),(ROW()-6),COLUMN())),"",INDEX(INDIRECT(BereichKursbuch),(ROW()-6),COLUMN())),"") -> #N/A | C36: =IF(ROW()-7<ROWS(INDIRECT(BereichKursbuch)),IF(ISBLANK(INDEX(INDIRECT(BereichKursbuch),(ROW()-6),COLUMN())),"",INDEX(INDIRECT(BereichKursbuch),(ROW()-6),COLUMN())),"") -> #N/A | D36: =IF(ROW()-7<ROWS(INDIRECT(BereichKursbuch)),IF(ISBLANK(INDEX(INDIRECT(BereichKursbuch),(ROW()-6),COLUMN())),"",INDEX(INDIRECT(BereichKursbuch),(ROW()-6),COLUMN())),"") -> #N/A | E36: =IF(ROW()-7<ROWS(INDIRECT(BereichKursbuch)),IF(ISBLANK(INDEX(INDIRECT(BereichKursbuch),(ROW()-6),COLUMN())),"",INDEX(INDIRECT(BereichKursbuch),(ROW()-6),COLUMN())),"") -> #N/A | F36: =IF(ROW()-7<ROWS(INDIRECT(BereichKursbuch)),IF(ISBLANK(INDEX(INDIRECT(BereichKursbuch),(ROW()-6),COLUMN())),"",INDEX(INDIRECT(BereichKursbuch),(ROW()-6),COLUMN())),"") -> #N/A | G36: =IF(ROW()-7<ROWS(INDIRECT(BereichKursbuch)),IF(ISBLANK(INDEX(INDIRECT(BereichKursbuch),(ROW()-6),COLUMN())),"",INDEX(INDIRECT(BereichKursbuch),(ROW()-6),COLUMN())),"") -> #N/A
A37: =IF(ROW()-7<ROWS(INDIRECT(BereichKursbuch)),IF(ISBLANK(INDEX(INDIRECT(BereichKursbuch),(ROW()-6),COLUMN())),"",INDEX(INDIRECT(BereichKursbuch),(ROW()-6),COLUMN())),"") -> #N/A | B37: =IF(ROW()-7<ROWS(INDIRECT(BereichKursbuch)),IF(ISBLANK(INDEX(INDIRECT(BereichKursbuch),(ROW()-6),COLUMN())),"",INDEX(INDIRECT(BereichKursbuch),(ROW()-6),COLUMN())),"") -> #N/A | C37: =IF(ROW()-7<ROWS(INDIRECT(BereichKursbuch)),IF(ISBLANK(INDEX(INDIRECT(BereichKursbuch),(ROW()-6),COLUMN())),"",INDEX(INDIRECT(BereichKursbuch),(ROW()-6),COLUMN())),"") -> #N/A | D37: =IF(ROW()-7<ROWS(INDIRECT(BereichKursbuch)),IF(ISBLANK(INDEX(INDIRECT(BereichKursbuch),(ROW()-6),COLUMN())),"",INDEX(INDIRECT(BereichKursbuch),(ROW()-6),COLUMN())),"") -> #N/A | E37: =IF(ROW()-7<ROWS(INDIRECT(BereichKursbuch)),IF(ISBLANK(INDEX(INDIRECT(BereichKursbuch),(ROW()-6),COLUMN())),"",INDEX(INDIRECT(BereichKursbuch),(ROW()-6),COLUMN())),"") -> #N/A | F37: =IF(ROW()-7<ROWS(INDIRECT(BereichKursbuch)),IF(ISBLANK(INDEX(INDIRECT(BereichKursbuch),(ROW()-6),COLUMN())),"",INDEX(INDIRECT(BereichKursbuch),(ROW()-6),COLUMN())),"") -> #N/A | G37: =IF(ROW()-7<ROWS(INDIRECT(BereichKursbuch)),IF(ISBLANK(INDEX(INDIRECT(BereichKursbuch),(ROW()-6),COLUMN())),"",INDEX(INDIRECT(BereichKursbuch),(ROW()-6),COLUMN())),"") -> #N/A
A38: =IF(ROW()-7<ROWS(INDIRECT(BereichKursbuch)),IF(ISBLANK(INDEX(INDIRECT(BereichKursbuch),(ROW()-6),COLUMN())),"",INDEX(INDIRECT(BereichKursbuch),(ROW()-6),COLUMN())),"") -> #N/A | B38: =IF(ROW()-7<ROWS(INDIRECT(BereichKursbuch)),IF(ISBLANK(INDEX(INDIRECT(BereichKursbuch),(ROW()-6),COLUMN())),"",INDEX(INDIRECT(BereichKursbuch),(ROW()-6),COLUMN())),"") -> #N/A | C38: =IF(ROW()-7<ROWS(INDIRECT(BereichKursbuch)),IF(ISBLANK(INDEX(INDIRECT(BereichKursbuch),(ROW()-6),COLUMN())),"",INDEX(INDIRECT(BereichKursbuch),(ROW()-6),COLUMN())),"") -> #N/A | D38: =IF(ROW()-7<ROWS(INDIRECT(BereichKursbuch)),IF(ISBLANK(INDEX(INDIRECT(BereichKursbuch),(ROW()-6),COLUMN())),"",INDEX(INDIRECT(BereichKursbuch),(ROW()-6),COLUMN())),"") -> #N/A | E38: =IF(ROW()-7<ROWS(INDIRECT(BereichKursbuch)),IF(ISBLANK(INDEX(INDIRECT(BereichKursbuch),(ROW()-6),COLUMN())),"",INDEX(INDIRECT(BereichKursbuch),(ROW()-6),COLUMN())),"") -> #N/A | F38: =IF(ROW()-7<ROWS(INDIRECT(BereichKursbuch)),IF(ISBLANK(INDEX(INDIRECT(BereichKursbuch),(ROW()-6),COLUMN())),"",INDEX(INDIRECT(BereichKursbuch),(ROW()-6),COLUMN())),"") -> #N/A | G38: =IF(ROW()-7<ROWS(INDIRECT(BereichKursbuch)),IF(ISBLANK(INDEX(INDIRECT(BereichKursbuch),(ROW()-6),COLUMN())),"",INDEX(INDIRECT(BereichKursbuch),(ROW()-6),COLUMN())),"") -> #N/A
A39: =IF(ROW()-7<ROWS(INDIRECT(BereichKursbuch)),IF(ISBLANK(INDEX(INDIRECT(BereichKursbuch),(ROW()-6),COLUMN())),"",INDEX(INDIRECT(BereichKursbuch),(ROW()-6),COLUMN())),"") -> #N/A | B39: =IF(ROW()-7<ROWS(INDIRECT(BereichKursbuch)),IF(ISBLANK(INDEX(INDIRECT(BereichKursbuch),(ROW()-6),COLUMN())),"",INDEX(INDIRECT(BereichKursbuch),(ROW()-6),COLUMN())),"") -> #N/A | C39: =IF(ROW()-7<ROWS(INDIRECT(BereichKursbuch)),IF(ISBLANK(INDEX(INDIRECT(BereichKursbuch),(ROW()-6),COLUMN())),"",INDEX(INDIRECT(BereichKursbuch),(ROW()-6),COLUMN())),"") -> #N/A | D39: =IF(ROW()-7<ROWS(INDIRECT(BereichKursbuch)),IF(ISBLANK(INDEX(INDIRECT(BereichKursbuch),(ROW()-6),COLUMN())),"",INDEX(INDIRECT(BereichKursbuch),(ROW()-6),COLUMN())),"") -> #N/A | E39: =IF(ROW()-7<ROWS(INDIRECT(BereichKursbuch)),IF(ISBLANK(INDEX(INDIRECT(BereichKursbuch),(ROW()-6),COLUMN())),"",INDEX(INDIRECT(BereichKursbuch),(ROW()-6),COLUMN())),"") -> #N/A | F39: =IF(ROW()-7<ROWS(INDIRECT(BereichKursbuch)),IF(ISBLANK(INDEX(INDIRECT(BereichKursbuch),(ROW()-6),COLUMN())),"",INDEX(INDIRECT(BereichKursbuch),(ROW()-6),COLUMN())),"") -> #N/A | G39: =IF(ROW()-7<ROWS(INDIRECT(BereichKursbuch)),IF(ISBLANK(INDEX(INDIRECT(BereichKursbuch),(ROW()-6),COLUMN())),"",INDEX(INDIRECT(BereichKursbuch),(ROW()-6),COLUMN())),"") -> #N/A
A40: =IF(ROW()-7<ROWS(INDIRECT(BereichKursbuch)),IF(ISBLANK(INDEX(INDIRECT(BereichKursbuch),(ROW()-6),COLUMN())),"",INDEX(INDIRECT(BereichKursbuch),(ROW()-6),COLUMN())),"") -> #N/A | B40: =IF(ROW()-7<ROWS(INDIRECT(BereichKursbuch)),IF(ISBLANK(INDEX(INDIRECT(BereichKursbuch),(ROW()-6),COLUMN())),"",INDEX(INDIRECT(BereichKursbuch),(ROW()-6),COLUMN())),"") -> #N/A | C40: =IF(ROW()-7<ROWS(INDIRECT(BereichKursbuch)),IF(ISBLANK(INDEX(INDIRECT(BereichKursbuch),(ROW()-6),COLUMN())),"",INDEX(INDIRECT(BereichKursbuch),(ROW()-6),COLUMN())),"") -> #N/A | D40: =IF(ROW()-7<ROWS(INDIRECT(BereichKursbuch)),IF(ISBLANK(INDEX(INDIRECT(BereichKursbuch),(ROW()-6),COLUMN())),"",INDEX(INDIRECT(BereichKursbuch),(ROW()-6),COLUMN())),"") -> #N/A | E40: =IF(ROW()-7<ROWS(INDIRECT(BereichKursbuch)),IF(ISBLANK(INDEX(INDIRECT(BereichKursbuch),(ROW()-6),COLUMN())),"",INDEX(INDIRECT(BereichKursbuch),(ROW()-6),COLUMN())),"") -> #N/A | F40: =IF(ROW()-7<ROWS(INDIRECT(BereichKursbuch)),IF(ISBLANK(INDEX(INDIRECT(BereichKursbuch),(ROW()-6),COLUMN())),"",INDEX(INDIRECT(BereichKursbuch),(ROW()-6),COLUMN())),"") -> #N/A | G40: =IF(ROW()-7<ROWS(INDIRECT(BereichKursbuch)),IF(ISBLANK(INDEX(INDIRECT(BereichKursbuch),(ROW()-6),COLUMN())),"",INDEX(INDIRECT(BereichKursbuch),(ROW()-6),COLUMN())),"") -> #N/A
A41: =IF(ROW()-7<ROWS(INDIRECT(BereichKursbuch)),IF(ISBLANK(INDEX(INDIRECT(BereichKursbuch),(ROW()-6),COLUMN())),"",INDEX(INDIRECT(BereichKursbuch),(ROW()-6),COLUMN())),"") -> #N/A | B41: =IF(ROW()-7<ROWS(INDIRECT(BereichKursbuch)),IF(ISBLANK(INDEX(INDIRECT(BereichKursbuch),(ROW()-6),COLUMN())),"",INDEX(INDIRECT(BereichKursbuch),(ROW()-6),COLUMN())),"") -> #N/A | C41: =IF(ROW()-7<ROWS(INDIRECT(BereichKursbuch)),IF(ISBLANK(INDEX(INDIRECT(BereichKursbuch),(ROW()-6),COLUMN())),"",INDEX(INDIRECT(BereichKursbuch),(ROW()-6),COLUMN())),"") -> #N/A | D41: =IF(ROW()-7<ROWS(INDIRECT(BereichKursbuch)),IF(ISBLANK(INDEX(INDIRECT(BereichKursbuch),(ROW()-6),COLUMN())),"",INDEX(INDIRECT(BereichKursbuch),(ROW()-6),COLUMN())),"") -> #N/A | E41: =IF(ROW()-7<ROWS(INDIRECT(BereichKursbuch)),IF(ISBLANK(INDEX(INDIRECT(BereichKursbuch),(ROW()-6),COLUMN())),"",INDEX(INDIRECT(BereichKursbuch),(ROW()-6),COLUMN())),"") -> #N/A | F41: =IF(ROW()-7<ROWS(INDIRECT(BereichKursbuch)),IF(ISBLANK(INDEX(INDIRECT(BereichKursbuch),(ROW()-6),COLUMN())),"",INDEX(INDIRECT(BereichKursbuch),(ROW()-6),COLUMN())),"") -> #N/A | G41: =IF(ROW()-7<ROWS(INDIRECT(BereichKursbuch)),IF(ISBLANK(INDEX(INDIRECT(BereichKursbuch),(ROW()-6),COLUMN())),"",INDEX(INDIRECT(BereichKursbuch),(ROW()-6),COLUMN())),"") -> #N/A
A42: =IF(ROW()-7<ROWS(INDIRECT(BereichKursbuch)),IF(ISBLANK(INDEX(INDIRECT(BereichKursbuch),(ROW()-6),COLUMN())),"",INDEX(INDIRECT(BereichKursbuch),(ROW()-6),COLUMN())),"") -> #N/A | B42: =IF(ROW()-7<ROWS(INDIRECT(BereichKursbuch)),IF(ISBLANK(INDEX(INDIRECT(BereichKursbuch),(ROW()-6),COLUMN())),"",INDEX(INDIRECT(BereichKursbuch),(ROW()-6),COLUMN())),"") -> #N/A | C42: =IF(ROW()-7<ROWS(INDIRECT(BereichKursbuch)),IF(ISBLANK(INDEX(INDIRECT(BereichKursbuch),(ROW()-6),COLUMN())),"",INDEX(INDIRECT(BereichKursbuch),(ROW()-6),COLUMN())),"") -> #N/A | D42: =IF(ROW()-7<ROWS(INDIRECT(BereichKursbuch)),IF(ISBLANK(INDEX(INDIRECT(BereichKursbuch),(ROW()-6),COLUMN())),"",INDEX(INDIRECT(BereichKursbuch),(ROW()-6),COLUMN())),"") -> #N/A | E42: =IF(ROW()-7<ROWS(INDIRECT(BereichKursbuch)),IF(ISBLANK(INDEX(INDIRECT(BereichKursbuch),(ROW()-6),COLUMN())),"",INDEX(INDIRECT(BereichKursbuch),(ROW()-6),COLUMN())),"") -> #N/A | F42: =IF(ROW()-7<ROWS(INDIRECT(BereichKursbuch)),IF(ISBLANK(INDEX(INDIRECT(BereichKursbuch),(ROW()-6),COLUMN())),"",INDEX(INDIRECT(BereichKursbuch),(ROW()-6),COLUMN())),"") -> #N/A | G42: =IF(ROW()-7<ROWS(INDIRECT(BereichKursbuch)),IF(ISBLANK(INDEX(INDIRECT(BereichKursbuch),(ROW()-6),COLUMN())),"",INDEX(INDIRECT(BereichKursbuch),(ROW()-6),COLUMN())),"") -> #N/A
A43: =A$5 -> #N/A | B43: =B$5 -> #N/A | C43: =C$5 -> #N/A | D43: =D$5 -> #N/A | E43: =E$5 -> #N/A | F43: =F$5 -> #N/A | G43: =G$5 -> Paraffe
A44: =IF(ROW()-8<ROWS(INDIRECT(BereichKursbuch)),IF(ISBLANK(INDEX(INDIRECT(BereichKursbuch),(ROW()-7),COLUMN())),"",INDEX(INDIRECT(BereichKursbuch),(ROW()-7),COLUMN())),"") -> #N/A | B44: =IF(ROW()-8<ROWS(INDIRECT(BereichKursbuch)),IF(ISBLANK(INDEX(INDIRECT(BereichKursbuch),(ROW()-7),COLUMN())),"",INDEX(INDIRECT(BereichKursbuch),(ROW()-7),COLUMN())),"") -> #N/A | C44: =IF(ROW()-8<ROWS(INDIRECT(BereichKursbuch)),IF(ISBLANK(INDEX(INDIRECT(BereichKursbuch),(ROW()-7),COLUMN())),"",INDEX(INDIRECT(BereichKursbuch),(ROW()-7),COLUMN())),"") -> #N/A | D44: =IF(ROW()-8<ROWS(INDIRECT(BereichKursbuch)),IF(ISBLANK(INDEX(INDIRECT(BereichKursbuch),(ROW()-7),COLUMN())),"",INDEX(INDIRECT(BereichKursbuch),(ROW()-7),COLUMN())),"") -> #N/A | E44: =IF(ROW()-8<ROWS(INDIRECT(BereichKursbuch)),IF(ISBLANK(INDEX(INDIRECT(BereichKursbuch),(ROW()-7),COLUMN())),"",INDEX(INDIRECT(BereichKursbuch),(ROW()-7),COLUMN())),"") -> #N/A | F44: =IF(ROW()-8<ROWS(INDIRECT(BereichKursbuch)),IF(ISBLANK(INDEX(INDIRECT(BereichKursbuch),(ROW()-7),COLUMN())),"",INDEX(INDIRECT(BereichKursbuch),(ROW()-7),COLUMN())),"") -> #N/A | G44: =IF(ROW()-8<ROWS(INDIRECT(BereichKursbuch)),IF(ISBLANK(INDEX(INDIRECT(BereichKursbuch),(ROW()-7),COLUMN())),"",INDEX(INDIRECT(BereichKursbuch),(ROW()-7),COLUMN())),"") -> #N/A
A45: =IF(ROW()-8<ROWS(INDIRECT(BereichKursbuch)),IF(ISBLANK(INDEX(INDIRECT(BereichKursbuch),(ROW()-7),COLUMN())),"",INDEX(INDIRECT(BereichKursbuch),(ROW()-7),COLUMN())),"") -> #N/A | B45: =IF(ROW()-8<ROWS(INDIRECT(BereichKursbuch)),IF(ISBLANK(INDEX(INDIRECT(BereichKursbuch),(ROW()-7),COLUMN())),"",INDEX(INDIRECT(BereichKursbuch),(ROW()-7),COLUMN())),"") -> #N/A | C45: =IF(ROW()-8<ROWS(INDIRECT(BereichKursbuch)),IF(ISBLANK(INDEX(INDIRECT(BereichKursbuch),(ROW()-7),COLUMN())),"",INDEX(INDIRECT(BereichKursbuch),(ROW()-7),COLUMN())),"") -> #N/A | D45: =IF(ROW()-8<ROWS(INDIRECT(BereichKursbuch)),IF(ISBLANK(INDEX(INDIRECT(BereichKursbuch),(ROW()-7),COLUMN())),"",INDEX(INDIRECT(BereichKursbuch),(ROW()-7),COLUMN())),"") -> #N/A | E45: =IF(ROW()-8<ROWS(INDIRECT(BereichKursbuch)),IF(ISBLANK(INDEX(INDIRECT(BereichKursbuch),(ROW()-7),COLUMN())),"",INDEX(INDIRECT(BereichKursbuch),(ROW()-7),COLUMN())),"") -> #N/A | F45: =IF(ROW()-8<ROWS(INDIRECT(BereichKursbuch)),IF(ISBLANK(INDEX(INDIRECT(BereichKursbuch),(ROW()-7),COLUMN())),"",INDEX(INDIRECT(BereichKursbuch),(ROW()-7),COLUMN())),"") -> #N/A | G45: =IF(ROW()-8<ROWS(INDIRECT(BereichKursbuch)),IF(ISBLANK(INDEX(INDIRECT(BereichKursbuch),(ROW()-7),COLUMN())),"",INDEX(INDIRECT(BereichKursbuch),(ROW()-7),COLUMN())),"") -> #N/A
A46: =IF(ROW()-8<ROWS(INDIRECT(BereichKursbuch)),IF(ISBLANK(INDEX(INDIRECT(BereichKursbuch),(ROW()-7),COLUMN())),"",INDEX(INDIRECT(BereichKursbuch),(ROW()-7),COLUMN())),"") -> #N/A | B46: =IF(ROW()-8<ROWS(INDIRECT(BereichKursbuch)),IF(ISBLANK(INDEX(INDIRECT(BereichKursbuch),(ROW()-7),COLUMN())),"",INDEX(INDIRECT(BereichKursbuch),(ROW()-7),COLUMN())),"") -> #N/A | C46: =IF(ROW()-8<ROWS(INDIRECT(BereichKursbuch)),IF(ISBLANK(INDEX(INDIRECT(BereichKursbuch),(ROW()-7),COLUMN())),"",INDEX(INDIRECT(BereichKursbuch),(ROW()-7),COLUMN())),"") -> #N/A | D46: =IF(ROW()-8<ROWS(INDIRECT(BereichKursbuch)),IF(ISBLANK(INDEX(INDIRECT(BereichKursbuch),(ROW()-7),COLUMN())),"",INDEX(INDIRECT(BereichKursbuch),(ROW()-7),COLUMN())),"") -> #N/A | E46: =IF(ROW()-8<ROWS(INDIRECT(BereichKursbuch)),IF(ISBLANK(INDEX(INDIRECT(BereichKursbuch),(ROW()-7),COLUMN())),"",INDEX(INDIRECT(BereichKursbuch),(ROW()-7),COLUMN())),"") -> #N/A | F46: =IF(ROW()-8<ROWS(INDIRECT(BereichKursbuch)),IF(ISBLANK(INDEX(INDIRECT(BereichKursbuch),(ROW()-7),COLUMN())),"",INDEX(INDIRECT(BereichKursbuch),(ROW()-7),COLUMN())),"") -> #N/A | G46: =IF(ROW()-8<ROWS(INDIRECT(BereichKursbuch)),IF(ISBLANK(INDEX(INDIRECT(BereichKursbuch),(ROW()-7),COLUMN())),"",INDEX(INDIRECT(BereichKursbuch),(ROW()-7),COLUMN())),"") -> #N/A
A47: =IF(ROW()-8<ROWS(INDIRECT(BereichKursbuch)),IF(ISBLANK(INDEX(INDIRECT(BereichKursbuch),(ROW()-7),COLUMN())),"",INDEX(INDIRECT(BereichKursbuch),(ROW()-7),COLUMN())),"") -> #N/A | B47: =IF(ROW()-8<ROWS(INDIRECT(BereichKursbuch)),IF(ISBLANK(INDEX(INDIRECT(BereichKursbuch),(ROW()-7),COLUMN())),"",INDEX(INDIRECT(BereichKursbuch),(ROW()-7),COLUMN())),"") -> #N/A | C47: =IF(ROW()-8<ROWS(INDIRECT(BereichKursbuch)),IF(ISBLANK(INDEX(INDIRECT(BereichKursbuch),(ROW()-7),COLUMN())),"",INDEX(INDIRECT(BereichKursbuch),(ROW()-7),COLUMN())),"") -> #N/A | D47: =IF(ROW()-8<ROWS(INDIRECT(BereichKursbuch)),IF(ISBLANK(INDEX(INDIRECT(BereichKursbuch),(ROW()-7),COLUMN())),"",INDEX(INDIRECT(BereichKursbuch),(ROW()-7),COLUMN())),"") -> #N/A | E47: =IF(ROW()-8<ROWS(INDIRECT(BereichKursbuch)),IF(ISBLANK(INDEX(INDIRECT(BereichKursbuch),(ROW()-7),COLUMN())),"",INDEX(INDIRECT(BereichKursbuch),(ROW()-7),COLUMN())),"") -> #N/A | F47: =IF(ROW()-8<ROWS(INDIRECT(BereichKursbuch)),IF(ISBLANK(INDEX(INDIRECT(BereichKursbuch),(ROW()-7),COLUMN())),"",INDEX(INDIRECT(BereichKursbuch),(ROW()-7),COLUMN())),"") -> #N/A | G47: =IF(ROW()-8<ROWS(INDIRECT(BereichKursbuch)),IF(ISBLANK(INDEX(INDIRECT(BereichKursbuch),(ROW()-7),COLUMN())),"",INDEX(INDIRECT(BereichKursbuch),(ROW()-7),COLUMN())),"") -> #N/A
A48: =IF(ROW()-8<ROWS(INDIRECT(BereichKursbuch)),IF(ISBLANK(INDEX(INDIRECT(BereichKursbuch),(ROW()-7),COLUMN())),"",INDEX(INDIRECT(BereichKursbuch),(ROW()-7),COLUMN())),"") -> #N/A | B48: =IF(ROW()-8<ROWS(INDIRECT(BereichKursbuch)),IF(ISBLANK(INDEX(INDIRECT(BereichKursbuch),(ROW()-7),COLUMN())),"",INDEX(INDIRECT(BereichKursbuch),(ROW()-7),COLUMN())),"") -> #N/A | C48: =IF(ROW()-8<ROWS(INDIRECT(BereichKursbuch)),IF(ISBLANK(INDEX(INDIRECT(BereichKursbuch),(ROW()-7),COLUMN())),"",INDEX(INDIRECT(BereichKursbuch),(ROW()-7),COLUMN())),"") -> #N/A | D48: =IF(ROW()-8<ROWS(INDIRECT(BereichKursbuch)),IF(ISBLANK(INDEX(INDIRECT(BereichKursbuch),(ROW()-7),COLUMN())),"",INDEX(INDIRECT(BereichKursbuch),(ROW()-7),COLUMN())),"") -> #N/A | E48: =IF(ROW()-8<ROWS(INDIRECT(BereichKursbuch)),IF(ISBLANK(INDEX(INDIRECT(BereichKursbuch),(ROW()-7),COLUMN())),"",INDEX(INDIRECT(BereichKursbuch),(ROW()-7),COLUMN())),"") -> #N/A | F48: =IF(ROW()-8<ROWS(INDIRECT(BereichKursbuch)),IF(ISBLANK(INDEX(INDIRECT(BereichKursbuch),(ROW()-7),COLUMN())),"",INDEX(INDIRECT(BereichKursbuch),(ROW()-7),COLUMN())),"") -> #N/A | G48: =IF(ROW()-8<ROWS(INDIRECT(BereichKursbuch)),IF(ISBLANK(INDEX(INDIRECT(BereichKursbuch),(ROW()-7),COLUMN())),"",INDEX(INDIRECT(BereichKursbuch),(ROW()-7),COLUMN())),"") -> #N/A
A49: =IF(ROW()-8<ROWS(INDIRECT(BereichKursbuch)),IF(ISBLANK(INDEX(INDIRECT(BereichKursbuch),(ROW()-7),COLUMN())),"",INDEX(INDIRECT(BereichKursbuch),(ROW()-7),COLUMN())),"") -> #N/A | B49: =IF(ROW()-8<ROWS(INDIRECT(BereichKursbuch)),IF(ISBLANK(INDEX(INDIRECT(BereichKursbuch),(ROW()-7),COLUMN())),"",INDEX(INDIRECT(BereichKursbuch),(ROW()-7),COLUMN())),"") -> #N/A | C49: =IF(ROW()-8<ROWS(INDIRECT(BereichKursbuch)),IF(ISBLANK(INDEX(INDIRECT(BereichKursbuch),(ROW()-7),COLUMN())),"",INDEX(INDIRECT(BereichKursbuch),(ROW()-7),COLUMN())),"") -> #N/A | D49: =IF(ROW()-8<ROWS(INDIRECT(BereichKursbuch)),IF(ISBLANK(INDEX(INDIRECT(BereichKursbuch),(ROW()-7),COLUMN())),"",INDEX(INDIRECT(BereichKursbuch),(ROW()-7),COLUMN())),"") -> #N/A | E49: =IF(ROW()-8<ROWS(INDIRECT(BereichKursbuch)),IF(ISBLANK(INDEX(INDIRECT(BereichKursbuch),(ROW()-7),COLUMN())),"",INDEX(INDIRECT(BereichKursbuch),(ROW()-7),COLUMN())),"") -> #N/A | F49: =IF(ROW()-8<ROWS(INDIRECT(BereichKursbuch)),IF(ISBLANK(INDEX(INDIRECT(BereichKursbuch),(ROW()-7),COLUMN())),"",INDEX(INDIRECT(BereichKursbuch),(ROW()-7),COLUMN())),"") -> #N/A | G49: =IF(ROW()-8<ROWS(INDIRECT(BereichKursbuch)),IF(ISBLANK(INDEX(INDIRECT(BereichKursbuch),(ROW()-7),COLUMN())),"",INDEX(INDIRECT(BereichKursbuch),(ROW()-7),COLUMN())),"") -> #N/A
A50: =IF(ROW()-8<ROWS(INDIRECT(BereichKursbuch)),IF(ISBLANK(INDEX(INDIRECT(BereichKursbuch),(ROW()-7),COLUMN())),"",INDEX(INDIRECT(BereichKursbuch),(ROW()-7),COLUMN())),"") -> #N/A | B50: =IF(ROW()-8<ROWS(INDIRECT(BereichKursbuch)),IF(ISBLANK(INDEX(INDIRECT(BereichKursbuch),(ROW()-7),COLUMN())),"",INDEX(INDIRECT(BereichKursbuch),(ROW()-7),COLUMN())),"") -> #N/A | C50: =IF(ROW()-8<ROWS(INDIRECT(BereichKursbuch)),IF(ISBLANK(INDEX(INDIRECT(BereichKursbuch),(ROW()-7),COLUMN())),"",INDEX(INDIRECT(BereichKursbuch),(ROW()-7),COLUMN())),"") -> #N/A | D50: =IF(ROW()-8<ROWS(INDIRECT(BereichKursbuch)),IF(ISBLANK(INDEX(INDIRECT(BereichKursbuch),(ROW()-7),COLUMN())),"",INDEX(INDIRECT(BereichKursbuch),(ROW()-7),COLUMN())),"") -> #N/A | E50: =IF(ROW()-8<ROWS(INDIRECT(BereichKursbuch)),IF(ISBLANK(INDEX(INDIRECT(BereichKursbuch),(ROW()-7),COLUMN())),"",INDEX(INDIRECT(BereichKursbuch),(ROW()-7),COLUMN())),"") -> #N/A | F50: =IF(ROW()-8<ROWS(INDIRECT(BereichKursbuch)),IF(ISBLANK(INDEX(INDIRECT(BereichKursbuch),(ROW()-7),COLUMN())),"",INDEX(INDIRECT(BereichKursbuch),(ROW()-7),COLUMN())),"") -> #N/A | G50: =IF(ROW()-8<ROWS(INDIRECT(BereichKursbuch)),IF(ISBLANK(INDEX(INDIRECT(BereichKursbuch),(ROW()-7),COLUMN())),"",INDEX(INDIRECT(BereichKursbuch),(ROW()-7),COLUMN())),"") -> #N/A
A51: =IF(ROW()-8<ROWS(INDIRECT(BereichKursbuch)),IF(ISBLANK(INDEX(INDIRECT(BereichKursbuch),(ROW()-7),COLUMN())),"",INDEX(INDIRECT(BereichKursbuch),(ROW()-7),COLUMN())),"") -> #N/A | B51: =IF(ROW()-8<ROWS(INDIRECT(BereichKursbuch)),IF(ISBLANK(INDEX(INDIRECT(BereichKursbuch),(ROW()-7),COLUMN())),"",INDEX(INDIRECT(BereichKursbuch),(ROW()-7),COLUMN())),"") -> #N/A | C51: =IF(ROW()-8<ROWS(INDIRECT(BereichKursbuch)),IF(ISBLANK(INDEX(INDIRECT(BereichKursbuch),(ROW()-7),COLUMN())),"",INDEX(INDIRECT(BereichKursbuch),(ROW()-7),COLUMN())),"") -> #N/A | D51: =IF(ROW()-8<ROWS(INDIRECT(BereichKursbuch)),IF(ISBLANK(INDEX(INDIRECT(BereichKursbuch),(ROW()-7),COLUMN())),"",INDEX(INDIRECT(BereichKursbuch),(ROW()-7),COLUMN())),"") -> #N/A | E51: =IF(ROW()-8<ROWS(INDIRECT(BereichKursbuch)),IF(ISBLANK(INDEX(INDIRECT(BereichKursbuch),(ROW()-7),COLUMN())),"",INDEX(INDIRECT(BereichKursbuch),(ROW()-7),COLUMN())),"") -> #N/A | F51: =IF(ROW()-8<ROWS(INDIRECT(BereichKursbuch)),IF(ISBLANK(INDEX(INDIRECT(BereichKursbuch),(ROW()-7),COLUMN())),"",INDEX(INDIRECT(BereichKursbuch),(ROW()-7),COLUMN())),"") -> #N/A | G51: =IF(ROW()-8<ROWS(INDIRECT(BereichKursbuch)),IF(ISBLANK(INDEX(INDIRECT(BereichKursbuch),(ROW()-7),COLUMN())),"",INDEX(INDIRECT(BereichKursbuch),(ROW()-7),COLUMN())),"") -> #N/A
A52: =IF(ROW()-8<ROWS(INDIRECT(BereichKursbuch)),IF(ISBLANK(INDEX(INDIRECT(BereichKursbuch),(ROW()-7),COLUMN())),"",INDEX(INDIRECT(BereichKursbuch),(ROW()-7),COLUMN())),"") -> #N/A | B52: =IF(ROW()-8<ROWS(INDIRECT(BereichKursbuch)),IF(ISBLANK(INDEX(INDIRECT(BereichKursbuch),(ROW()-7),COLUMN())),"",INDEX(INDIRECT(BereichKursbuch),(ROW()-7),COLUMN())),"") -> #N/A | C52: =IF(ROW()-8<ROWS(INDIRECT(BereichKursbuch)),IF(ISBLANK(INDEX(INDIRECT(BereichKursbuch),(ROW()-7),COLUMN())),"",INDEX(INDIRECT(BereichKursbuch),(ROW()-7),COLUMN())),"") -> #N/A | D52: =IF(ROW()-8<ROWS(INDIRECT(BereichKursbuch)),IF(ISBLANK(INDEX(INDIRECT(BereichKursbuch),(ROW()-7),COLUMN())),"",INDEX(INDIRECT(BereichKursbuch),(ROW()-7),COLUMN())),"") -> #N/A | E52: =IF(ROW()-8<ROWS(INDIRECT(BereichKursbuch)),IF(ISBLANK(INDEX(INDIRECT(BereichKursbuch),(ROW()-7),COLUMN())),"",INDEX(INDIRECT(BereichKursbuch),(ROW()-7),COLUMN())),"") -> #N/A | F52: =IF(ROW()-8<ROWS(INDIRECT(BereichKursbuch)),IF(ISBLANK(INDEX(INDIRECT(BereichKursbuch),(ROW()-7),COLUMN())),"",INDEX(INDIRECT(BereichKursbuch),(ROW()-7),COLUMN())),"") -> #N/A | G52: =IF(ROW()-8<ROWS(INDIRECT(BereichKursbuch)),IF(ISBLANK(INDEX(INDIRECT(BereichKursbuch),(ROW()-7),COLUMN())),"",INDEX(INDIRECT(BereichKursbuch),(ROW()-7),COLUMN())),"") -> #N/A
A53: =IF(ROW()-8<ROWS(INDIRECT(BereichKursbuch)),IF(ISBLANK(INDEX(INDIRECT(BereichKursbuch),(ROW()-7),COLUMN())),"",INDEX(INDIRECT(BereichKursbuch),(ROW()-7),COLUMN())),"") -> #N/A | B53: =IF(ROW()-8<ROWS(INDIRECT(BereichKursbuch)),IF(ISBLANK(INDEX(INDIRECT(BereichKursbuch),(ROW()-7),COLUMN())),"",INDEX(INDIRECT(BereichKursbuch),(ROW()-7),COLUMN())),"") -> #N/A | C53: =IF(ROW()-8<ROWS(INDIRECT(BereichKursbuch)),IF(ISBLANK(INDEX(INDIRECT(BereichKursbuch),(ROW()-7),COLUMN())),"",INDEX(INDIRECT(BereichKursbuch),(ROW()-7),COLUMN())),"") -> #N/A | D53: =IF(ROW()-8<ROWS(INDIRECT(BereichKursbuch)),IF(ISBLANK(INDEX(INDIRECT(BereichKursbuch),(ROW()-7),COLUMN())),"",INDEX(INDIRECT(BereichKursbuch),(ROW()-7),COLUMN())),"") -> #N/A | E53: =IF(ROW()-8<ROWS(INDIRECT(BereichKursbuch)),IF(ISBLANK(INDEX(INDIRECT(BereichKursbuch),(ROW()-7),COLUMN())),"",INDEX(INDIRECT(BereichKursbuch),(ROW()-7),COLUMN())),"") -> #N/A | F53: =IF(ROW()-8<ROWS(INDIRECT(BereichKursbuch)),IF(ISBLANK(INDEX(INDIRECT(BereichKursbuch),(ROW()-7),COLUMN())),"",INDEX(INDIRECT(BereichKursbuch),(ROW()-7),COLUMN())),"") -> #N/A | G53: =IF(ROW()-8<ROWS(INDIRECT(BereichKursbuch)),IF(ISBLANK(INDEX(INDIRECT(BereichKursbuch),(ROW()-7),COLUMN())),"",INDEX(INDIRECT(BereichKursbuch),(ROW()-7),COLUMN())),"") -> #N/A
A54: =IF(ROW()-8<ROWS(INDIRECT(BereichKursbuch)),IF(ISBLANK(INDEX(INDIRECT(BereichKursbuch),(ROW()-7),COLUMN())),"",INDEX(INDIRECT(BereichKursbuch),(ROW()-7),COLUMN())),"") -> #N/A | B54: =IF(ROW()-8<ROWS(INDIRECT(BereichKursbuch)),IF(ISBLANK(INDEX(INDIRECT(BereichKursbuch),(ROW()-7),COLUMN())),"",INDEX(INDIRECT(BereichKursbuch),(ROW()-7),COLUMN())),"") -> #N/A | C54: =IF(ROW()-8<ROWS(INDIRECT(BereichKursbuch)),IF(ISBLANK(INDEX(INDIRECT(BereichKursbuch),(ROW()-7),COLUMN())),"",INDEX(INDIRECT(BereichKursbuch),(ROW()-7),COLUMN())),"") -> #N/A | D54: =IF(ROW()-8<ROWS(INDIRECT(BereichKursbuch)),IF(ISBLANK(INDEX(INDIRECT(BereichKursbuch),(ROW()-7),COLUMN())),"",INDEX(INDIRECT(BereichKursbuch),(ROW()-7),COLUMN())),"") -> #N/A | E54: =IF(ROW()-8<ROWS(INDIRECT(BereichKursbuch)),IF(ISBLANK(INDEX(INDIRECT(BereichKursbuch),(ROW()-7),COLUMN())),"",INDEX(INDIRECT(BereichKursbuch),(ROW()-7),COLUMN())),"") -> #N/A | F54: =IF(ROW()-8<ROWS(INDIRECT(BereichKursbuch)),IF(ISBLANK(INDEX(INDIRECT(BereichKursbuch),(ROW()-7),COLUMN())),"",INDEX(INDIRECT(BereichKursbuch),(ROW()-7),COLUMN())),"") -> #N/A | G54: =IF(ROW()-8<ROWS(INDIRECT(BereichKursbuch)),IF(ISBLANK(INDEX(INDIRECT(BereichKursbuch),(ROW()-7),COLUMN())),"",INDEX(INDIRECT(BereichKursbuch),(ROW()-7),COLUMN())),"") -> #N/A
A55: =IF(ROW()-8<ROWS(INDIRECT(BereichKursbuch)),IF(ISBLANK(INDEX(INDIRECT(BereichKursbuch),(ROW()-7),COLUMN())),"",INDEX(INDIRECT(BereichKursbuch),(ROW()-7),COLUMN())),"") -> #N/A | B55: =IF(ROW()-8<ROWS(INDIRECT(BereichKursbuch)),IF(ISBLANK(INDEX(INDIRECT(BereichKursbuch),(ROW()-7),COLUMN())),"",INDEX(INDIRECT(BereichKursbuch),(ROW()-7),COLUMN())),"") -> #N/A | C55: =IF(ROW()-8<ROWS(INDIRECT(BereichKursbuch)),IF(ISBLANK(INDEX(INDIRECT(BereichKursbuch),(ROW()-7),COLUMN())),"",INDEX(INDIRECT(BereichKursbuch),(ROW()-7),COLUMN())),"") -> #N/A | D55: =IF(ROW()-8<ROWS(INDIRECT(BereichKursbuch)),IF(ISBLANK(INDEX(INDIRECT(BereichKursbuch),(ROW()-7),COLUMN())),"",INDEX(INDIRECT(BereichKursbuch),(ROW()-7),COLUMN())),"") -> #N/A | E55: =IF(ROW()-8<ROWS(INDIRECT(BereichKursbuch)),IF(ISBLANK(INDEX(INDIRECT(BereichKursbuch),(ROW()-7),COLUMN())),"",INDEX(INDIRECT(BereichKursbuch),(ROW()-7),COLUMN())),"") -> #N/A | F55: =IF(ROW()-8<ROWS(INDIRECT(BereichKursbuch)),IF(ISBLANK(INDEX(INDIRECT(BereichKursbuch),(ROW()-7),COLUMN())),"",INDEX(INDIRECT(BereichKursbuch),(ROW()-7),COLUMN())),"") -> #N/A | G55: =IF(ROW()-8<ROWS(INDIRECT(BereichKursbuch)),IF(ISBLANK(INDEX(INDIRECT(BereichKursbuch),(ROW()-7),COLUMN())),"",INDEX(INDIRECT(BereichKursbuch),(ROW()-7),COLUMN())),"") -> #N/A
A56: =A$5 -> #N/A | B56: =B$5 -> #N/A | C56: =C$5 -> #N/A | D56: =D$5 -> #N/A | E56: =E$5 -> #N/A | F56: =F$5 -> #N/A | G56: =G$5 -> Paraffe
A57: =IF(ROW()-9<ROWS(INDIRECT(BereichKursbuch)),IF(ISBLANK(INDEX(INDIRECT(BereichKursbuch),(ROW()-8),COLUMN())),"",INDEX(INDIRECT(BereichKursbuch),(ROW()-8),COLUMN())),"") -> #N/A | B57: =IF(ROW()-9<ROWS(INDIRECT(BereichKursbuch)),IF(ISBLANK(INDEX(INDIRECT(BereichKursbuch),(ROW()-8),COLUMN())),"",INDEX(INDIRECT(BereichKursbuch),(ROW()-8),COLUMN())),"") -> #N/A | C57: =IF(ROW()-9<ROWS(INDIRECT(BereichKursbuch)),IF(ISBLANK(INDEX(INDIRECT(BereichKursbuch),(ROW()-8),COLUMN())),"",INDEX(INDIRECT(BereichKursbuch),(ROW()-8),COLUMN())),"") -> #N/A | D57: =IF(ROW()-9<ROWS(INDIRECT(BereichKursbuch)),IF(ISBLANK(INDEX(INDIRECT(BereichKursbuch),(ROW()-8),COLUMN())),"",INDEX(INDIRECT(BereichKursbuch),(ROW()-8),COLUMN())),"") -> #N/A | E57: =IF(ROW()-9<ROWS(INDIRECT(BereichKursbuch)),IF(ISBLANK(INDEX(INDIRECT(BereichKursbuch),(ROW()-8),COLUMN())),"",INDEX(INDIRECT(BereichKursbuch),(ROW()-8),COLUMN())),"") -> #N/A | F57: =IF(ROW()-9<ROWS(INDIRECT(BereichKursbuch)),IF(ISBLANK(INDEX(INDIRECT(BereichKursbuch),(ROW()-8),COLUMN())),"",INDEX(INDIRECT(BereichKursbuch),(ROW()-8),COLUMN())),"") -> #N/A | G57: =IF(ROW()-9<ROWS(INDIRECT(BereichKursbuch)),IF(ISBLANK(INDEX(INDIRECT(BereichKursbuch),(ROW()-8),COLUMN())),"",INDEX(INDIRECT(BereichKursbuch),(ROW()-8),COLUMN())),"") -> #N/A
A58: =IF(ROW()-9<ROWS(INDIRECT(BereichKursbuch)),IF(ISBLANK(INDEX(INDIRECT(BereichKursbuch),(ROW()-8),COLUMN())),"",INDEX(INDIRECT(BereichKursbuch),(ROW()-8),COLUMN())),"") -> #N/A | B58: =IF(ROW()-9<ROWS(INDIRECT(BereichKursbuch)),IF(ISBLANK(INDEX(INDIRECT(BereichKursbuch),(ROW()-8),COLUMN())),"",INDEX(INDIRECT(BereichKursbuch),(ROW()-8),COLUMN())),"") -> #N/A | C58: =IF(ROW()-9<ROWS(INDIRECT(BereichKursbuch)),IF(ISBLANK(INDEX(INDIRECT(BereichKursbuch),(ROW()-8),COLUMN())),"",INDEX(INDIRECT(BereichKursbuch),(ROW()-8),COLUMN())),"") -> #N/A | D58: =IF(ROW()-9<ROWS(INDIRECT(BereichKursbuch)),IF(ISBLANK(INDEX(INDIRECT(BereichKursbuch),(ROW()-8),COLUMN())),"",INDEX(INDIRECT(BereichKursbuch),(ROW()-8),COLUMN())),"") -> #N/A | E58: =IF(ROW()-9<ROWS(INDIRECT(BereichKursbuch)),IF(ISBLANK(INDEX(INDIRECT(BereichKursbuch),(ROW()-8),COLUMN())),"",INDEX(INDIRECT(BereichKursbuch),(ROW()-8),COLUMN())),"") -> #N/A | F58: =IF(ROW()-9<ROWS(INDIRECT(BereichKursbuch)),IF(ISBLANK(INDEX(INDIRECT(BereichKursbuch),(ROW()-8),COLUMN())),"",INDEX(INDIRECT(BereichKursbuch),(ROW()-8),COLUMN())),"") -> #N/A | G58: =IF(ROW()-9<ROWS(INDIRECT(BereichKursbuch)),IF(ISBLANK(INDEX(INDIRECT(BereichKursbuch),(ROW()-8),COLUMN())),"",INDEX(INDIRECT(BereichKursbuch),(ROW()-8),COLUMN())),"") -> #N/A
