Workbook
Name _2009_10_1.HJ_13_PH: CSV!$A$1:$G$127
Name AnkerLeerspalten: Adressen!$B$19
Name BereichFehlstunden: Adressen!$B$25
Name BereichFehlstundenDatum: Adressen!$B$24
Name BereichKategorien: Adressen!$B$21
Name BereichKursbuch: Adressen!$B$27
Name BereichLeerspalten: Adressen!$B$20
Name BereichLeistungen: Adressen!$B$22
Name BereichLeistungenPunkte: Adressen!$B$23
Name BereichNotensystem: Adressen!$B$26
Name LeistungenPunkteEnde: Adressen!$B$11
Name LeistungenPunkteStart: Adressen!$B$10
Name ZeileAmt: Adressen!$B$2
Name ZeileFehlstundenEnde: Adressen!$B$15
Name ZeileFehlstundenStart: Adressen!$B$14
Name ZeileJahrgang: Adressen!$B$4
Name ZeileKursbezeichnung: Adressen!$B$5
Name ZeileKursbuchEnde: Adressen!$B$17
Name ZeileKursbuchStart: Adressen!$B$16
Name ZeileLeerspaltenEnde: Adressen!$B$9
Name ZeileLeerspaltenStart: Adressen!$B$8
Name ZeileLehrer: Adressen!$B$1
Name ZeileLeistungenEnde: Adressen!$B$13
Name ZeileLeistungenPunkteEnde: Adressen!$B$11
Name ZeileLeistungenPunkteStart: Adressen!$B$10
Name ZeileLeistungenStart: Adressen!$B$12
Name ZeileNotensystemEnde: Adressen!$B$7
Name ZeileNotensystemStart: Adressen!$B$6
Name ZeileSchule: Adressen!$B$3

Sheet CSV
B1: ← HIER EINSETZEN
A3: Bitte öffnen Sie zunächst eine neue Arbeitsmappe, um die CSV-Daten des Kurses dort hinein zu importieren ("Datei -> Neue Arbeitsmappe").
A4: Wählen Sie "Datei -> Import", dann "CSV". Beim Öffnen der CSV-Datei werden Sie nun einige Importeinstellungen vornehmen müssen.
A5: Im ersten Dialog verändern Sie einfach nichts und wählen "Weiter". Im zweiten Dialog stellen Sie bitte das Trennzeichen auf "Tabstopp" ein und nehmen den Haken bei "Komma" weg.
A6: Im dritten Dialog bleibt wieder alles so, wie vom Programm vorgeschlagen. Wählen Sie "Fertig stellen".
A7: Danach werden die CSV-Daten in die neue Arbeitsmappe importiert. Sie müssen diese Daten nunmehr in diese Arbeitsmappe hinüberkopieren.
A8: Wählen Sie dazu „Bearbeiten → Alles auswählen“ (CMD- bzw. STRG-A) und dann „Bearbeiten → Kopieren“ (CMD- bzw STRG-C).
A9: Betreten Sie dann wieder diese Seite, setzen Sie die Einfügemarke auf das rot markierte Feld A1 und wählen Sie „Bearbeiten → Einfügen“ (CMD- bzw. STRG-V)
A10: Dabei wird dieser Hilfetext überschrieben und durch die Kursdaten ersetzt.
A11: Im Anschluss finden Sie in den Tabellen „Deckblatt“ bis „Kursbuch“ (siehe unterer Bildschirmrand) druckfertige Layouts Ihrer Daten vor.

Sheet Adressen
A1: Kurslehrer | B1: =MATCH($A1,CSV!$A$1:$A$1071,0) -> #N/A
A2: Amtsbezeichnung | B2: =MATCH($A2,CSV!$A$1:$A$1071,0) -> #N/A
A3: Schule | B3: =MATCH($A3,CSV!$A$1:$A$1071,0) -> #N/A
A4: Jahrgang | B4: =MATCH($A4,CSV!$A$1:$A$1071,0) -> #N/A
A5: Kurs | B5: =MATCH($A5,CSV!$A$1:$A$1071,0) -> #N/A
A6: Notensystem | B6: =MATCH($A6,CSV!$A$1:$A$1071,0) -> #N/A
A7: /Notensystem | B7: =MATCH($A7,CSV!$A$1:$A$1071,0) -> #N/A
A8: Leerspalten | B8: =MATCH($A8,CSV!$A$1:$A$1071,0) -> #N/A
A9: /Leerspalten | B9: =MATCH($A9,CSV!$A$1:$A$1071,0) -> #N/A
A10: LeistungenPunkte | B10: =MATCH($A10,CSV!$A$1:$A$1071,0) -> #N/A
A11: /LeistungenPunkte | B11: =MATCH($A11,CSV!$A$1:$A$1071,0) -> #N/A
A12: Leistungen | B12: =MATCH($A12,CSV!$A$1:$A$1071,0) -> #N/A
... A17: /Kursbuch | B17: =MATCH($A17,CSV!$A$1:$A$1071,0) -> #N/A
A19: AnkerLeerspalten | B19: =CONCATENATE(ADDRESS( ZeileLeerspaltenStart+1,1,4,1,"CSV")) -> #N/A
A20: BereichLeerspalten | B20: =CONCATENATE("CSV!$A$",ZeileLeerspaltenStart+1,":IV$",ZeileLeerspaltenEnde-1) -> #N/A
A21: BereichKategorien | B21: =CONCATENATE("CSV!$A$",ZeileLeistungenStart+1,":$IV$",ZeileLeistungenStart+1) -> #N/A
A22: BereichLeistungen | B22: =CONCATENATE("CSV!$A$",ZeileLeistungenStart+1,":$IV$",ZeileLeistungenEnde-1) -> #N/A
A23: BereichLeistungenPunkte | B23: =CONCATENATE("CSV!$A$",ZeileLeistungenPunkteStart+1,":$IV$",ZeileLeistungenPunkteEnde-1) -> #N/A
A24: BereichFehlstundenDatum | B24: =CONCATENATE("CSV!$A$",ZeileFehlstundenStart+1,":$IV$",ZeileFehlstundenStart+1) -> #N/A
A25: BereichFehlstunden | B25: =CONCATENATE("CSV!$A$",ZeileFehlstundenStart+2,":IV$",ZeileFehlstundenEnde-1) -> #N/A
A26: BereichNotensystem | B26: =CONCATENATE("CSV!$A$",ZeileNotensystemStart+1,":$IV$",ZeileNotensystemEnde-1) -> #N/A
A27: BereichKursbuch | B27: =CONCATENATE("CSV!$A$",ZeileKursbuchStart+1,":$IV$",ZeileKursbuchEnde-1) -> #N/A

Sheet Deckblatt
A8: =IF(ISBLANK(INDEX(CSV!$B$1:$B$1071,ZeileSchule)),"",INDEX(CSV!$B$1:$B$1071,ZeileSchule)) -> #N/A
A10: Kursübersicht
A12: Jahrgang: | B12: =INDEX(CSV!$B$1:$B$1071,ZeileJahrgang) -> #N/A
A13: Kurs: | B13: =INDEX(CSV!$B$1:$B$1071,ZeileKursbezeichnung) -> #N/A
A14: Lehrkraft: | B14: =CONCATENATE(INDEX(CSV!$B$1:$B$1071,ZeileLehrer),", ",INDEX(CSV!$B$1:$B$1071,ZeileAmt)) -> #N/A

Sheet Leerspalten
A1: =CONCATENATE("Leerspalten für Kurs: ", INDEX(CSV!$B$1:$B$1071,ZeileKursbezeichnung)) -> #N/A
A2: =CONCATENATE("Jahrgang: ", INDEX(CSV!$B$1:$B$1071,ZeileJahrgang)) -> #N/A
A3: =IF(ISBLANK(INDEX(CSV!$B$1:$B$1071,ZeileLehrer)),"",INDEX(CSV!$B$1:$B$1071,ZeileLehrer)) -> #N/A
A5: =IF(ISBLANK(INDEX(INDIRECT(BereichKategorien),(ROW()-4),COLUMN()) ),"",INDEX(INDIRECT(BereichKategorien),(ROW()-4),COLUMN())) -> #N/A | B5: =IF(ISBLANK(INDEX(INDIRECT(BereichKategorien),(ROW()-4),COLUMN()) ),"",INDEX(INDIRECT(BereichKategorien),(ROW()-4),COLUMN())) -> #N/A
A6: =IF(ROW()-6<ROWS(INDIRECT(BereichLeerspalten)),IF(ISBLANK(INDEX(INDIRECT(BereichLeerspalten),(ROW()-5),COLUMN())),"",INDEX(INDIRECT(BereichLeerspalten),(ROW()-5),COLUMN())),"") -> #N/A | B6: =IF(ROW()-6<ROWS(INDIRECT(BereichLeerspalten)),IF(ISBLANK(INDEX(INDIRECT(BereichLeerspalten),(ROW()-5),COLUMN())),"",INDEX(INDIRECT(BereichLeerspalten),(ROW()-5),COLUMN())),"") -> #N/A | C6: =IF(ROW()-6<ROWS(INDIRECT(BereichLeerspalten)),IF(ISBLANK(INDEX(INDIRECT(BereichLeerspalten),(ROW()-5),COLUMN())),"",INDEX(INDIRECT(BereichLeerspalten),(ROW()-5),COLUMN())),"") -> #N/A | D6: =IF(ROW()-6<ROWS(INDIRECT(BereichLeerspalten)),IF(ISBLANK(INDEX(INDIRECT(BereichLeerspalten),(ROW()-5),COLUMN())),"",INDEX(INDIRECT(BereichLeerspalten),(ROW()-5),COLUMN())),"") -> #N/A | E6: =IF(ROW()-6<ROWS(INDIRECT(BereichLeerspalten)),IF(ISBLANK(INDEX(INDIRECT(BereichLeerspalten),(ROW()-5),COLUMN())),"",INDEX(INDIRECT(BereichLeerspalten),(ROW()-5),COLUMN())),"") -> #N/A | F6: =IF(ROW()-6<ROWS(INDIRECT(BereichLeerspalten)),IF(ISBLANK(INDEX(INDIRECT(BereichLeerspalten),(ROW()-5),COLUMN())),"",INDEX(INDIRECT(BereichLeerspalten),(ROW()-5),COLUMN())),"") -> #N/A | G6: =IF(ROW()-6<ROWS(INDIRECT(BereichLeerspalten)),IF(ISBLANK(INDEX(INDIRECT(BereichLeerspalten),(ROW()-5),COLUMN())),"",INDEX(INDIRECT(BereichLeerspalten),(ROW()-5),COLUMN())),"") -> #N/A | H6: =IF(ROW()-6<ROWS(INDIRECT(BereichLeerspalten)),IF(ISBLANK(INDEX(INDIRECT(BereichLeerspalten),(ROW()-5),COLUMN())),"",INDEX(INDIRECT(BereichLeerspalten),(ROW()-5),COLUMN())),"") -> #N/A | ... X6: =IF(ROW()-6<ROWS(INDIRECT(BereichLeerspalten)),IF(ISBLANK(INDEX(INDIRECT(BereichLeerspalten),(ROW()-5),COLUMN())),"",INDEX(INDIRECT(BereichLeerspalten),(ROW()-5),COLUMN())),"") -> #N/A
A7: =IF(ROW()-6<ROWS(INDIRECT(BereichLeerspalten)),IF(ISBLANK(INDEX(INDIRECT(BereichLeerspalten),(ROW()-5),COLUMN())),"",INDEX(INDIRECT(BereichLeerspalten),(ROW()-5),COLUMN())),"") -> #N/A | B7: =IF(ROW()-6<ROWS(INDIRECT(BereichLeerspalten)),IF(ISBLANK(INDEX(INDIRECT(BereichLeerspalten),(ROW()-5),COLUMN())),"",INDEX(INDIRECT(BereichLeerspalten),(ROW()-5),COLUMN())),"") -> #N/A | C7: =IF(ROW()-6<ROWS(INDIRECT(BereichLeerspalten)),IF(ISBLANK(INDEX(INDIRECT(BereichLeerspalten),(ROW()-5),COLUMN())),"",INDEX(INDIRECT(BereichLeerspalten),(ROW()-5),COLUMN())),"") -> #N/A | D7: =IF(ROW()-6<ROWS(INDIRECT(BereichLeerspalten)),IF(ISBLANK(INDEX(INDIRECT(BereichLeerspalten),(ROW()-5),COLUMN())),"",INDEX(INDIRECT(BereichLeerspalten),(ROW()-5),COLUMN())),"") -> #N/A | E7: =IF(ROW()-6<ROWS(INDIRECT(BereichLeerspalten)),IF(ISBLANK(INDEX(INDIRECT(BereichLeerspalten),(ROW()-5),COLUMN())),"",INDEX(INDIRECT(BereichLeerspalten),(ROW()-5),COLUMN())),"") -> #N/A | F7: =IF(ROW()-6<ROWS(INDIRECT(BereichLeerspalten)),IF(ISBLANK(INDEX(INDIRECT(BereichLeerspalten),(ROW()-5),COLUMN())),"",INDEX(INDIRECT(BereichLeerspalten),(ROW()-5),COLUMN())),"") -> #N/A | G7: =IF(ROW()-6<ROWS(INDIRECT(BereichLeerspalten)),IF(ISBLANK(INDEX(INDIRECT(BereichLeerspalten),(ROW()-5),COLUMN())),"",INDEX(INDIRECT(BereichLeerspalten),(ROW()-5),COLUMN())),"") -> #N/A | H7: =IF(ROW()-6<ROWS(INDIRECT(BereichLeerspalten)),IF(ISBLANK(INDEX(INDIRECT(BereichLeerspalten),(ROW()-5),COLUMN())),"",INDEX(INDIRECT(BereichLeerspalten),(ROW()-5),COLUMN())),"") -> #N/A | ... X7: =IF(ROW()-6<ROWS(INDIRECT(BereichLeerspalten)),IF(ISBLANK(INDEX(INDIRECT(BereichLeerspalten),(ROW()-5),COLUMN())),"",INDEX(INDIRECT(BereichLeerspalten),(ROW()-5),COLUMN())),"") -> #N/A
A8: =IF(ROW()-6<ROWS(INDIRECT(BereichLeerspalten)),IF(ISBLANK(INDEX(INDIRECT(BereichLeerspalten),(ROW()-5),COLUMN())),"",INDEX(INDIRECT(BereichLeerspalten),(ROW()-5),COLUMN())),"") -> #N/A | B8: =IF(ROW()-6<ROWS(INDIRECT(BereichLeerspalten)),IF(ISBLANK(INDEX(INDIRECT(BereichLeerspalten),(ROW()-5),COLUMN())),"",INDEX(INDIRECT(BereichLeerspalten),(ROW()-5),COLUMN())),"") -> #N/A | C8: =IF(ROW()-6<ROWS(INDIRECT(BereichLeerspalten)),IF(ISBLANK(INDEX(INDIRECT(BereichLeerspalten),(ROW()-5),COLUMN())),"",INDEX(INDIRECT(BereichLeerspalten),(ROW()-5),COLUMN())),"") -> #N/A | D8: =IF(ROW()-6<ROWS(INDIRECT(BereichLeerspalten)),IF(ISBLANK(INDEX(INDIRECT(BereichLeerspalten),(ROW()-5),COLUMN())),"",INDEX(INDIRECT(BereichLeerspalten),(ROW()-5),COLUMN())),"") -> #N/A | E8: =IF(ROW()-6<ROWS(INDIRECT(BereichLeerspalten)),IF(ISBLANK(INDEX(INDIRECT(BereichLeerspalten),(ROW()-5),COLUMN())),"",INDEX(INDIRECT(BereichLeerspalten),(ROW()-5),COLUMN())),"") -> #N/A | F8: =IF(ROW()-6<ROWS(INDIRECT(BereichLeerspalten)),IF(ISBLANK(INDEX(INDIRECT(BereichLeerspalten),(ROW()-5),COLUMN())),"",INDEX(INDIRECT(BereichLeerspalten),(ROW()-5),COLUMN())),"") -> #N/A | G8: =IF(ROW()-6<ROWS(INDIRECT(BereichLeerspalten)),IF(ISBLANK(INDEX(INDIRECT(BereichLeerspalten),(ROW()-5),COLUMN())),"",INDEX(INDIRECT(BereichLeerspalten),(ROW()-5),COLUMN())),"") -> #N/A | H8: =IF(ROW()-6<ROWS(INDIRECT(BereichLeerspalten)),IF(ISBLANK(INDEX(INDIRECT(BereichLeerspalten),(ROW()-5),COLUMN())),"",INDEX(INDIRECT(BereichLeerspalten),(ROW()-5),COLUMN())),"") -> #N/A | ... X8: =IF(ROW()-6<ROWS(INDIRECT(BereichLeerspalten)),IF(ISBLANK(INDEX(INDIRECT(BereichLeerspalten),(ROW()-5),COLUMN())),"",INDEX(INDIRECT(BereichLeerspalten),(ROW()-5),COLUMN())),"") -> #N/A
A9: =IF(ROW()-6<ROWS(INDIRECT(BereichLeerspalten)),IF(ISBLANK(INDEX(INDIRECT(BereichLeerspalten),(ROW()-5),COLUMN())),"",INDEX(INDIRECT(BereichLeerspalten),(ROW()-5),COLUMN())),"") -> #N/A | B9: =IF(ROW()-6<ROWS(INDIRECT(BereichLeerspalten)),IF(ISBLANK(INDEX(INDIRECT(BereichLeerspalten),(ROW()-5),COLUMN())),"",INDEX(INDIRECT(BereichLeerspalten),(ROW()-5),COLUMN())),"") -> #N/A | C9: =IF(ROW()-6<ROWS(INDIRECT(BereichLeerspalten)),IF(ISBLANK(INDEX(INDIRECT(BereichLeerspalten),(ROW()-5),COLUMN())),"",INDEX(INDIRECT(BereichLeerspalten),(ROW()-5),COLUMN())),"") -> #N/A | D9: =IF(ROW()-6<ROWS(INDIRECT(BereichLeerspalten)),IF(ISBLANK(INDEX(INDIRECT(BereichLeerspalten),(ROW()-5),COLUMN())),"",INDEX(INDIRECT(BereichLeerspalten),(ROW()-5),COLUMN())),"") -> #N/A | E9: =IF(ROW()-6<ROWS(INDIRECT(BereichLeerspalten)),IF(ISBLANK(INDEX(INDIRECT(BereichLeerspalten),(ROW()-5),COLUMN())),"",INDEX(INDIRECT(BereichLeerspalten),(ROW()-5),COLUMN())),"") -> #N/A | F9: =IF(ROW()-6<ROWS(INDIRECT(BereichLeerspalten)),IF(ISBLANK(INDEX(INDIRECT(BereichLeerspalten),(ROW()-5),COLUMN())),"",INDEX(INDIRECT(BereichLeerspalten),(ROW()-5),COLUMN())),"") -> #N/A | G9: =IF(ROW()-6<ROWS(INDIRECT(BereichLeerspalten)),IF(ISBLANK(INDEX(INDIRECT(BereichLeerspalten),(ROW()-5),COLUMN())),"",INDEX(INDIRECT(BereichLeerspalten),(ROW()-5),COLUMN())),"") -> #N/A | H9: =IF(ROW()-6<ROWS(INDIRECT(BereichLeerspalten)),IF(ISBLANK(INDEX(INDIRECT(BereichLeerspalten),(ROW()-5),COLUMN())),"",INDEX(INDIRECT(BereichLeerspalten),(ROW()-5),COLUMN())),"") -> #N/A | ... X9: =IF(ROW()-6<ROWS(INDIRECT(BereichLeerspalten)),IF(ISBLANK(INDEX(INDIRECT(BereichLeerspalten),(ROW()-5),COLUMN())),"",INDEX(INDIRECT(BereichLeerspalten),(ROW()-5),COLUMN())),"") -> #N/A
A10: =IF(ROW()-6<ROWS(INDIRECT(BereichLeerspalten)),IF(ISBLANK(INDEX(INDIRECT(BereichLeerspalten),(ROW()-5),COLUMN())),"",INDEX(INDIRECT(BereichLeerspalten),(ROW()-5),COLUMN())),"") -> #N/A | B10: =IF(ROW()-6<ROWS(INDIRECT(BereichLeerspalten)),IF(ISBLANK(INDEX(INDIRECT(BereichLeerspalten),(ROW()-5),COLUMN())),"",INDEX(INDIRECT(BereichLeerspalten),(ROW()-5),COLUMN())),"") -> #N/A | C10: =IF(ROW()-6<ROWS(INDIRECT(BereichLeerspalten)),IF(ISBLANK(INDEX(INDIRECT(BereichLeerspalten),(ROW()-5),COLUMN())),"",INDEX(INDIRECT(BereichLeerspalten),(ROW()-5),COLUMN())),"") -> #N/A | D10: =IF(ROW()-6<ROWS(INDIRECT(BereichLeerspalten)),IF(ISBLANK(INDEX(INDIRECT(BereichLeerspalten),(ROW()-5),COLUMN())),"",INDEX(INDIRECT(BereichLeerspalten),(ROW()-5),COLUMN())),"") -> #N/A | E10: =IF(ROW()-6<ROWS(INDIRECT(BereichLeerspalten)),IF(ISBLANK(INDEX(INDIRECT(BereichLeerspalten),(ROW()-5),COLUMN())),"",INDEX(INDIRECT(BereichLeerspalten),(ROW()-5),COLUMN())),"") -> #N/A | F10: =IF(ROW()-6<ROWS(INDIRECT(BereichLeerspalten)),IF(ISBLANK(INDEX(INDIRECT(BereichLeerspalten),(ROW()-5),COLUMN())),"",INDEX(INDIRECT(BereichLeerspalten),(ROW()-5),COLUMN())),"") -> #N/A | G10: =IF(ROW()-6<ROWS(INDIRECT(BereichLeerspalten)),IF(ISBLANK(INDEX(INDIRECT(BereichLeerspalten),(ROW()-5),COLUMN())),"",INDEX(INDIRECT(BereichLeerspalten),(ROW()-5),COLUMN())),"") -> #N/A | H10: =IF(ROW()-6<ROWS(INDIRECT(BereichLeerspalten)),IF(ISBLANK(INDEX(INDIRECT(BereichLeerspalten),(ROW()-5),COLUMN())),"",INDEX(INDIRECT(BereichLeerspalten),(ROW()-5),COLUMN())),"") -> #N/A | ... X10: =IF(ROW()-6<ROWS(INDIRECT(BereichLeerspalten)),IF(ISBLANK(INDEX(INDIRECT(BereichLeerspalten),(ROW()-5),COLUMN())),"",INDEX(INDIRECT(BereichLeerspalten),(ROW()-5),COLUMN())),"") -> #N/A
A11: =IF(ROW()-6<ROWS(INDIRECT(BereichLeerspalten)),IF(ISBLANK(INDEX(INDIRECT(BereichLeerspalten),(ROW()-5),COLUMN())),"",INDEX(INDIRECT(BereichLeerspalten),(ROW()-5),COLUMN())),"") -> #N/A | B11: =IF(ROW()-6<ROWS(INDIRECT(BereichLeerspalten)),IF(ISBLANK(INDEX(INDIRECT(BereichLeerspalten),(ROW()-5),COLUMN())),"",INDEX(INDIRECT(BereichLeerspalten),(ROW()-5),COLUMN())),"") -> #N/A | C11: =IF(ROW()-6<ROWS(INDIRECT(BereichLeerspalten)),IF(ISBLANK(INDEX(INDIRECT(BereichLeerspalten),(ROW()-5),COLUMN())),"",INDEX(INDIRECT(BereichLeerspalten),(ROW()-5),COLUMN())),"") -> #N/A | D11: =IF(ROW()-6<ROWS(INDIRECT(BereichLeerspalten)),IF(ISBLANK(INDEX(INDIRECT(BereichLeerspalten),(ROW()-5),COLUMN())),"",INDEX(INDIRECT(BereichLeerspalten),(ROW()-5),COLUMN())),"") -> #N/A | E11: =IF(ROW()-6<ROWS(INDIRECT(BereichLeerspalten)),IF(ISBLANK(INDEX(INDIRECT(BereichLeerspalten),(ROW()-5),COLUMN())),"",INDEX(INDIRECT(BereichLeerspalten),(ROW()-5),COLUMN())),"") -> #N/A | F11: =IF(ROW()-6<ROWS(INDIRECT(BereichLeerspalten)),IF(ISBLANK(INDEX(INDIRECT(BereichLeerspalten),(ROW()-5),COLUMN())),"",INDEX(INDIRECT(BereichLeerspalten),(ROW()-5),COLUMN())),"") -> #N/A | G11: =IF(ROW()-6<ROWS(INDIRECT(BereichLeerspalten)),IF(ISBLANK(INDEX(INDIRECT(BereichLeerspalten),(ROW()-5),COLUMN())),"",INDEX(INDIRECT(BereichLeerspalten),(ROW()-5),COLUMN())),"") -> #N/A | H11: =IF(ROW()-6<ROWS(INDIRECT(BereichLeerspalten)),IF(ISBLANK(INDEX(INDIRECT(BereichLeerspalten),(ROW()-5),COLUMN())),"",INDEX(INDIRECT(BereichLeerspalten),(ROW()-5),COLUMN())),"") -> #N/A | ... X11: =IF(ROW()-6<ROWS(INDIRECT(BereichLeerspalten)),IF(ISBLANK(INDEX(INDIRECT(BereichLeerspalten),(ROW()-5),COLUMN())),"",INDEX(INDIRECT(BereichLeerspalten),(ROW()-5),COLUMN())),"") -> #N/A
A12: =IF(ROW()-6<ROWS(INDIRECT(BereichLeerspalten)),IF(ISBLANK(INDEX(INDIRECT(BereichLeerspalten),(ROW()-5),COLUMN())),"",INDEX(INDIRECT(BereichLeerspalten),(ROW()-5),COLUMN())),"") -> #N/A | B12: =IF(ROW()-6<ROWS(INDIRECT(BereichLeerspalten)),IF(ISBLANK(INDEX(INDIRECT(BereichLeerspalten),(ROW()-5),COLUMN())),"",INDEX(INDIRECT(BereichLeerspalten),(ROW()-5),COLUMN())),"") -> #N/A | C12: =IF(ROW()-6<ROWS(INDIRECT(BereichLeerspalten)),IF(ISBLANK(INDEX(INDIRECT(BereichLeerspalten),(ROW()-5),COLUMN())),"",INDEX(INDIRECT(BereichLeerspalten),(ROW()-5),COLUMN())),"") -> #N/A | D12: =IF(ROW()-6<ROWS(INDIRECT(BereichLeerspalten)),IF(ISBLANK(INDEX(INDIRECT(BereichLeerspalten),(ROW()-5),COLUMN())),"",INDEX(INDIRECT(BereichLeerspalten),(ROW()-5),COLUMN())),"") -> #N/A | E12: =IF(ROW()-6<ROWS(INDIRECT(BereichLeerspalten)),IF(ISBLANK(INDEX(INDIRECT(BereichLeerspalten),(ROW()-5),COLUMN())),"",INDEX(INDIRECT(BereichLeerspalten),(ROW()-5),COLUMN())),"") -> #N/A | F12: =IF(ROW()-6<ROWS(INDIRECT(BereichLeerspalten)),IF(ISBLANK(INDEX(INDIRECT(BereichLeerspalten),(ROW()-5),COLUMN())),"",INDEX(INDIRECT(BereichLeerspalten),(ROW()-5),COLUMN())),"") -> #N/A | G12: =IF(ROW()-6<ROWS(INDIRECT(BereichLeerspalten)),IF(ISBLANK(INDEX(INDIRECT(BereichLeerspalten),(ROW()-5),COLUMN())),"",INDEX(INDIRECT(BereichLeerspalten),(ROW()-5),COLUMN())),"") -> #N/A | H12: =IF(ROW()-6<ROWS(INDIRECT(BereichLeerspalten)),IF(ISBLANK(INDEX(INDIRECT(BereichLeerspalten),(ROW()-5),COLUMN())),"",INDEX(INDIRECT(BereichLeerspalten),(ROW()-5),COLUMN())),"") -> #N/A | ... X12: =IF(ROW()-6<ROWS(INDIRECT(BereichLeerspalten)),IF(ISBLANK(INDEX(INDIRECT(BereichLeerspalten),(ROW()-5),COLUMN())),"",INDEX(INDIRECT(BereichLeerspalten),(ROW()-5),COLUMN())),"") -> #N/A
A13: =IF(ROW()-6<ROWS(INDIRECT(BereichLeerspalten)),IF(ISBLANK(INDEX(INDIRECT(BereichLeerspalten),(ROW()-5),COLUMN())),"",INDEX(INDIRECT(BereichLeerspalten),(ROW()-5),COLUMN())),"") -> #N/A | B13: =IF(ROW()-6<ROWS(INDIRECT(BereichLeerspalten)),IF(ISBLANK(INDEX(INDIRECT(BereichLeerspalten),(ROW()-5),COLUMN())),"",INDEX(INDIRECT(BereichLeerspalten),(ROW()-5),COLUMN())),"") -> #N/A | C13: =IF(ROW()-6<ROWS(INDIRECT(BereichLeerspalten)),IF(ISBLANK(INDEX(INDIRECT(BereichLeerspalten),(ROW()-5),COLUMN())),"",INDEX(INDIRECT(BereichLeerspalten),(ROW()-5),COLUMN())),"") -> #N/A | D13: =IF(ROW()-6<ROWS(INDIRECT(BereichLeerspalten)),IF(ISBLANK(INDEX(INDIRECT(BereichLeerspalten),(ROW()-5),COLUMN())),"",INDEX(INDIRECT(BereichLeerspalten),(ROW()-5),COLUMN())),"") -> #N/A | E13: =IF(ROW()-6<ROWS(INDIRECT(BereichLeerspalten)),IF(ISBLANK(INDEX(INDIRECT(BereichLeerspalten),(ROW()-5),COLUMN())),"",INDEX(INDIRECT(BereichLeerspalten),(ROW()-5),COLUMN())),"") -> #N/A | F13: =IF(ROW()-6<ROWS(INDIRECT(BereichLeerspalten)),IF(ISBLANK(INDEX(INDIRECT(BereichLeerspalten),(ROW()-5),COLUMN())),"",INDEX(INDIRECT(BereichLeerspalten),(ROW()-5),COLUMN())),"") -> #N/A | G13: =IF(ROW()-6<ROWS(INDIRECT(BereichLeerspalten)),IF(ISBLANK(INDEX(INDIRECT(BereichLeerspalten),(ROW()-5),COLUMN())),"",INDEX(INDIRECT(BereichLeerspalten),(ROW()-5),COLUMN())),"") -> #N/A | H13: =IF(ROW()-6<ROWS(INDIRECT(BereichLeerspalten)),IF(ISBLANK(INDEX(INDIRECT(BereichLeerspalten),(ROW()-5),COLUMN())),"",INDEX(INDIRECT(BereichLeerspalten),(ROW()-5),COLUMN())),"") -> #N/A | ... X13: =IF(ROW()-6<ROWS(INDIRECT(BereichLeerspalten)),IF(ISBLANK(INDEX(INDIRECT(BereichLeerspalten),(ROW()-5),COLUMN())),"",INDEX(INDIRECT(BereichLeerspalten),(ROW()-5),COLUMN())),"") -> #N/A
A14: =IF(ROW()-6<ROWS(INDIRECT(BereichLeerspalten)),IF(ISBLANK(INDEX(INDIRECT(BereichLeerspalten),(ROW()-5),COLUMN())),"",INDEX(INDIRECT(BereichLeerspalten),(ROW()-5),COLUMN())),"") -> #N/A | B14: =IF(ROW()-6<ROWS(INDIRECT(BereichLeerspalten)),IF(ISBLANK(INDEX(INDIRECT(BereichLeerspalten),(ROW()-5),COLUMN())),"",INDEX(INDIRECT(BereichLeerspalten),(ROW()-5),COLUMN())),"") -> #N/A | C14: =IF(ROW()-6<ROWS(INDIRECT(BereichLeerspalten)),IF(ISBLANK(INDEX(INDIRECT(BereichLeerspalten),(ROW()-5),COLUMN())),"",INDEX(INDIRECT(BereichLeerspalten),(ROW()-5),COLUMN())),"") -> #N/A | D14: =IF(ROW()-6<ROWS(INDIRECT(BereichLeerspalten)),IF(ISBLANK(INDEX(INDIRECT(BereichLeerspalten),(ROW()-5),COLUMN())),"",INDEX(INDIRECT(BereichLeerspalten),(ROW()-5),COLUMN())),"") -> #N/A | E14: =IF(ROW()-6<ROWS(INDIRECT(BereichLeerspalten)),IF(ISBLANK(INDEX(INDIRECT(BereichLeerspalten),(ROW()-5),COLUMN())),"",INDEX(INDIRECT(BereichLeerspalten),(ROW()-5),COLUMN())),"") -> #N/A | F14: =IF(ROW()-6<ROWS(INDIRECT(BereichLeerspalten)),IF(ISBLANK(INDEX(INDIRECT(BereichLeerspalten),(ROW()-5),COLUMN())),"",INDEX(INDIRECT(BereichLeerspalten),(ROW()-5),COLUMN())),"") -> #N/A | G14: =IF(ROW()-6<ROWS(INDIRECT(BereichLeerspalten)),IF(ISBLANK(INDEX(INDIRECT(BereichLeerspalten),(ROW()-5),COLUMN())),"",INDEX(INDIRECT(BereichLeerspalten),(ROW()-5),COLUMN())),"") -> #N/A | H14: =IF(ROW()-6<ROWS(INDIRECT(BereichLeerspalten)),IF(ISBLANK(INDEX(INDIRECT(BereichLeerspalten),(ROW()-5),COLUMN())),"",INDEX(INDIRECT(BereichLeerspalten),(ROW()-5),COLUMN())),"") -> #N/A | ... X14: =IF(ROW()-6<ROWS(INDIRECT(BereichLeerspalten)),IF(ISBLANK(INDEX(INDIRECT(BereichLeerspalten),(ROW()-5),COLUMN())),"",INDEX(INDIRECT(BereichLeerspalten),(ROW()-5),COLUMN())),"") -> #N/A
A15: =IF(ROW()-6<ROWS(INDIRECT(BereichLeerspalten)),IF(ISBLANK(INDEX(INDIRECT(BereichLeerspalten),(ROW()-5),COLUMN())),"",INDEX(INDIRECT(BereichLeerspalten),(ROW()-5),COLUMN())),"") -> #N/A | B15: =IF(ROW()-6<ROWS(INDIRECT(BereichLeerspalten)),IF(ISBLANK(INDEX(INDIRECT(BereichLeerspalten),(ROW()-5),COLUMN())),"",INDEX(INDIRECT(BereichLeerspalten),(ROW()-5),COLUMN())),"") -> #N/A | C15: =IF(ROW()-6<ROWS(INDIRECT(BereichLeerspalten)),IF(ISBLANK(INDEX(INDIRECT(BereichLeerspalten),(ROW()-5),COLUMN())),"",INDEX(INDIRECT(BereichLeerspalten),(ROW()-5),COLUMN())),"") -> #N/A | D15: =IF(ROW()-6<ROWS(INDIRECT(BereichLeerspalten)),IF(ISBLANK(INDEX(INDIRECT(BereichLeerspalten),(ROW()-5),COLUMN())),"",INDEX(INDIRECT(BereichLeerspalten),(ROW()-5),COLUMN())),"") -> #N/A | E15: =IF(ROW()-6<ROWS(INDIRECT(BereichLeerspalten)),IF(ISBLANK(INDEX(INDIRECT(BereichLeerspalten),(ROW()-5),COLUMN())),"",INDEX(INDIRECT(BereichLeerspalten),(ROW()-5),COLUMN())),"") -> #N/A | F15: =IF(ROW()-6<ROWS(INDIRECT(BereichLeerspalten)),IF(ISBLANK(INDEX(INDIRECT(BereichLeerspalten),(ROW()-5),COLUMN())),"",INDEX(INDIRECT(BereichLeerspalten),(ROW()-5),COLUMN())),"") -> #N/A | G15: =IF(ROW()-6<ROWS(INDIRECT(BereichLeerspalten)),IF(ISBLANK(INDEX(INDIRECT(BereichLeerspalten),(ROW()-5),COLUMN())),"",INDEX(INDIRECT(BereichLeerspalten),(ROW()-5),COLUMN())),"") -> #N/A | H15: =IF(ROW()-6<ROWS(INDIRECT(BereichLeerspalten)),IF(ISBLANK(INDEX(INDIRECT(BereichLeerspalten),(ROW()-5),COLUMN())),"",INDEX(INDIRECT(BereichLeerspalten),(ROW()-5),COLUMN())),"") -> #N/A | ... X15: =IF(ROW()-6<ROWS(INDIRECT(BereichLeerspalten)),IF(ISBLANK(INDEX(INDIRECT(BereichLeerspalten),(ROW()-5),COLUMN())),"",INDEX(INDIRECT(BereichLeerspalten),(ROW()-5),COLUMN())),"") -> #N/A
A16: =IF(ROW()-6<ROWS(INDIRECT(BereichLeerspalten)),IF(ISBLANK(INDEX(INDIRECT(BereichLeerspalten),(ROW()-5),COLUMN())),"",INDEX(INDIRECT(BereichLeerspalten),(ROW()-5),COLUMN())),"") -> #N/A | B16: =IF(ROW()-6<ROWS(INDIRECT(BereichLeerspalten)),IF(ISBLANK(INDEX(INDIRECT(BereichLeerspalten),(ROW()-5),COLUMN())),"",INDEX(INDIRECT(BereichLeerspalten),(ROW()-5),COLUMN())),"") -> #N/A | C16: =IF(ROW()-6<ROWS(INDIRECT(BereichLeerspalten)),IF(ISBLANK(INDEX(INDIRECT(BereichLeerspalten),(ROW()-5),COLUMN())),"",INDEX(INDIRECT(BereichLeerspalten),(ROW()-5),COLUMN())),"") -> #N/A | D16: =IF(ROW()-6<ROWS(INDIRECT(BereichLeerspalten)),IF(ISBLANK(INDEX(INDIRECT(BereichLeerspalten),(ROW()-5),COLUMN())),"",INDEX(INDIRECT(BereichLeerspalten),(ROW()-5),COLUMN())),"") -> #N/A | E16: =IF(ROW()-6<ROWS(INDIRECT(BereichLeerspalten)),IF(ISBLANK(INDEX(INDIRECT(BereichLeerspalten),(ROW()-5),COLUMN())),"",INDEX(INDIRECT(BereichLeerspalten),(ROW()-5),COLUMN())),"") -> #N/A | F16: =IF(ROW()-6<ROWS(INDIRECT(BereichLeerspalten)),IF(ISBLANK(INDEX(INDIRECT(BereichLeerspalten),(ROW()-5),COLUMN())),"",INDEX(INDIRECT(BereichLeerspalten),(ROW()-5),COLUMN())),"") -> #N/A | G16: =IF(ROW()-6<ROWS(INDIRECT(BereichLeerspalten)),IF(ISBLANK(INDEX(INDIRECT(BereichLeerspalten),(ROW()-5),COLUMN())),"",INDEX(INDIRECT(BereichLeerspalten),(ROW()-5),COLUMN())),"") -> #N/A | H16: =IF(ROW()-6<ROWS(INDIRECT(BereichLeerspalten)),IF(ISBLANK(INDEX(INDIRECT(BereichLeerspalten),(ROW()-5),COLUMN())),"",INDEX(INDIRECT(BereichLeerspalten),(ROW()-5),COLUMN())),"") -> #N/A | ... X16: =IF(ROW()-6<ROWS(INDIRECT(BereichLeerspalten)),IF(ISBLANK(INDEX(INDIRECT(BereichLeerspalten),(ROW()-5),COLUMN())),"",INDEX(INDIRECT(BereichLeerspalten),(ROW()-5),COLUMN())),"") -> #N/A
A17: =IF(ROW()-6<ROWS(INDIRECT(BereichLeerspalten)),IF(ISBLANK(INDEX(INDIRECT(BereichLeerspalten),(ROW()-5),COLUMN())),"",INDEX(INDIRECT(BereichLeerspalten),(ROW()-5),COLUMN())),"") -> #N/A | B17: =IF(ROW()-6<ROWS(INDIRECT(BereichLeerspalten)),IF(ISBLANK(INDEX(INDIRECT(BereichLeerspalten),(ROW()-5),COLUMN())),"",INDEX(INDIRECT(BereichLeerspalten),(ROW()-5),COLUMN())),"") -> #N/A | C17: =IF(ROW()-6<ROWS(INDIRECT(BereichLeerspalten)),IF(ISBLANK(INDEX(INDIRECT(BereichLeerspalten),(ROW()-5),COLUMN())),"",INDEX(INDIRECT(BereichLeerspalten),(ROW()-5),COLUMN())),"") -> #N/A | D17: =IF(ROW()-6<ROWS(INDIRECT(BereichLeerspalten)),IF(ISBLANK(INDEX(INDIRECT(BereichLeerspalten),(ROW()-5),COLUMN())),"",INDEX(INDIRECT(BereichLeerspalten),(ROW()-5),COLUMN())),"") -> #N/A | E17: =IF(ROW()-6<ROWS(INDIRECT(BereichLeerspalten)),IF(ISBLANK(INDEX(INDIRECT(BereichLeerspalten),(ROW()-5),COLUMN())),"",INDEX(INDIRECT(BereichLeerspalten),(ROW()-5),COLUMN())),"") -> #N/A | F17: =IF(ROW()-6<ROWS(INDIRECT(BereichLeerspalten)),IF(ISBLANK(INDEX(INDIRECT(BereichLeerspalten),(ROW()-5),COLUMN())),"",INDEX(INDIRECT(BereichLeerspalten),(ROW()-5),COLUMN())),"") -> #N/A | G17: =IF(ROW()-6<ROWS(INDIRECT(BereichLeerspalten)),IF(ISBLANK(INDEX(INDIRECT(BereichLeerspalten),(ROW()-5),COLUMN())),"",INDEX(INDIRECT(BereichLeerspalten),(ROW()-5),COLUMN())),"") -> #N/A | H17: =IF(ROW()-6<ROWS(INDIRECT(BereichLeerspalten)),IF(ISBLANK(INDEX(INDIRECT(BereichLeerspalten),(ROW()-5),COLUMN())),"",INDEX(INDIRECT(BereichLeerspalten),(ROW()-5),COLUMN())),"") -> #N/A | ... X17: =IF(ROW()-6<ROWS(INDIRECT(BereichLeerspalten)),IF(ISBLANK(INDEX(INDIRECT(BereichLeerspalten),(ROW()-5),COLUMN())),"",INDEX(INDIRECT(BereichLeerspalten),(ROW()-5),COLUMN())),"") -> #N/A
... A76: =IF(ROW()-6<ROWS(INDIRECT(BereichLeerspalten)),IF(ISBLANK(INDEX(INDIRECT(BereichLeerspalten),(ROW()-5),COLUMN())),"",INDEX(INDIRECT(BereichLeerspalten),(ROW()-5),COLUMN())),"") -> #N/A | B76: =IF(ROW()-6<ROWS(INDIRECT(BereichLeerspalten)),IF(ISBLANK(INDEX(INDIRECT(BereichLeerspalten),(ROW()-5),COLUMN())),"",INDEX(INDIRECT(BereichLeerspalten),(ROW()-5),COLUMN())),"") -> #N/A | C76: =IF(ROW()-6<ROWS(INDIRECT(BereichLeerspalten)),IF(ISBLANK(INDEX(INDIRECT(BereichLeerspalten),(ROW()-5),COLUMN())),"",INDEX(INDIRECT(BereichLeerspalten),(ROW()-5),COLUMN())),"") -> #N/A | D76: =IF(ROW()-6<ROWS(INDIRECT(BereichLeerspalten)),IF(ISBLANK(INDEX(INDIRECT(BereichLeerspalten),(ROW()-5),COLUMN())),"",INDEX(INDIRECT(BereichLeerspalten),(ROW()-5),COLUMN())),"") -> #N/A | E76: =IF(ROW()-6<ROWS(INDIRECT(BereichLeerspalten)),IF(ISBLANK(INDEX(INDIRECT(BereichLeerspalten),(ROW()-5),COLUMN())),"",INDEX(INDIRECT(BereichLeerspalten),(ROW()-5),COLUMN())),"") -> #N/A | F76: =IF(ROW()-6<ROWS(INDIRECT(BereichLeerspalten)),IF(ISBLANK(INDEX(INDIRECT(BereichLeerspalten),(ROW()-5),COLUMN())),"",INDEX(INDIRECT(BereichLeerspalten),(ROW()-5),COLUMN())),"") -> #N/A | G76: =IF(ROW()-6<ROWS(INDIRECT(BereichLeerspalten)),IF(ISBLANK(INDEX(INDIRECT(BereichLeerspalten),(ROW()-5),COLUMN())),"",INDEX(INDIRECT(BereichLeerspalten),(ROW()-5),COLUMN())),"") -> #N/A | H76: =IF(ROW()-6<ROWS(INDIRECT(BereichLeerspalten)),IF(ISBLANK(INDEX(INDIRECT(BereichLeerspalten),(ROW()-5),COLUMN())),"",INDEX(INDIRECT(BereichLeerspalten),(ROW()-5),COLUMN())),"") -> #N/A | ... X76: =IF(ROW()-6<ROWS(INDIRECT(BereichLeerspalten)),IF(ISBLANK(INDEX(INDIRECT(BereichLeerspalten),(ROW()-5),COLUMN())),"",INDEX(INDIRECT(BereichLeerspalten),(ROW()-5),COLUMN())),"") -> #N/A

Sheet Leistungen (S.1)
A1: =CONCATENATE("Leistungsübersicht für Kurs: ", INDEX(CSV!$B$1:$B$1071,ZeileKursbezeichnung)) -> #N/A
A2: =CONCATENATE("Jahrgang: ", INDEX(CSV!$B$1:$B$1071,ZeileJahrgang)) -> #N/A
A3: =IF(ISBLANK(INDEX(CSV!$B$1:$B$1071,ZeileLehrer)),"",INDEX(CSV!$B$1:$B$1071,ZeileLehrer)) -> #N/A
A5: =IF(ISBLANK(INDEX(INDIRECT(BereichLeistungen),(ROW()-4),COLUMN()) ),"",INDEX(INDIRECT(BereichLeistungen),(ROW()-4),COLUMN())) -> #N/A | B5: =IF(ISBLANK(INDEX(INDIRECT(BereichLeistungen),(ROW()-4),COLUMN()) ),"",INDEX(INDIRECT(BereichLeistungen),(ROW()-4),COLUMN())) -> #N/A | C5: =IF(ISBLANK(INDEX(INDIRECT(BereichLeistungen),(ROW()-4),COLUMN()) ),"",INDEX(INDIRECT(BereichLeistungen),(ROW()-4),COLUMN())) -> #N/A | D5: =IF(ISBLANK(INDEX(INDIRECT(BereichLeistungen),(ROW()-4),COLUMN()) ),"",INDEX(INDIRECT(BereichLeistungen),(ROW()-4),COLUMN())) -> #N/A | E5: =IF(ISBLANK(INDEX(INDIRECT(BereichLeistungen),(ROW()-4),COLUMN()) ),"",INDEX(INDIRECT(BereichLeistungen),(ROW()-4),COLUMN())) -> #N/A | F5: =IF(ISBLANK(INDEX(INDIRECT(BereichLeistungen),(ROW()-4),COLUMN()) ),"",INDEX(INDIRECT(BereichLeistungen),(ROW()-4),COLUMN())) -> #N/A | G5: =IF(ISBLANK(INDEX(INDIRECT(BereichLeistungen),(ROW()-4),COLUMN()) ),"",INDEX(INDIRECT(BereichLeistungen),(ROW()-4),COLUMN())) -> #N/A | H5: =IF(ISBLANK(INDEX(INDIRECT(BereichLeistungen),(ROW()-4),COLUMN()) ),"",INDEX(INDIRECT(BereichLeistungen),(ROW()-4),COLUMN())) -> #N/A | ... AB5: =IF(ISBLANK(INDEX(INDIRECT(BereichLeistungen),(ROW()-4),COLUMN()) ),"",INDEX(INDIRECT(BereichLeistungen),(ROW()-4),COLUMN())) -> #N/A
A6: =IF(ROW()-5<ROWS(INDIRECT(BereichLeistungen)),IF(ISBLANK(INDEX(INDIRECT(BereichLeistungen),(ROW()-4),COLUMN())),"",INDEX(INDIRECT(BereichLeistungen),(ROW()-4),COLUMN())),"") -> #N/A | B6: =IF(ROW()-5<ROWS(INDIRECT(BereichLeistungen)),IF(ISBLANK(INDEX(INDIRECT(BereichLeistungen),(ROW()-4),COLUMN())),"",INDEX(INDIRECT(BereichLeistungen),(ROW()-4),COLUMN())),"") -> #N/A | C6: =IF(ROW()-5<ROWS(INDIRECT(BereichLeistungen)),IF(ISBLANK(INDEX(INDIRECT(BereichLeistungen),(ROW()-4),COLUMN())),"",INDEX(INDIRECT(BereichLeistungen),(ROW()-4),COLUMN())),"") -> #N/A | D6: =IF(ROW()-5<ROWS(INDIRECT(BereichLeistungen)),IF(ISBLANK(INDEX(INDIRECT(BereichLeistungen),(ROW()-4),COLUMN())),"",INDEX(INDIRECT(BereichLeistungen),(ROW()-4),COLUMN())),"") -> #N/A | E6: =IF(ROW()-5<ROWS(INDIRECT(BereichLeistungen)),IF(ISBLANK(INDEX(INDIRECT(BereichLeistungen),(ROW()-4),COLUMN())),"",INDEX(INDIRECT(BereichLeistungen),(ROW()-4),COLUMN())),"") -> #N/A | F6: =IF(ROW()-5<ROWS(INDIRECT(BereichLeistungen)),IF(ISBLANK(INDEX(INDIRECT(BereichLeistungen),(ROW()-4),COLUMN())),"",INDEX(INDIRECT(BereichLeistungen),(ROW()-4),COLUMN())),"") -> #N/A | G6: =IF(ROW()-5<ROWS(INDIRECT(BereichLeistungen)),IF(ISBLANK(INDEX(INDIRECT(BereichLeistungen),(ROW()-4),COLUMN())),"",INDEX(INDIRECT(BereichLeistungen),(ROW()-4),COLUMN())),"") -> #N/A | H6: =IF(ROW()-5<ROWS(INDIRECT(BereichLeistungen)),IF(ISBLANK(INDEX(INDIRECT(BereichLeistungen),(ROW()-4),COLUMN())),"",INDEX(INDIRECT(BereichLeistungen),(ROW()-4),COLUMN())),"") -> #N/A | ... AB6: =IF(ROW()-5<ROWS(INDIRECT(BereichLeistungen)),IF(ISBLANK(INDEX(INDIRECT(BereichLeistungen),(ROW()-4),COLUMN())),"",INDEX(INDIRECT(BereichLeistungen),(ROW()-4),COLUMN())),"") -> #N/A
A7: =IF(ROW()-5<ROWS(INDIRECT(BereichLeistungen)),IF(ISBLANK(INDEX(INDIRECT(BereichLeistungen),(ROW()-4),COLUMN())),"",INDEX(INDIRECT(BereichLeistungen),(ROW()-4),COLUMN())),"") -> #N/A | B7: =IF(ROW()-5<ROWS(INDIRECT(BereichLeistungen)),IF(ISBLANK(INDEX(INDIRECT(BereichLeistungen),(ROW()-4),COLUMN())),"",INDEX(INDIRECT(BereichLeistungen),(ROW()-4),COLUMN())),"") -> #N/A | C7: =IF(ROW()-5<ROWS(INDIRECT(BereichLeistungen)),IF(ISBLANK(INDEX(INDIRECT(BereichLeistungen),(ROW()-4),COLUMN())),"",INDEX(INDIRECT(BereichLeistungen),(ROW()-4),COLUMN())),"") -> #N/A | D7: =IF(ROW()-5<ROWS(INDIRECT(BereichLeistungen)),IF(ISBLANK(INDEX(INDIRECT(BereichLeistungen),(ROW()-4),COLUMN())),"",INDEX(INDIRECT(BereichLeistungen),(ROW()-4),COLUMN())),"") -> #N/A | E7: =IF(ROW()-5<ROWS(INDIRECT(BereichLeistungen)),IF(ISBLANK(INDEX(INDIRECT(BereichLeistungen),(ROW()-4),COLUMN())),"",INDEX(INDIRECT(BereichLeistungen),(ROW()-4),COLUMN())),"") -> #N/A | F7: =IF(ROW()-5<ROWS(INDIRECT(BereichLeistungen)),IF(ISBLANK(INDEX(INDIRECT(BereichLeistungen),(ROW()-4),COLUMN())),"",INDEX(INDIRECT(BereichLeistungen),(ROW()-4),COLUMN())),"") -> #N/A | G7: =IF(ROW()-5<ROWS(INDIRECT(BereichLeistungen)),IF(ISBLANK(INDEX(INDIRECT(BereichLeistungen),(ROW()-4),COLUMN())),"",INDEX(INDIRECT(BereichLeistungen),(ROW()-4),COLUMN())),"") -> #N/A | H7: =IF(ROW()-5<ROWS(INDIRECT(BereichLeistungen)),IF(ISBLANK(INDEX(INDIRECT(BereichLeistungen),(ROW()-4),COLUMN())),"",INDEX(INDIRECT(BereichLeistungen),(ROW()-4),COLUMN())),"") -> #N/A | ... AB7: =IF(ROW()-5<ROWS(INDIRECT(BereichLeistungen)),IF(ISBLANK(INDEX(INDIRECT(BereichLeistungen),(ROW()-4),COLUMN())),"",INDEX(INDIRECT(BereichLeistungen),(ROW()-4),COLUMN())),"") -> #N/A
A8: =IF(ROW()-5<ROWS(INDIRECT(BereichLeistungen)),IF(ISBLANK(INDEX(INDIRECT(BereichLeistungen),(ROW()-4),COLUMN())),"",INDEX(INDIRECT(BereichLeistungen),(ROW()-4),COLUMN())),"") -> #N/A | B8: =IF(ROW()-5<ROWS(INDIRECT(BereichLeistungen)),IF(ISBLANK(INDEX(INDIRECT(BereichLeistungen),(ROW()-4),COLUMN())),"",INDEX(INDIRECT(BereichLeistungen),(ROW()-4),COLUMN())),"") -> #N/A | C8: =IF(ROW()-5<ROWS(INDIRECT(BereichLeistungen)),IF(ISBLANK(INDEX(INDIRECT(BereichLeistungen),(ROW()-4),COLUMN())),"",INDEX(INDIRECT(BereichLeistungen),(ROW()-4),COLUMN())),"") -> #N/A | D8: =IF(ROW()-5<ROWS(INDIRECT(BereichLeistungen)),IF(ISBLANK(INDEX(INDIRECT(BereichLeistungen),(ROW()-4),COLUMN())),"",INDEX(INDIRECT(BereichLeistungen),(ROW()-4),COLUMN())),"") -> #N/A | E8: =IF(ROW()-5<ROWS(INDIRECT(BereichLeistungen)),IF(ISBLANK(INDEX(INDIRECT(BereichLeistungen),(ROW()-4),COLUMN())),"",INDEX(INDIRECT(BereichLeistungen),(ROW()-4),COLUMN())),"") -> #N/A | F8: =IF(ROW()-5<ROWS(INDIRECT(BereichLeistungen)),IF(ISBLANK(INDEX(INDIRECT(BereichLeistungen),(ROW()-4),COLUMN())),"",INDEX(INDIRECT(BereichLeistungen),(ROW()-4),COLUMN())),"") -> #N/A | G8: =IF(ROW()-5<ROWS(INDIRECT(BereichLeistungen)),IF(ISBLANK(INDEX(INDIRECT(BereichLeistungen),(ROW()-4),COLUMN())),"",INDEX(INDIRECT(BereichLeistungen),(ROW()-4),COLUMN())),"") -> #N/A | H8: =IF(ROW()-5<ROWS(INDIRECT(BereichLeistungen)),IF(ISBLANK(INDEX(INDIRECT(BereichLeistungen),(ROW()-4),COLUMN())),"",INDEX(INDIRECT(BereichLeistungen),(ROW()-4),COLUMN())),"") -> #N/A | ... AB8: =IF(ROW()-5<ROWS(INDIRECT(BereichLeistungen)),IF(ISBLANK(INDEX(INDIRECT(BereichLeistungen),(ROW()-4),COLUMN())),"",INDEX(INDIRECT(BereichLeistungen),(ROW()-4),COLUMN())),"") -> #N/A
A9: =IF(ROW()-5<ROWS(INDIRECT(BereichLeistungen)),IF(ISBLANK(INDEX(INDIRECT(BereichLeistungen),(ROW()-4),COLUMN())),"",INDEX(INDIRECT(BereichLeistungen),(ROW()-4),COLUMN())),"") -> #N/A | B9: =IF(ROW()-5<ROWS(INDIRECT(BereichLeistungen)),IF(ISBLANK(INDEX(INDIRECT(BereichLeistungen),(ROW()-4),COLUMN())),"",INDEX(INDIRECT(BereichLeistungen),(ROW()-4),COLUMN())),"") -> #N/A | C9: =IF(ROW()-5<ROWS(INDIRECT(BereichLeistungen)),IF(ISBLANK(INDEX(INDIRECT(BereichLeistungen),(ROW()-4),COLUMN())),"",INDEX(INDIRECT(BereichLeistungen),(ROW()-4),COLUMN())),"") -> #N/A | D9: =IF(ROW()-5<ROWS(INDIRECT(BereichLeistungen)),IF(ISBLANK(INDEX(INDIRECT(BereichLeistungen),(ROW()-4),COLUMN())),"",INDEX(INDIRECT(BereichLeistungen),(ROW()-4),COLUMN())),"") -> #N/A | E9: =IF(ROW()-5<ROWS(INDIRECT(BereichLeistungen)),IF(ISBLANK(INDEX(INDIRECT(BereichLeistungen),(ROW()-4),COLUMN())),"",INDEX(INDIRECT(BereichLeistungen),(ROW()-4),COLUMN())),"") -> #N/A | F9: =IF(ROW()-5<ROWS(INDIRECT(BereichLeistungen)),IF(ISBLANK(INDEX(INDIRECT(BereichLeistungen),(ROW()-4),COLUMN())),"",INDEX(INDIRECT(BereichLeistungen),(ROW()-4),COLUMN())),"") -> #N/A | G9: =IF(ROW()-5<ROWS(INDIRECT(BereichLeistungen)),IF(ISBLANK(INDEX(INDIRECT(BereichLeistungen),(ROW()-4),COLUMN())),"",INDEX(INDIRECT(BereichLeistungen),(ROW()-4),COLUMN())),"") -> #N/A | H9: =IF(ROW()-5<ROWS(INDIRECT(BereichLeistungen)),IF(ISBLANK(INDEX(INDIRECT(BereichLeistungen),(ROW()-4),COLUMN())),"",INDEX(INDIRECT(BereichLeistungen),(ROW()-4),COLUMN())),"") -> #N/A | ... AB9: =IF(ROW()-5<ROWS(INDIRECT(BereichLeistungen)),IF(ISBLANK(INDEX(INDIRECT(BereichLeistungen),(ROW()-4),COLUMN())),"",INDEX(INDIRECT(BereichLeistungen),(ROW()-4),COLUMN())),"") -> #N/A
A10: =IF(ROW()-5<ROWS(INDIRECT(BereichLeistungen)),IF(ISBLANK(INDEX(INDIRECT(BereichLeistungen),(ROW()-4),COLUMN())),"",INDEX(INDIRECT(BereichLeistungen),(ROW()-4),COLUMN())),"") -> #N/A | B10: =IF(ROW()-5<ROWS(INDIRECT(BereichLeistungen)),IF(ISBLANK(INDEX(INDIRECT(BereichLeistungen),(ROW()-4),COLUMN())),"",INDEX(INDIRECT(BereichLeistungen),(ROW()-4),COLUMN())),"") -> #N/A | C10: =IF(ROW()-5<ROWS(INDIRECT(BereichLeistungen)),IF(ISBLANK(INDEX(INDIRECT(BereichLeistungen),(ROW()-4),COLUMN())),"",INDEX(INDIRECT(BereichLeistungen),(ROW()-4),COLUMN())),"") -> #N/A | D10: =IF(ROW()-5<ROWS(INDIRECT(BereichLeistungen)),IF(ISBLANK(INDEX(INDIRECT(BereichLeistungen),(ROW()-4),COLUMN())),"",INDEX(INDIRECT(BereichLeistungen),(ROW()-4),COLUMN())),"") -> #N/A | E10: =IF(ROW()-5<ROWS(INDIRECT(BereichLeistungen)),IF(ISBLANK(INDEX(INDIRECT(BereichLeistungen),(ROW()-4),COLUMN())),"",INDEX(INDIRECT(BereichLeistungen),(ROW()-4),COLUMN())),"") -> #N/A | F10: =IF(ROW()-5<ROWS(INDIRECT(BereichLeistungen)),IF(ISBLANK(INDEX(INDIRECT(BereichLeistungen),(ROW()-4),COLUMN())),"",INDEX(INDIRECT(BereichLeistungen),(ROW()-4),COLUMN())),"") -> #N/A | G10: =IF(ROW()-5<ROWS(INDIRECT(BereichLeistungen)),IF(ISBLANK(INDEX(INDIRECT(BereichLeistungen),(ROW()-4),COLUMN())),"",INDEX(INDIRECT(BereichLeistungen),(ROW()-4),COLUMN())),"") -> #N/A | H10: =IF(ROW()-5<ROWS(INDIRECT(BereichLeistungen)),IF(ISBLANK(INDEX(INDIRECT(BereichLeistungen),(ROW()-4),COLUMN())),"",INDEX(INDIRECT(BereichLeistungen),(ROW()-4),COLUMN())),"") -> #N/A | ... AB10: =IF(ROW()-5<ROWS(INDIRECT(BereichLeistungen)),IF(ISBLANK(INDEX(INDIRECT(BereichLeistungen),(ROW()-4),COLUMN())),"",INDEX(INDIRECT(BereichLeistungen),(ROW()-4),COLUMN())),"") -> #N/A
A11: =IF(ROW()-5<ROWS(INDIRECT(BereichLeistungen)),IF(ISBLANK(INDEX(INDIRECT(BereichLeistungen),(ROW()-4),COLUMN())),"",INDEX(INDIRECT(BereichLeistungen),(ROW()-4),COLUMN())),"") -> #N/A | B11: =IF(ROW()-5<ROWS(INDIRECT(BereichLeistungen)),IF(ISBLANK(INDEX(INDIRECT(BereichLeistungen),(ROW()-4),COLUMN())),"",INDEX(INDIRECT(BereichLeistungen),(ROW()-4),COLUMN())),"") -> #N/A | C11: =IF(ROW()-5<ROWS(INDIRECT(BereichLeistungen)),IF(ISBLANK(INDEX(INDIRECT(BereichLeistungen),(ROW()-4),COLUMN())),"",INDEX(INDIRECT(BereichLeistungen),(ROW()-4),COLUMN())),"") -> #N/A | D11: =IF(ROW()-5<ROWS(INDIRECT(BereichLeistungen)),IF(ISBLANK(INDEX(INDIRECT(BereichLeistungen),(ROW()-4),COLUMN())),"",INDEX(INDIRECT(BereichLeistungen),(ROW()-4),COLUMN())),"") -> #N/A | E11: =IF(ROW()-5<ROWS(INDIRECT(BereichLeistungen)),IF(ISBLANK(INDEX(INDIRECT(BereichLeistungen),(ROW()-4),COLUMN())),"",INDEX(INDIRECT(BereichLeistungen),(ROW()-4),COLUMN())),"") -> #N/A | F11: =IF(ROW()-5<ROWS(INDIRECT(BereichLeistungen)),IF(ISBLANK(INDEX(INDIRECT(BereichLeistungen),(ROW()-4),COLUMN())),"",INDEX(INDIRECT(BereichLeistungen),(ROW()-4),COLUMN())),"") -> #N/A | G11: =IF(ROW()-5<ROWS(INDIRECT(BereichLeistungen)),IF(ISBLANK(INDEX(INDIRECT(BereichLeistungen),(ROW()-4),COLUMN())),"",INDEX(INDIRECT(BereichLeistungen),(ROW()-4),COLUMN())),"") -> #N/A | H11: =IF(ROW()-5<ROWS(INDIRECT(BereichLeistungen)),IF(ISBLANK(INDEX(INDIRECT(BereichLeistungen),(ROW()-4),COLUMN())),"",INDEX(INDIRECT(BereichLeistungen),(ROW()-4),COLUMN())),"") -> #N/A | ... AB11: =IF(ROW()-5<ROWS(INDIRECT(BereichLeistungen)),IF(ISBLANK(INDEX(INDIRECT(BereichLeistungen),(ROW()-4),COLUMN())),"",INDEX(INDIRECT(BereichLeistungen),(ROW()-4),COLUMN())),"") -> #N/A
A12: =IF(ROW()-5<ROWS(INDIRECT(BereichLeistungen)),IF(ISBLANK(INDEX(INDIRECT(BereichLeistungen),(ROW()-4),COLUMN())),"",INDEX(INDIRECT(BereichLeistungen),(ROW()-4),COLUMN())),"") -> #N/A | B12: =IF(ROW()-5<ROWS(INDIRECT(BereichLeistungen)),IF(ISBLANK(INDEX(INDIRECT(BereichLeistungen),(ROW()-4),COLUMN())),"",INDEX(INDIRECT(BereichLeistungen),(ROW()-4),COLUMN())),"") -> #N/A | C12: =IF(ROW()-5<ROWS(INDIRECT(BereichLeistungen)),IF(ISBLANK(INDEX(INDIRECT(BereichLeistungen),(ROW()-4),COLUMN())),"",INDEX(INDIRECT(BereichLeistungen),(ROW()-4),COLUMN())),"") -> #N/A | D12: =IF(ROW()-5<ROWS(INDIRECT(BereichLeistungen)),IF(ISBLANK(INDEX(INDIRECT(BereichLeistungen),(ROW()-4),COLUMN())),"",INDEX(INDIRECT(BereichLeistungen),(ROW()-4),COLUMN())),"") -> #N/A | E12: =IF(ROW()-5<ROWS(INDIRECT(BereichLeistungen)),IF(ISBLANK(INDEX(INDIRECT(BereichLeistungen),(ROW()-4),COLUMN())),"",INDEX(INDIRECT(BereichLeistungen),(ROW()-4),COLUMN())),"") -> #N/A | F12: =IF(ROW()-5<ROWS(INDIRECT(BereichLeistungen)),IF(ISBLANK(INDEX(INDIRECT(BereichLeistungen),(ROW()-4),COLUMN())),"",INDEX(INDIRECT(BereichLeistungen),(ROW()-4),COLUMN())),"") -> #N/A | G12: =IF(ROW()-5<ROWS(INDIRECT(BereichLeistungen)),IF(ISBLANK(INDEX(INDIRECT(BereichLeistungen),(ROW()-4),COLUMN())),"",INDEX(INDIRECT(BereichLeistungen),(ROW()-4),COLUMN())),"") -> #N/A | H12: =IF(ROW()-5<ROWS(INDIRECT(BereichLeistungen)),IF(ISBLANK(INDEX(INDIRECT(BereichLeistungen),(ROW()-4),COLUMN())),"",INDEX(INDIRECT(BereichLeistungen),(ROW()-4),COLUMN())),"") -> #N/A | ... AB12: =IF(ROW()-5<ROWS(INDIRECT(BereichLeistungen)),IF(ISBLANK(INDEX(INDIRECT(BereichLeistungen),(ROW()-4),COLUMN())),"",INDEX(INDIRECT(BereichLeistungen),(ROW()-4),COLUMN())),"") -> #N/A
A13: =IF(ROW()-5<ROWS(INDIRECT(BereichLeistungen)),IF(ISBLANK(INDEX(INDIRECT(BereichLeistungen),(ROW()-4),COLUMN())),"",INDEX(INDIRECT(BereichLeistungen),(ROW()-4),COLUMN())),"") -> #N/A | B13: =IF(ROW()-5<ROWS(INDIRECT(BereichLeistungen)),IF(ISBLANK(INDEX(INDIRECT(BereichLeistungen),(ROW()-4),COLUMN())),"",INDEX(INDIRECT(BereichLeistungen),(ROW()-4),COLUMN())),"") -> #N/A | C13: =IF(ROW()-5<ROWS(INDIRECT(BereichLeistungen)),IF(ISBLANK(INDEX(INDIRECT(BereichLeistungen),(ROW()-4),COLUMN())),"",INDEX(INDIRECT(BereichLeistungen),(ROW()-4),COLUMN())),"") -> #N/A | D13: =IF(ROW()-5<ROWS(INDIRECT(BereichLeistungen)),IF(ISBLANK(INDEX(INDIRECT(BereichLeistungen),(ROW()-4),COLUMN())),"",INDEX(INDIRECT(BereichLeistungen),(ROW()-4),COLUMN())),"") -> #N/A | E13: =IF(ROW()-5<ROWS(INDIRECT(BereichLeistungen)),IF(ISBLANK(INDEX(INDIRECT(BereichLeistungen),(ROW()-4),COLUMN())),"",INDEX(INDIRECT(BereichLeistungen),(ROW()-4),COLUMN())),"") -> #N/A | F13: =IF(ROW()-5<ROWS(INDIRECT(BereichLeistungen)),IF(ISBLANK(INDEX(INDIRECT(BereichLeistungen),(ROW()-4),COLUMN())),"",INDEX(INDIRECT(BereichLeistungen),(ROW()-4),COLUMN())),"") -> #N/A | G13: =IF(ROW()-5<ROWS(INDIRECT(BereichLeistungen)),IF(ISBLANK(INDEX(INDIRECT(BereichLeistungen),(ROW()-4),COLUMN())),"",INDEX(INDIRECT(BereichLeistungen),(ROW()-4),COLUMN())),"") -> #N/A | H13: =IF(ROW()-5<ROWS(INDIRECT(BereichLeistungen)),IF(ISBLANK(INDEX(INDIRECT(BereichLeistungen),(ROW()-4),COLUMN())),"",INDEX(INDIRECT(BereichLeistungen),(ROW()-4),COLUMN())),"") -> #N/A | ... AB13: =IF(ROW()-5<ROWS(INDIRECT(BereichLeistungen)),IF(ISBLANK(INDEX(INDIRECT(BereichLeistungen),(ROW()-4),COLUMN())),"",INDEX(INDIRECT(BereichLeistungen),(ROW()-4),COLUMN())),"") -> #N/A
A14: =IF(ROW()-5<ROWS(INDIRECT(BereichLeistungen)),IF(ISBLANK(INDEX(INDIRECT(BereichLeistungen),(ROW()-4),COLUMN())),"",INDEX(INDIRECT(BereichLeistungen),(ROW()-4),COLUMN())),"") -> #N/A | B14: =IF(ROW()-5<ROWS(INDIRECT(BereichLeistungen)),IF(ISBLANK(INDEX(INDIRECT(BereichLeistungen),(ROW()-4),COLUMN())),"",INDEX(INDIRECT(BereichLeistungen),(ROW()-4),COLUMN())),"") -> #N/A | C14: =IF(ROW()-5<ROWS(INDIRECT(BereichLeistungen)),IF(ISBLANK(INDEX(INDIRECT(BereichLeistungen),(ROW()-4),COLUMN())),"",INDEX(INDIRECT(BereichLeistungen),(ROW()-4),COLUMN())),"") -> #N/A | D14: =IF(ROW()-5<ROWS(INDIRECT(BereichLeistungen)),IF(ISBLANK(INDEX(INDIRECT(BereichLeistungen),(ROW()-4),COLUMN())),"",INDEX(INDIRECT(BereichLeistungen),(ROW()-4),COLUMN())),"") -> #N/A | E14: =IF(ROW()-5<ROWS(INDIRECT(BereichLeistungen)),IF(ISBLANK(INDEX(INDIRECT(BereichLeistungen),(ROW()-4),COLUMN())),"",INDEX(INDIRECT(BereichLeistungen),(ROW()-4),COLUMN())),"") -> #N/A | F14: =IF(ROW()-5<ROWS(INDIRECT(BereichLeistungen)),IF(ISBLANK(INDEX(INDIRECT(BereichLeistungen),(ROW()-4),COLUMN())),"",INDEX(INDIRECT(BereichLeistungen),(ROW()-4),COLUMN())),"") -> #N/A | G14: =IF(ROW()-5<ROWS(INDIRECT(BereichLeistungen)),IF(ISBLANK(INDEX(INDIRECT(BereichLeistungen),(ROW()-4),COLUMN())),"",INDEX(INDIRECT(BereichLeistungen),(ROW()-4),COLUMN())),"") -> #N/A | H14: =IF(ROW()-5<ROWS(INDIRECT(BereichLeistungen)),IF(ISBLANK(INDEX(INDIRECT(BereichLeistungen),(ROW()-4),COLUMN())),"",INDEX(INDIRECT(BereichLeistungen),(ROW()-4),COLUMN())),"") -> #N/A | ... AB14: =IF(ROW()-5<ROWS(INDIRECT(BereichLeistungen)),IF(ISBLANK(INDEX(INDIRECT(BereichLeistungen),(ROW()-4),COLUMN())),"",INDEX(INDIRECT(BereichLeistungen),(ROW()-4),COLUMN())),"") -> #N/A
A15: =IF(ROW()-5<ROWS(INDIRECT(BereichLeistungen)),IF(ISBLANK(INDEX(INDIRECT(BereichLeistungen),(ROW()-4),COLUMN())),"",INDEX(INDIRECT(BereichLeistungen),(ROW()-4),COLUMN())),"") -> #N/A | B15: =IF(ROW()-5<ROWS(INDIRECT(BereichLeistungen)),IF(ISBLANK(INDEX(INDIRECT(BereichLeistungen),(ROW()-4),COLUMN())),"",INDEX(INDIRECT(BereichLeistungen),(ROW()-4),COLUMN())),"") -> #N/A | C15: =IF(ROW()-5<ROWS(INDIRECT(BereichLeistungen)),IF(ISBLANK(INDEX(INDIRECT(BereichLeistungen),(ROW()-4),COLUMN())),"",INDEX(INDIRECT(BereichLeistungen),(ROW()-4),COLUMN())),"") -> #N/A | D15: =IF(ROW()-5<ROWS(INDIRECT(BereichLeistungen)),IF(ISBLANK(INDEX(INDIRECT(BereichLeistungen),(ROW()-4),COLUMN())),"",INDEX(INDIRECT(BereichLeistungen),(ROW()-4),COLUMN())),"") -> #N/A | E15: =IF(ROW()-5<ROWS(INDIRECT(BereichLeistungen)),IF(ISBLANK(INDEX(INDIRECT(BereichLeistungen),(ROW()-4),COLUMN())),"",INDEX(INDIRECT(BereichLeistungen),(ROW()-4),COLUMN())),"") -> #N/A | F15: =IF(ROW()-5<ROWS(INDIRECT(BereichLeistungen)),IF(ISBLANK(INDEX(INDIRECT(BereichLeistungen),(ROW()-4),COLUMN())),"",INDEX(INDIRECT(BereichLeistungen),(ROW()-4),COLUMN())),"") -> #N/A | G15: =IF(ROW()-5<ROWS(INDIRECT(BereichLeistungen)),IF(ISBLANK(INDEX(INDIRECT(BereichLeistungen),(ROW()-4),COLUMN())),"",INDEX(INDIRECT(BereichLeistungen),(ROW()-4),COLUMN())),"") -> #N/A | H15: =IF(ROW()-5<ROWS(INDIRECT(BereichLeistungen)),IF(ISBLANK(INDEX(INDIRECT(BereichLeistungen),(ROW()-4),COLUMN())),"",INDEX(INDIRECT(BereichLeistungen),(ROW()-4),COLUMN())),"") -> #N/A | ... AB15: =IF(ROW()-5<ROWS(INDIRECT(BereichLeistungen)),IF(ISBLANK(INDEX(INDIRECT(BereichLeistungen),(ROW()-4),COLUMN())),"",INDEX(INDIRECT(BereichLeistungen),(ROW()-4),COLUMN())),"") -> #N/A
A16: =IF(ROW()-5<ROWS(INDIRECT(BereichLeistungen)),IF(ISBLANK(INDEX(INDIRECT(BereichLeistungen),(ROW()-4),COLUMN())),"",INDEX(INDIRECT(BereichLeistungen),(ROW()-4),COLUMN())),"") -> #N/A | B16: =IF(ROW()-5<ROWS(INDIRECT(BereichLeistungen)),IF(ISBLANK(INDEX(INDIRECT(BereichLeistungen),(ROW()-4),COLUMN())),"",INDEX(INDIRECT(BereichLeistungen),(ROW()-4),COLUMN())),"") -> #N/A | C16: =IF(ROW()-5<ROWS(INDIRECT(BereichLeistungen)),IF(ISBLANK(INDEX(INDIRECT(BereichLeistungen),(ROW()-4),COLUMN())),"",INDEX(INDIRECT(BereichLeistungen),(ROW()-4),COLUMN())),"") -> #N/A | D16: =IF(ROW()-5<ROWS(INDIRECT(BereichLeistungen)),IF(ISBLANK(INDEX(INDIRECT(BereichLeistungen),(ROW()-4),COLUMN())),"",INDEX(INDIRECT(BereichLeistungen),(ROW()-4),COLUMN())),"") -> #N/A | E16: =IF(ROW()-5<ROWS(INDIRECT(BereichLeistungen)),IF(ISBLANK(INDEX(INDIRECT(BereichLeistungen),(ROW()-4),COLUMN())),"",INDEX(INDIRECT(BereichLeistungen),(ROW()-4),COLUMN())),"") -> #N/A | F16: =IF(ROW()-5<ROWS(INDIRECT(BereichLeistungen)),IF(ISBLANK(INDEX(INDIRECT(BereichLeistungen),(ROW()-4),COLUMN())),"",INDEX(INDIRECT(BereichLeistungen),(ROW()-4),COLUMN())),"") -> #N/A | G16: =IF(ROW()-5<ROWS(INDIRECT(BereichLeistungen)),IF(ISBLANK(INDEX(INDIRECT(BereichLeistungen),(ROW()-4),COLUMN())),"",INDEX(INDIRECT(BereichLeistungen),(ROW()-4),COLUMN())),"") -> #N/A | H16: =IF(ROW()-5<ROWS(INDIRECT(BereichLeistungen)),IF(ISBLANK(INDEX(INDIRECT(BereichLeistungen),(ROW()-4),COLUMN())),"",INDEX(INDIRECT(BereichLeistungen),(ROW()-4),COLUMN())),"") -> #N/A | ... AB16: =IF(ROW()-5<ROWS(INDIRECT(BereichLeistungen)),IF(ISBLANK(INDEX(INDIRECT(BereichLeistungen),(ROW()-4),COLUMN())),"",INDEX(INDIRECT(BereichLeistungen),(ROW()-4),COLUMN())),"") -> #N/A
A17: =IF(ROW()-5<ROWS(INDIRECT(BereichLeistungen)),IF(ISBLANK(INDEX(INDIRECT(BereichLeistungen),(ROW()-4),COLUMN())),"",INDEX(INDIRECT(BereichLeistungen),(ROW()-4),COLUMN())),"") -> #N/A | B17: =IF(ROW()-5<ROWS(INDIRECT(BereichLeistungen)),IF(ISBLANK(INDEX(INDIRECT(BereichLeistungen),(ROW()-4),COLUMN())),"",INDEX(INDIRECT(BereichLeistungen),(ROW()-4),COLUMN())),"") -> #N/A | C17: =IF(ROW()-5<ROWS(INDIRECT(BereichLeistungen)),IF(ISBLANK(INDEX(INDIRECT(BereichLeistungen),(ROW()-4),COLUMN())),"",INDEX(INDIRECT(BereichLeistungen),(ROW()-4),COLUMN())),"") -> #N/A | D17: =IF(ROW()-5<ROWS(INDIRECT(BereichLeistungen)),IF(ISBLANK(INDEX(INDIRECT(BereichLeistungen),(ROW()-4),COLUMN())),"",INDEX(INDIRECT(BereichLeistungen),(ROW()-4),COLUMN())),"") -> #N/A | E17: =IF(ROW()-5<ROWS(INDIRECT(BereichLeistungen)),IF(ISBLANK(INDEX(INDIRECT(BereichLeistungen),(ROW()-4),COLUMN())),"",INDEX(INDIRECT(BereichLeistungen),(ROW()-4),COLUMN())),"") -> #N/A | F17: =IF(ROW()-5<ROWS(INDIRECT(BereichLeistungen)),IF(ISBLANK(INDEX(INDIRECT(BereichLeistungen),(ROW()-4),COLUMN())),"",INDEX(INDIRECT(BereichLeistungen),(ROW()-4),COLUMN())),"") -> #N/A | G17: =IF(ROW()-5<ROWS(INDIRECT(BereichLeistungen)),IF(ISBLANK(INDEX(INDIRECT(BereichLeistungen),(ROW()-4),COLUMN())),"",INDEX(INDIRECT(BereichLeistungen),(ROW()-4),COLUMN())),"") -> #N/A | H17: =IF(ROW()-5<ROWS(INDIRECT(BereichLeistungen)),IF(ISBLANK(INDEX(INDIRECT(BereichLeistungen),(ROW()-4),COLUMN())),"",INDEX(INDIRECT(BereichLeistungen),(ROW()-4),COLUMN())),"") -> #N/A | ... AB17: =IF(ROW()-5<ROWS(INDIRECT(BereichLeistungen)),IF(ISBLANK(INDEX(INDIRECT(BereichLeistungen),(ROW()-4),COLUMN())),"",INDEX(INDIRECT(BereichLeistungen),(ROW()-4),COLUMN())),"") -> #N/A
... A76: =IF(ROW()-5<ROWS(INDIRECT(BereichLeistungen)),IF(ISBLANK(INDEX(INDIRECT(BereichLeistungen),(ROW()-4),COLUMN())),"",INDEX(INDIRECT(BereichLeistungen),(ROW()-4),COLUMN())),"") -> #N/A | B76: =IF(ROW()-5<ROWS(INDIRECT(BereichLeistungen)),IF(ISBLANK(INDEX(INDIRECT(BereichLeistungen),(ROW()-4),COLUMN())),"",INDEX(INDIRECT(BereichLeistungen),(ROW()-4),COLUMN())),"") -> #N/A | C76: =IF(ROW()-5<ROWS(INDIRECT(BereichLeistungen)),IF(ISBLANK(INDEX(INDIRECT(BereichLeistungen),(ROW()-4),COLUMN())),"",INDEX(INDIRECT(BereichLeistungen),(ROW()-4),COLUMN())),"") -> #N/A | D76: =IF(ROW()-5<ROWS(INDIRECT(BereichLeistungen)),IF(ISBLANK(INDEX(INDIRECT(BereichLeistungen),(ROW()-4),COLUMN())),"",INDEX(INDIRECT(BereichLeistungen),(ROW()-4),COLUMN())),"") -> #N/A | E76: =IF(ROW()-5<ROWS(INDIRECT(BereichLeistungen)),IF(ISBLANK(INDEX(INDIRECT(BereichLeistungen),(ROW()-4),COLUMN())),"",INDEX(INDIRECT(BereichLeistungen),(ROW()-4),COLUMN())),"") -> #N/A | F76: =IF(ROW()-5<ROWS(INDIRECT(BereichLeistungen)),IF(ISBLANK(INDEX(INDIRECT(BereichLeistungen),(ROW()-4),COLUMN())),"",INDEX(INDIRECT(BereichLeistungen),(ROW()-4),COLUMN())),"") -> #N/A | G76: =IF(ROW()-5<ROWS(INDIRECT(BereichLeistungen)),IF(ISBLANK(INDEX(INDIRECT(BereichLeistungen),(ROW()-4),COLUMN())),"",INDEX(INDIRECT(BereichLeistungen),(ROW()-4),COLUMN())),"") -> #N/A | H76: =IF(ROW()-5<ROWS(INDIRECT(BereichLeistungen)),IF(ISBLANK(INDEX(INDIRECT(BereichLeistungen),(ROW()-4),COLUMN())),"",INDEX(INDIRECT(BereichLeistungen),(ROW()-4),COLUMN())),"") -> #N/A | ... AB76: =IF(ROW()-5<ROWS(INDIRECT(BereichLeistungen)),IF(ISBLANK(INDEX(INDIRECT(BereichLeistungen),(ROW()-4),COLUMN())),"",INDEX(INDIRECT(BereichLeistungen),(ROW()-4),COLUMN())),"") -> #N/A

Sheet Leistungen (S.2)
A1: =CONCATENATE("Leistungsübersicht für Kurs: ", INDEX(CSV!$B$1:$B$1071,ZeileKursbezeichnung)) -> #N/A
A2: =CONCATENATE("Jahrgang: ", INDEX(CSV!$B$1:$B$1071,ZeileJahrgang)) -> #N/A
A3: =IF(ISBLANK(INDEX(CSV!$B$1:$B$1071,ZeileLehrer)),"",INDEX(CSV!$B$1:$B$1071,ZeileLehrer)) -> #N/A
A5: =IF(ISBLANK(INDEX(INDIRECT(BereichLeistungen),(ROW()-4),COLUMN()) ),"",INDEX(INDIRECT(BereichLeistungen),(ROW()-4),COLUMN())) -> #N/A | B5: =IF(ISBLANK(INDEX(INDIRECT(BereichLeistungen),(ROW()-4),COLUMN()) ),"",INDEX(INDIRECT(BereichLeistungen),(ROW()-4),COLUMN())) -> #N/A | C5: =IF(ISBLANK(INDEX(INDIRECT(BereichLeistungen),(ROW()-4),COLUMN()+26) ),"",INDEX(INDIRECT(BereichLeistungen),(ROW()-4),COLUMN()+26)) -> #N/A | D5: =IF(ISBLANK(INDEX(INDIRECT(BereichLeistungen),(ROW()-4),COLUMN()+26) ),"",INDEX(INDIRECT(BereichLeistungen),(ROW()-4),COLUMN()+26)) -> #N/A | E5: =IF(ISBLANK(INDEX(INDIRECT(BereichLeistungen),(ROW()-4),COLUMN()+26) ),"",INDEX(INDIRECT(BereichLeistungen),(ROW()-4),COLUMN()+26)) -> #N/A | F5: =IF(ISBLANK(INDEX(INDIRECT(BereichLeistungen),(ROW()-4),COLUMN()+26) ),"",INDEX(INDIRECT(BereichLeistungen),(ROW()-4),COLUMN()+26)) -> #N/A | G5: =IF(ISBLANK(INDEX(INDIRECT(BereichLeistungen),(ROW()-4),COLUMN()+26) ),"",INDEX(INDIRECT(BereichLeistungen),(ROW()-4),COLUMN()+26)) -> #N/A | H5: =IF(ISBLANK(INDEX(INDIRECT(BereichLeistungen),(ROW()-4),COLUMN()+26) ),"",INDEX(INDIRECT(BereichLeistungen),(ROW()-4),COLUMN()+26)) -> #N/A | I5: =IF(ISBLANK(INDEX(INDIRECT(BereichLeistungen),(ROW()-4),COLUMN()+26) ),"",INDEX(INDIRECT(BereichLeistungen),(ROW()-4),COLUMN()+26)) -> #N/A | J5: =IF(ISBLANK(INDEX(INDIRECT(BereichLeistungen),(ROW()-4),COLUMN()+26) ),"",INDEX(INDIRECT(BereichLeistungen),(ROW()-4),COLUMN()+26)) -> #N/A | ... AB5: =IF(ISBLANK(INDEX(INDIRECT(BereichLeistungen),(ROW()-4),COLUMN()+26) ),"",INDEX(INDIRECT(BereichLeistungen),(ROW()-4),COLUMN()+26)) -> #N/A
A6: =IF(ROW()-5<ROWS(INDIRECT(BereichLeistungen)),IF(ISBLANK(INDEX(INDIRECT(BereichLeistungen),(ROW()-4),COLUMN())),"",INDEX(INDIRECT(BereichLeistungen),(ROW()-4),COLUMN())),"") -> #N/A | B6: =IF(ROW()-5<ROWS(INDIRECT(BereichLeistungen)),IF(ISBLANK(INDEX(INDIRECT(BereichLeistungen),(ROW()-4),COLUMN())),"",INDEX(INDIRECT(BereichLeistungen),(ROW()-4),COLUMN())),"") -> #N/A | C6: =IF(ROW()-5<ROWS(INDIRECT(BereichLeistungen)),IF(ISBLANK(INDEX(INDIRECT(BereichLeistungen),(ROW()-4),COLUMN()+26)),"",INDEX(INDIRECT(BereichLeistungen),(ROW()-4),COLUMN()+26)),"") -> #N/A | D6: =IF(ROW()-5<ROWS(INDIRECT(BereichLeistungen)),IF(ISBLANK(INDEX(INDIRECT(BereichLeistungen),(ROW()-4),COLUMN()+26)),"",INDEX(INDIRECT(BereichLeistungen),(ROW()-4),COLUMN()+26)),"") -> #N/A | E6: =IF(ROW()-5<ROWS(INDIRECT(BereichLeistungen)),IF(ISBLANK(INDEX(INDIRECT(BereichLeistungen),(ROW()-4),COLUMN()+26)),"",INDEX(INDIRECT(BereichLeistungen),(ROW()-4),COLUMN()+26)),"") -> #N/A | F6: =IF(ROW()-5<ROWS(INDIRECT(BereichLeistungen)),IF(ISBLANK(INDEX(INDIRECT(BereichLeistungen),(ROW()-4),COLUMN()+26)),"",INDEX(INDIRECT(BereichLeistungen),(ROW()-4),COLUMN()+26)),"") -> #N/A | G6: =IF(ROW()-5<ROWS(INDIRECT(BereichLeistungen)),IF(ISBLANK(INDEX(INDIRECT(BereichLeistungen),(ROW()-4),COLUMN()+26)),"",INDEX(INDIRECT(BereichLeistungen),(ROW()-4),COLUMN()+26)),"") -> #N/A | H6: =IF(ROW()-5<ROWS(INDIRECT(BereichLeistungen)),IF(ISBLANK(INDEX(INDIRECT(BereichLeistungen),(ROW()-4),COLUMN()+26)),"",INDEX(INDIRECT(BereichLeistungen),(ROW()-4),COLUMN()+26)),"") -> #N/A | I6: =IF(ROW()-5<ROWS(INDIRECT(BereichLeistungen)),IF(ISBLANK(INDEX(INDIRECT(BereichLeistungen),(ROW()-4),COLUMN()+26)),"",INDEX(INDIRECT(BereichLeistungen),(ROW()-4),COLUMN()+26)),"") -> #N/A | J6: =IF(ROW()-5<ROWS(INDIRECT(BereichLeistungen)),IF(ISBLANK(INDEX(INDIRECT(BereichLeistungen),(ROW()-4),COLUMN()+26)),"",INDEX(INDIRECT(BereichLeistungen),(ROW()-4),COLUMN()+26)),"") -> #N/A | ... AB6: =IF(ROW()-5<ROWS(INDIRECT(BereichLeistungen)),IF(ISBLANK(INDEX(INDIRECT(BereichLeistungen),(ROW()-4),COLUMN()+26)),"",INDEX(INDIRECT(BereichLeistungen),(ROW()-4),COLUMN()+26)),"") -> #N/A
A7: =IF(ROW()-5<ROWS(INDIRECT(BereichLeistungen)),IF(ISBLANK(INDEX(INDIRECT(BereichLeistungen),(ROW()-4),COLUMN())),"",INDEX(INDIRECT(BereichLeistungen),(ROW()-4),COLUMN())),"") -> #N/A | B7: =IF(ROW()-5<ROWS(INDIRECT(BereichLeistungen)),IF(ISBLANK(INDEX(INDIRECT(BereichLeistungen),(ROW()-4),COLUMN())),"",INDEX(INDIRECT(BereichLeistungen),(ROW()-4),COLUMN())),"") -> #N/A | C7: =IF(ROW()-5<ROWS(INDIRECT(BereichLeistungen)),IF(ISBLANK(INDEX(INDIRECT(BereichLeistungen),(ROW()-4),COLUMN()+26)),"",INDEX(INDIRECT(BereichLeistungen),(ROW()-4),COLUMN()+26)),"") -> #N/A | D7: =IF(ROW()-5<ROWS(INDIRECT(BereichLeistungen)),IF(ISBLANK(INDEX(INDIRECT(BereichLeistungen),(ROW()-4),COLUMN()+26)),"",INDEX(INDIRECT(BereichLeistungen),(ROW()-4),COLUMN()+26)),"") -> #N/A | E7: =IF(ROW()-5<ROWS(INDIRECT(BereichLeistungen)),IF(ISBLANK(INDEX(INDIRECT(BereichLeistungen),(ROW()-4),COLUMN()+26)),"",INDEX(INDIRECT(BereichLeistungen),(ROW()-4),COLUMN()+26)),"") -> #N/A | F7: =IF(ROW()-5<ROWS(INDIRECT(BereichLeistungen)),IF(ISBLANK(INDEX(INDIRECT(BereichLeistungen),(ROW()-4),COLUMN()+26)),"",INDEX(INDIRECT(BereichLeistungen),(ROW()-4),COLUMN()+26)),"") -> #N/A | G7: =IF(ROW()-5<ROWS(INDIRECT(BereichLeistungen)),IF(ISBLANK(INDEX(INDIRECT(BereichLeistungen),(ROW()-4),COLUMN()+26)),"",INDEX(INDIRECT(BereichLeistungen),(ROW()-4),COLUMN()+26)),"") -> #N/A | H7: =IF(ROW()-5<ROWS(INDIRECT(BereichLeistungen)),IF(ISBLANK(INDEX(INDIRECT(BereichLeistungen),(ROW()-4),COLUMN()+26)),"",INDEX(INDIRECT(BereichLeistungen),(ROW()-4),COLUMN()+26)),"") -> #N/A | I7: =IF(ROW()-5<ROWS(INDIRECT(BereichLeistungen)),IF(ISBLANK(INDEX(INDIRECT(BereichLeistungen),(ROW()-4),COLUMN()+26)),"",INDEX(INDIRECT(BereichLeistungen),(ROW()-4),COLUMN()+26)),"") -> #N/A | J7: =IF(ROW()-5<ROWS(INDIRECT(BereichLeistungen)),IF(ISBLANK(INDEX(INDIRECT(BereichLeistungen),(ROW()-4),COLUMN()+26)),"",INDEX(INDIRECT(BereichLeistungen),(ROW()-4),COLUMN()+26)),"") -> #N/A | ... AB7: =IF(ROW()-5<ROWS(INDIRECT(BereichLeistungen)),IF(ISBLANK(INDEX(INDIRECT(BereichLeistungen),(ROW()-4),COLUMN()+26)),"",INDEX(INDIRECT(BereichLeistungen),(ROW()-4),COLUMN()+26)),"") -> #N/A
A8: =IF(ROW()-5<ROWS(INDIRECT(BereichLeistungen)),IF(ISBLANK(INDEX(INDIRECT(BereichLeistungen),(ROW()-4),COLUMN())),"",INDEX(INDIRECT(BereichLeistungen),(ROW()-4),COLUMN())),"") -> #N/A | B8: =IF(ROW()-5<ROWS(INDIRECT(BereichLeistungen)),IF(ISBLANK(INDEX(INDIRECT(BereichLeistungen),(ROW()-4),COLUMN())),"",INDEX(INDIRECT(BereichLeistungen),(ROW()-4),COLUMN())),"") -> #N/A | C8: =IF(ROW()-5<ROWS(INDIRECT(BereichLeistungen)),IF(ISBLANK(INDEX(INDIRECT(BereichLeistungen),(ROW()-4),COLUMN()+26)),"",INDEX(INDIRECT(BereichLeistungen),(ROW()-4),COLUMN()+26)),"") -> #N/A | D8: =IF(ROW()-5<ROWS(INDIRECT(BereichLeistungen)),IF(ISBLANK(INDEX(INDIRECT(BereichLeistungen),(ROW()-4),COLUMN()+26)),"",INDEX(INDIRECT(BereichLeistungen),(ROW()-4),COLUMN()+26)),"") -> #N/A | E8: =IF(ROW()-5<ROWS(INDIRECT(BereichLeistungen)),IF(ISBLANK(INDEX(INDIRECT(BereichLeistungen),(ROW()-4),COLUMN()+26)),"",INDEX(INDIRECT(BereichLeistungen),(ROW()-4),COLUMN()+26)),"") -> #N/A | F8: =IF(ROW()-5<ROWS(INDIRECT(BereichLeistungen)),IF(ISBLANK(INDEX(INDIRECT(BereichLeistungen),(ROW()-4),COLUMN()+26)),"",INDEX(INDIRECT(BereichLeistungen),(ROW()-4),COLUMN()+26)),"") -> #N/A | G8: =IF(ROW()-5<ROWS(INDIRECT(BereichLeistungen)),IF(ISBLANK(INDEX(INDIRECT(BereichLeistungen),(ROW()-4),COLUMN()+26)),"",INDEX(INDIRECT(BereichLeistungen),(ROW()-4),COLUMN()+26)),"") -> #N/A | H8: =IF(ROW()-5<ROWS(INDIRECT(BereichLeistungen)),IF(ISBLANK(INDEX(INDIRECT(BereichLeistungen),(ROW()-4),COLUMN()+26)),"",INDEX(INDIRECT(BereichLeistungen),(ROW()-4),COLUMN()+26)),"") -> #N/A | I8: =IF(ROW()-5<ROWS(INDIRECT(BereichLeistungen)),IF(ISBLANK(INDEX(INDIRECT(BereichLeistungen),(ROW()-4),COLUMN()+26)),"",INDEX(INDIRECT(BereichLeistungen),(ROW()-4),COLUMN()+26)),"") -> #N/A | J8: =IF(ROW()-5<ROWS(INDIRECT(BereichLeistungen)),IF(ISBLANK(INDEX(INDIRECT(BereichLeistungen),(ROW()-4),COLUMN()+26)),"",INDEX(INDIRECT(BereichLeistungen),(ROW()-4),COLUMN()+26)),"") -> #N/A | ... AB8: =IF(ROW()-5<ROWS(INDIRECT(BereichLeistungen)),IF(ISBLANK(INDEX(INDIRECT(BereichLeistungen),(ROW()-4),COLUMN()+26)),"",INDEX(INDIRECT(BereichLeistungen),(ROW()-4),COLUMN()+26)),"") -> #N/A
